BEGIN:VCALENDAR
VERSION:2.0
PRODID:-//Tenth Ward Distilling Company - ECPv6.15.20//NONSGML v1.0//EN
CALSCALE:GREGORIAN
METHOD:PUBLISH
X-ORIGINAL-URL:https://www.tenthwarddistilling.com
X-WR-CALDESC:Events for Tenth Ward Distilling Company
REFRESH-INTERVAL;VALUE=DURATION:PT1H
X-Robots-Tag:noindex
X-PUBLISHED-TTL:PT1H
BEGIN:VTIMEZONE
TZID:UTC
BEGIN:STANDARD
TZOFFSETFROM:+0000
TZOFFSETTO:+0000
TZNAME:UTC
DTSTART:20180101T000000
END:STANDARD
END:VTIMEZONE
BEGIN:VEVENT
DTSTART;TZID=UTC:20190810T110000
DTEND;TZID=UTC:20190810T220000
DTSTAMP:20260422T120942
CREATED:20190801T210211Z
LAST-MODIFIED:20190801T210211Z
UID:2475-1565434800-1565474400@www.tenthwarddistilling.com
SUMMARY:Honeyjack is Back!
DESCRIPTION:Honeyjack is BACK! Part of our Conspiritor Series\, Tenth Ward’s Honeyack is distilled from Orchid Cellar Meadery and Winery mead\, finished in a charred\, American white oak barrel and slightly sweetened with local clover honey. Honey\, vanilla\, oak\, caramel\, and honeycomb perfume notes pretty much make this spirit big kid candy in a bottle!\n\nAaaand exciting news! Honeyjack is now available in both bottle sizes 🙂\n\nHalf ounce pours\, full pours and bottles available for sale all day.
URL:https://www.tenthwarddistilling.com/event/honeyjack-is-back/
LOCATION:MD
CATEGORIES:On-Site Events
ATTACH;FMTTYPE=image/jpeg:https://www.tenthwarddistilling.com/wp-content/uploads/2019/08/honeyjack-release.jpg
END:VEVENT
BEGIN:VEVENT
DTSTART;TZID=UTC:20190810T120000
DTEND;TZID=UTC:20190810T180000
DTSTAMP:20260422T120942
CREATED:20190801T205645Z
LAST-MODIFIED:20190801T205856Z
UID:2470-1565438400-1565460000@www.tenthwarddistilling.com
SUMMARY:Frederick County Craft Beverage Festival
DESCRIPTION:The Frederick County Craft Beverage Festival is a one of a kind event that will feature beer\, wine and distilled spirits produced in Frederick County. The festival will be a fun family event with games and activities for kids and adults. A mechanical bull\, TIP jars\, “Big 6” wheel and other gaming are unique features to provide a true “carnival” atmosphere not found at other festivals. A “Kids Corner” with an inflatable “bounce house” corn crib\, and children’s games will insure a fun time for the entire family. \nLive entertainment on a professional stage will feature Ole’ 97 show between 12 – 3 and the Knight Brothers between 3 – 6. Great food provided including pit beef\, pit turkey\, fried ham\, hush puppies\, crab soup and much more provided by the Libertytown Vol. Fire Department. \nAll proceeds benefit the Libertytown Volunteer Fire Department.
URL:https://www.tenthwarddistilling.com/event/frederick-county-craft-beverage-festival/
LOCATION:Libertytown Volunteer Fire Department Activities Grounds\, 12027 South Street\, Libertytown\, MD\, United States
CATEGORIES:Off-Site Events
ATTACH;FMTTYPE=image/jpeg:https://www.tenthwarddistilling.com/wp-content/uploads/2019/08/craft-bev-fest-aug10.jpg
END:VEVENT
BEGIN:VEVENT
DTSTART;TZID=UTC:20190810T130000
DTEND;TZID=UTC:20190810T160000
DTSTAMP:20260422T120942
CREATED:20190801T205814Z
LAST-MODIFIED:20190801T210312Z
UID:2473-1565442000-1565452800@www.tenthwarddistilling.com
SUMMARY:Ye Old Spirits Shop Tasting
DESCRIPTION:Join us at Ye Old Spirit Shop in Frederick\, MD to sample our spirits.
URL:https://www.tenthwarddistilling.com/event/ye-old-spirits-shop-tasting/
LOCATION:Ye Old Spirits Shop\, 1005 W 7th St\, Frederick\, MD\, 21701\, United States
CATEGORIES:Liquor Store Tastings
ATTACH;FMTTYPE=image/jpeg:https://www.tenthwarddistilling.com/wp-content/uploads/2019/08/liquor-store-tasting.jpg
END:VEVENT
END:VCALENDAR