BEGIN:VCALENDAR
VERSION:2.0
PRODID:-//Tenth Ward Distilling Company - ECPv6.15.20//NONSGML v1.0//EN
CALSCALE:GREGORIAN
METHOD:PUBLISH
X-ORIGINAL-URL:https://www.tenthwarddistilling.com
X-WR-CALDESC:Events for Tenth Ward Distilling Company
REFRESH-INTERVAL;VALUE=DURATION:PT1H
X-Robots-Tag:noindex
X-PUBLISHED-TTL:PT1H
BEGIN:VTIMEZONE
TZID:UTC
BEGIN:STANDARD
TZOFFSETFROM:+0000
TZOFFSETTO:+0000
TZNAME:UTC
DTSTART:20190101T000000
END:STANDARD
END:VTIMEZONE
BEGIN:VEVENT
DTSTART;TZID=UTC:20200129T200000
DTEND;TZID=UTC:20200129T220000
DTSTAMP:20260422T090312
CREATED:20191228T000107Z
LAST-MODIFIED:20200117T215203Z
UID:2822-1580328000-1580335200@www.tenthwarddistilling.com
SUMMARY:Beat the Clock-Tail! Rolling Cocktail Specials All-Night
DESCRIPTION:Calling all Tenth Ward cocktail fans! Rolling drafts are now on special Wednesday only! Beat the clock from 5-10pm for any cocktail on tap with $5 drinks at 5\, $6 drinks at 6\, and so on… Let’s make Wednesday the new Friday 😉
URL:https://www.tenthwarddistilling.com/event/beat-the-clock-tail-rolling-cocktail-specials-all-night-5/
LOCATION:Tenth Ward Distilling Company\, 55 E Patrick Street\, Frederick\, MD\, 21701\, United States
CATEGORIES:On-Site Events
ATTACH;FMTTYPE=image/jpeg:https://www.tenthwarddistilling.com/wp-content/uploads/2019/12/Beat-the-clock-tail.jpg
END:VEVENT
END:VCALENDAR