BEGIN:VCALENDAR
VERSION:2.0
PRODID:-//Tenth Ward Distilling Company - ECPv6.15.20//NONSGML v1.0//EN
CALSCALE:GREGORIAN
METHOD:PUBLISH
X-WR-CALNAME:Tenth Ward Distilling Company
X-ORIGINAL-URL:https://www.tenthwarddistilling.com
X-WR-CALDESC:Events for Tenth Ward Distilling Company
REFRESH-INTERVAL;VALUE=DURATION:PT1H
X-Robots-Tag:noindex
X-PUBLISHED-TTL:PT1H
BEGIN:VTIMEZONE
TZID:UTC
BEGIN:STANDARD
TZOFFSETFROM:+0000
TZOFFSETTO:+0000
TZNAME:UTC
DTSTART:20190101T000000
END:STANDARD
END:VTIMEZONE
BEGIN:VEVENT
DTSTART;TZID=UTC:20200130T160000
DTEND;TZID=UTC:20200130T183000
DTSTAMP:20260422T104629
CREATED:20200123T220657Z
LAST-MODIFIED:20200123T220657Z
UID:2872-1580400000-1580409000@www.tenthwarddistilling.com
SUMMARY:Pull Up a Chair: A Conversation with Female Distillery & Brewery Owners and Founders
DESCRIPTION:oin us for a conversation with female distillery and brewery owners and founders.  The event will include a panel of women from the following businesses:  Republic Restoratives\, Tenth Ward Distilling\, and Denizens Brewing Co. \nBelow is a tentative agenda: \n4:00-5:00pm – Cocktail Hour \n5-5:45/6 pm – Panel \n5:45/6 – 6:30pm – Optional Tour \nLearn more…
URL:https://www.tenthwarddistilling.com/event/pull-up-a-chair-a-conversation-with-female-distillery-brewery-owners-and-founders/
LOCATION:Republic Restoratives\, 1369 New York Ave NE\, Washington\, DC\, United States
CATEGORIES:Off-Site Events
ATTACH;FMTTYPE=image/jpeg:https://www.tenthwarddistilling.com/wp-content/uploads/2020/01/republic-restoratives-distillery-FT-BLOG0918.jpg
END:VEVENT
END:VCALENDAR