BEGIN:VCALENDAR
VERSION:2.0
PRODID:-//Tenth Ward Distilling Company - ECPv6.15.20//NONSGML v1.0//EN
CALSCALE:GREGORIAN
METHOD:PUBLISH
X-ORIGINAL-URL:https://www.tenthwarddistilling.com
X-WR-CALDESC:Events for Tenth Ward Distilling Company
REFRESH-INTERVAL;VALUE=DURATION:PT1H
X-Robots-Tag:noindex
X-PUBLISHED-TTL:PT1H
BEGIN:VTIMEZONE
TZID:America/New_York
BEGIN:DAYLIGHT
TZOFFSETFROM:-0500
TZOFFSETTO:-0400
TZNAME:EDT
DTSTART:20200308T070000
END:DAYLIGHT
BEGIN:STANDARD
TZOFFSETFROM:-0400
TZOFFSETTO:-0500
TZNAME:EST
DTSTART:20201101T060000
END:STANDARD
BEGIN:DAYLIGHT
TZOFFSETFROM:-0500
TZOFFSETTO:-0400
TZNAME:EDT
DTSTART:20210314T070000
END:DAYLIGHT
BEGIN:STANDARD
TZOFFSETFROM:-0400
TZOFFSETTO:-0500
TZNAME:EST
DTSTART:20211107T060000
END:STANDARD
BEGIN:DAYLIGHT
TZOFFSETFROM:-0500
TZOFFSETTO:-0400
TZNAME:EDT
DTSTART:20220313T070000
END:DAYLIGHT
BEGIN:STANDARD
TZOFFSETFROM:-0400
TZOFFSETTO:-0500
TZNAME:EST
DTSTART:20221106T060000
END:STANDARD
END:VTIMEZONE
BEGIN:VEVENT
DTSTART;TZID=America/New_York:20211001T080000
DTEND;TZID=America/New_York:20211001T220000
DTSTAMP:20260425T221849
CREATED:20210913T191453Z
LAST-MODIFIED:20210913T191453Z
UID:4426-1633075200-1633125600@www.tenthwarddistilling.com
SUMMARY:Live music at the Cocktail Lab with Brahman Noodles
DESCRIPTION:Every Friday 8-10pm we’ll be servin’ up our deliciously wild cocktail concoctions and some sweet tunes to get your weekend started off right. Up next:\nThe Brahman Noodles featuring a night of “Jug Funk” with all sorts of new songs along with their old faves (Jerry Garcia\, Bob Dylan\, The Rolling Stones and more!)
URL:https://www.facebook.com/events/528418071779771
LOCATION:MD
END:VEVENT
BEGIN:VEVENT
DTSTART;TZID=America/New_York:20211001T160000
DTEND;TZID=America/New_York:20211001T190000
DTSTAMP:20260425T221849
CREATED:20210922T173251Z
LAST-MODIFIED:20210922T173251Z
UID:4440-1633104000-1633114800@www.tenthwarddistilling.com
SUMMARY:Liquor Store Tasting: Kingsview Liquor and Wine
DESCRIPTION:Join us at the Kingsview store in Germantown\, MD for complimentary samples of our spirits.
URL:https://www.tenthwarddistilling.com/event/liquor-store-tasting-kingsview-liquor-and-wine/
LOCATION:MD
END:VEVENT
END:VCALENDAR