BEGIN:VCALENDAR
VERSION:2.0
PRODID:-//Tenth Ward Distilling Company - ECPv6.15.20//NONSGML v1.0//EN
CALSCALE:GREGORIAN
METHOD:PUBLISH
X-ORIGINAL-URL:https://www.tenthwarddistilling.com
X-WR-CALDESC:Events for Tenth Ward Distilling Company
REFRESH-INTERVAL;VALUE=DURATION:PT1H
X-Robots-Tag:noindex
X-PUBLISHED-TTL:PT1H
BEGIN:VTIMEZONE
TZID:America/New_York
BEGIN:DAYLIGHT
TZOFFSETFROM:-0500
TZOFFSETTO:-0400
TZNAME:EDT
DTSTART:20230312T070000
END:DAYLIGHT
BEGIN:STANDARD
TZOFFSETFROM:-0400
TZOFFSETTO:-0500
TZNAME:EST
DTSTART:20231105T060000
END:STANDARD
BEGIN:DAYLIGHT
TZOFFSETFROM:-0500
TZOFFSETTO:-0400
TZNAME:EDT
DTSTART:20240310T070000
END:DAYLIGHT
BEGIN:STANDARD
TZOFFSETFROM:-0400
TZOFFSETTO:-0500
TZNAME:EST
DTSTART:20241103T060000
END:STANDARD
BEGIN:DAYLIGHT
TZOFFSETFROM:-0500
TZOFFSETTO:-0400
TZNAME:EDT
DTSTART:20250309T070000
END:DAYLIGHT
BEGIN:STANDARD
TZOFFSETFROM:-0400
TZOFFSETTO:-0500
TZNAME:EST
DTSTART:20251102T060000
END:STANDARD
END:VTIMEZONE
BEGIN:VEVENT
DTSTART;TZID=America/New_York:20240329T150000
DTEND;TZID=America/New_York:20240329T170000
DTSTAMP:20260423T205206
CREATED:20240215T194706Z
LAST-MODIFIED:20240215T194706Z
UID:6936-1711724400-1711731600@www.tenthwarddistilling.com
SUMMARY:Liquor Store Tasting: VA ABC in Ballston\, VA
DESCRIPTION:Join us at the VA ABC in Ballston\, VA for complimentary samples of our spirits.
URL:https://www.tenthwarddistilling.com/event/liquor-store-tasting-va-abc-in-ballston-va/
LOCATION:Ballston ABC\, 881 N Quincy St\, Arlington\, VA\, 22203
CATEGORIES:Liquor Store Tastings
END:VEVENT
BEGIN:VEVENT
DTSTART;TZID=America/New_York:20240329T160000
DTEND;TZID=America/New_York:20240329T190000
DTSTAMP:20260423T205206
CREATED:20240316T163724Z
LAST-MODIFIED:20240316T163724Z
UID:7004-1711728000-1711738800@www.tenthwarddistilling.com
SUMMARY:Liquor Store Tasting: The Loft Wine\, Liquor & Beer in Columbia\, MD
DESCRIPTION:Join us at The Loft Wine\, Liquor & Beer in Columbia\, MD for complimentary samples of our spirits.
URL:https://www.tenthwarddistilling.com/event/liquor-store-tasting-the-loft-wine-liquor-beer-in-columbia-md/
LOCATION:The Loft Wine\, Liquor & Beer\, 8825 McGaw Rd\, Columbia\, MD\, 21045
CATEGORIES:Liquor Store Tastings
END:VEVENT
BEGIN:VEVENT
DTSTART;TZID=America/New_York:20240329T200000
DTEND;TZID=America/New_York:20240329T220000
DTSTAMP:20260423T205206
CREATED:20240215T192403Z
LAST-MODIFIED:20240215T192403Z
UID:6927-1711742400-1711749600@www.tenthwarddistilling.com
SUMMARY:Live Music at the Cocktail Bar with Frying Pangea
DESCRIPTION:Every Friday from 8:00-10:00 pm in the Cocktail Bar we’ll be servin’ up our deliciously wild concoctions and some sweet tunes to get your weekend started off right. Keep reading for our next melodious entertainer: Frying Pangea
URL:https://www.tenthwarddistilling.com/event/live-music-at-the-cocktail-bar-with-frying-pangea-2/
LOCATION:Tenth Ward Distilling Company\, 55 E Patrick Street\, Frederick\, MD\, 21701\, United States
CATEGORIES:Live Music
END:VEVENT
END:VCALENDAR