BEGIN:VCALENDAR
VERSION:2.0
PRODID:-//Tenth Ward Distilling Company - ECPv6.15.20//NONSGML v1.0//EN
CALSCALE:GREGORIAN
METHOD:PUBLISH
X-WR-CALNAME:Tenth Ward Distilling Company
X-ORIGINAL-URL:https://www.tenthwarddistilling.com
X-WR-CALDESC:Events for Tenth Ward Distilling Company
REFRESH-INTERVAL;VALUE=DURATION:PT1H
X-Robots-Tag:noindex
X-PUBLISHED-TTL:PT1H
BEGIN:VTIMEZONE
TZID:America/New_York
BEGIN:DAYLIGHT
TZOFFSETFROM:-0500
TZOFFSETTO:-0400
TZNAME:EDT
DTSTART:20230312T070000
END:DAYLIGHT
BEGIN:STANDARD
TZOFFSETFROM:-0400
TZOFFSETTO:-0500
TZNAME:EST
DTSTART:20231105T060000
END:STANDARD
BEGIN:DAYLIGHT
TZOFFSETFROM:-0500
TZOFFSETTO:-0400
TZNAME:EDT
DTSTART:20240310T070000
END:DAYLIGHT
BEGIN:STANDARD
TZOFFSETFROM:-0400
TZOFFSETTO:-0500
TZNAME:EST
DTSTART:20241103T060000
END:STANDARD
BEGIN:DAYLIGHT
TZOFFSETFROM:-0500
TZOFFSETTO:-0400
TZNAME:EDT
DTSTART:20250309T070000
END:DAYLIGHT
BEGIN:STANDARD
TZOFFSETFROM:-0400
TZOFFSETTO:-0500
TZNAME:EST
DTSTART:20251102T060000
END:STANDARD
END:VTIMEZONE
BEGIN:VEVENT
DTSTART;TZID=America/New_York:20240412T153000
DTEND;TZID=America/New_York:20240412T183000
DTSTAMP:20260421T172217
CREATED:20240318T114157Z
LAST-MODIFIED:20240318T114157Z
UID:7031-1712935800-1712946600@www.tenthwarddistilling.com
SUMMARY:Liquor Store Tasting: Total Wine in Chantilly\, VA
DESCRIPTION:Join us at Total Wine in Chantilly\, VA for complimentary samples of our spirits.
URL:https://www.tenthwarddistilling.com/event/liquor-store-tasting-total-wine-in-chantilly-va/
LOCATION:Total Wine Chantilly\, 13053-B Lee Jackson Memorial Hwy Service Rd\, Fairfax\, VA\, 22033
CATEGORIES:Liquor Store Tastings
END:VEVENT
BEGIN:VEVENT
DTSTART;TZID=America/New_York:20240412T200000
DTEND;TZID=America/New_York:20240412T220000
DTSTAMP:20260421T172217
CREATED:20240318T002131Z
LAST-MODIFIED:20240412T144615Z
UID:7014-1712952000-1712959200@www.tenthwarddistilling.com
SUMMARY:Live Music at the Cocktail Bar with the Chevre Acoustic Duo
DESCRIPTION:Every Friday from 8:00-10:00 pm in the Cocktail Bar we’ll be servin’ up our deliciously wild concoctions and some sweet tunes to get your weekend started off right. Keep reading for our next melodious entertainer: The Chevre Acoustic Duo
URL:https://www.tenthwarddistilling.com/event/live-music-at-the-cocktail-bar-with-john-lawton/
LOCATION:Tenth Ward Distilling Company\, 55 E Patrick Street\, Frederick\, MD\, 21701\, United States
CATEGORIES:Live Music
ATTACH;FMTTYPE=image/jpeg:https://www.tenthwarddistilling.com/wp-content/uploads/2024/03/Screenshot_20240410_085547_Canva.jpg
END:VEVENT
END:VCALENDAR