BEGIN:VCALENDAR
VERSION:2.0
PRODID:-//Tenth Ward Distilling Company - ECPv6.15.20//NONSGML v1.0//EN
CALSCALE:GREGORIAN
METHOD:PUBLISH
X-ORIGINAL-URL:https://www.tenthwarddistilling.com
X-WR-CALDESC:Events for Tenth Ward Distilling Company
REFRESH-INTERVAL;VALUE=DURATION:PT1H
X-Robots-Tag:noindex
X-PUBLISHED-TTL:PT1H
BEGIN:VTIMEZONE
TZID:America/New_York
BEGIN:DAYLIGHT
TZOFFSETFROM:-0500
TZOFFSETTO:-0400
TZNAME:EDT
DTSTART:20230312T070000
END:DAYLIGHT
BEGIN:STANDARD
TZOFFSETFROM:-0400
TZOFFSETTO:-0500
TZNAME:EST
DTSTART:20231105T060000
END:STANDARD
BEGIN:DAYLIGHT
TZOFFSETFROM:-0500
TZOFFSETTO:-0400
TZNAME:EDT
DTSTART:20240310T070000
END:DAYLIGHT
BEGIN:STANDARD
TZOFFSETFROM:-0400
TZOFFSETTO:-0500
TZNAME:EST
DTSTART:20241103T060000
END:STANDARD
BEGIN:DAYLIGHT
TZOFFSETFROM:-0500
TZOFFSETTO:-0400
TZNAME:EDT
DTSTART:20250309T070000
END:DAYLIGHT
BEGIN:STANDARD
TZOFFSETFROM:-0400
TZOFFSETTO:-0500
TZNAME:EST
DTSTART:20251102T060000
END:STANDARD
END:VTIMEZONE
BEGIN:VEVENT
DTSTART;TZID=America/New_York:20241218T170000
DTEND;TZID=America/New_York:20241218T210000
DTSTAMP:20260424T164751
CREATED:20240828T191925Z
LAST-MODIFIED:20240828T191925Z
UID:7460-1734541200-1734555600@www.tenthwarddistilling.com
SUMMARY:Beat the Clock-tail: Rolling Draft Cocktail Specials
DESCRIPTION:PSA: Wednesdays just became the new Friday. We’ve got rolling cocktails specials every Wednesday 5-9 pm. All cocktails on draft will be… $5 at 5 pm $6 at 6 pm $7 at 7 pm $8 at 8 pm $9 at 9 pm
URL:https://www.tenthwarddistilling.com/event/beat-the-clock-tail-rolling-draft-cocktail-specials-191/
LOCATION:Tenth Ward Distilling Company\, 55 E Patrick Street\, Frederick\, MD\, 21701\, United States
CATEGORIES:On-Site Events
ATTACH;FMTTYPE=image/png:https://www.tenthwarddistilling.com/wp-content/uploads/2020/08/Beat-the-clocktail-facebook.png
END:VEVENT
BEGIN:VEVENT
DTSTART;TZID=America/New_York:20241218T180000
DTEND;TZID=America/New_York:20241219T220000
DTSTAMP:20260424T164751
CREATED:20241107T235124Z
LAST-MODIFIED:20241202T020429Z
UID:7642-1734544800-1734645600@www.tenthwarddistilling.com
SUMMARY:Tinsel & Toast Pop-Up Bar
DESCRIPTION:Get in the spirit and put on your Santa hat because we’re transforming our private Barrel Room into “Tinsel & Toast\,” the ultimate pop-up bar experience! Imagine a whole new back bar in our space with the Tenth Ward vibe\, but covered in glitter and sequins. Come for the ambiance and browse the gift options\, stay for the holiday cocktails you didn’t know you needed.
URL:https://www.facebook.com/share/157tidKCrq/#new_tab
LOCATION:Tenth Ward Distilling Company\, 55 E Patrick Street\, Frederick\, MD\, 21701\, United States
CATEGORIES:On-Site Events
ATTACH;FMTTYPE=image/jpeg:https://www.tenthwarddistilling.com/wp-content/uploads/2024/11/TenthWard-Holiday-PopUp-IG-sq-FINAL-2-1.jpg
END:VEVENT
END:VCALENDAR