BEGIN:VCALENDAR
VERSION:2.0
PRODID:-//Tenth Ward Distilling Company - ECPv6.15.20//NONSGML v1.0//EN
CALSCALE:GREGORIAN
METHOD:PUBLISH
X-ORIGINAL-URL:https://www.tenthwarddistilling.com
X-WR-CALDESC:Events for Tenth Ward Distilling Company
REFRESH-INTERVAL;VALUE=DURATION:PT1H
X-Robots-Tag:noindex
X-PUBLISHED-TTL:PT1H
BEGIN:VTIMEZONE
TZID:America/New_York
BEGIN:DAYLIGHT
TZOFFSETFROM:-0500
TZOFFSETTO:-0400
TZNAME:EDT
DTSTART:20240310T070000
END:DAYLIGHT
BEGIN:STANDARD
TZOFFSETFROM:-0400
TZOFFSETTO:-0500
TZNAME:EST
DTSTART:20241103T060000
END:STANDARD
BEGIN:DAYLIGHT
TZOFFSETFROM:-0500
TZOFFSETTO:-0400
TZNAME:EDT
DTSTART:20250309T070000
END:DAYLIGHT
BEGIN:STANDARD
TZOFFSETFROM:-0400
TZOFFSETTO:-0500
TZNAME:EST
DTSTART:20251102T060000
END:STANDARD
BEGIN:DAYLIGHT
TZOFFSETFROM:-0500
TZOFFSETTO:-0400
TZNAME:EDT
DTSTART:20260308T070000
END:DAYLIGHT
BEGIN:STANDARD
TZOFFSETFROM:-0400
TZOFFSETTO:-0500
TZNAME:EST
DTSTART:20261101T060000
END:STANDARD
END:VTIMEZONE
BEGIN:VEVENT
DTSTART;TZID=America/New_York:20250517T090000
DTEND;TZID=America/New_York:20250517T130000
DTSTAMP:20260420T191442
CREATED:20250429T012939Z
LAST-MODIFIED:20250429T012939Z
UID:8031-1747472400-1747486800@www.tenthwarddistilling.com
SUMMARY:Silver Spring Farmers Market
DESCRIPTION:Come support us at Silver Spring Farmers Market this Saturday! We’ll be selling bottles and canned cocktails to go.
URL:https://www.freshfarm.org/markets/downtown-silver-spring#new_tab
LOCATION:Silver Spring Farmers Market\, 890 Ellsworth Dr\, Silver Spring\, MD\, 20910\, United States
CATEGORIES:Farmers Markets
END:VEVENT
BEGIN:VEVENT
DTSTART;TZID=America/New_York:20250517T090000
DTEND;TZID=America/New_York:20250517T130000
DTSTAMP:20260420T191442
CREATED:20250429T013503Z
LAST-MODIFIED:20250429T013503Z
UID:8034-1747472400-1747486800@www.tenthwarddistilling.com
SUMMARY:Gateway Farmers Market
DESCRIPTION:Come support us at the Gateway Farmers Market this Saturday! We’ll be selling bottles and canned cocktails to go.
URL:https://www.facebook.com/p/Gateway-Farmers-Market-61557208214714/#new_tab
LOCATION:Gateway Farmers Market\, 3716 Rhode Island Ave\, Brentwood\, MD\, 20722
CATEGORIES:Farmers Markets
END:VEVENT
BEGIN:VEVENT
DTSTART;TZID=America/New_York:20250517T120000
DTEND;TZID=America/New_York:20250518T200000
DTSTAMP:20260420T191442
CREATED:20250502T011822Z
LAST-MODIFIED:20250502T011822Z
UID:8058-1747483200-1747598400@www.tenthwarddistilling.com
SUMMARY:Quad State Pickle Fest
DESCRIPTION:Come by and see us at the Quad State Pickle Fest in Boonsboro\, MD.  We will be joining an exciting lineup of local vendors\, musicians\, and Pickleries for a day of fun for the whole fam.
URL:https://www.ifg-events.com/picklefest#new_tab
LOCATION:Washington County Agricultural Education Center\, 7313 Sharpsburg Pike\, Boonsboro\, MD\, United States
CATEGORIES:Off-Site Events
END:VEVENT
BEGIN:VEVENT
DTSTART;TZID=America/New_York:20250517T160000
DTEND;TZID=America/New_York:20250517T190000
DTSTAMP:20260420T191442
CREATED:20250502T012146Z
LAST-MODIFIED:20250502T012146Z
UID:8059-1747497600-1747508400@www.tenthwarddistilling.com
SUMMARY:Liquor Store Tasting: Fallsgrove Liquor & Wine in Rockville\, MD
DESCRIPTION:Join us at Fallsgrove Liquor & Wine in Rockville\, MD\, for complimentary samples of our spirits.
URL:https://www.tenthwarddistilling.com/event/liquor-store-tasting-fallsgrove-liquor-wine-in-rockville-md-5/
LOCATION:Fallsgrove Liquor & Wine\, 14937 Shady Grove Rd\, Rockville\, MD\, 20850
CATEGORIES:Liquor Store Tastings
END:VEVENT
BEGIN:VEVENT
DTSTART;TZID=America/New_York:20250517T160000
DTEND;TZID=America/New_York:20250517T190000
DTSTAMP:20260420T191442
CREATED:20250502T012421Z
LAST-MODIFIED:20250502T012421Z
UID:8060-1747497600-1747508400@www.tenthwarddistilling.com
SUMMARY:Liquor Store Tasting: Uncorked Wine & Spirits in Washington\, DC
DESCRIPTION:Join us at Uncorked Wine & Spirits in Washington\, DC\, for complimentary samples of our spirits.
URL:https://www.tenthwarddistilling.com/event/liquor-store-tasting-uncorked-wine-spirits-in-washington-dc/
LOCATION:Uncorked\, 175 L St NE\, Washington\, DC\, 20002
CATEGORIES:Liquor Store Tastings
END:VEVENT
END:VCALENDAR