BEGIN:VCALENDAR
VERSION:2.0
PRODID:-//Tenth Ward Distilling Company - ECPv6.15.20//NONSGML v1.0//EN
CALSCALE:GREGORIAN
METHOD:PUBLISH
X-WR-CALNAME:Tenth Ward Distilling Company
X-ORIGINAL-URL:https://www.tenthwarddistilling.com
X-WR-CALDESC:Events for Tenth Ward Distilling Company
REFRESH-INTERVAL;VALUE=DURATION:PT1H
X-Robots-Tag:noindex
X-PUBLISHED-TTL:PT1H
BEGIN:VTIMEZONE
TZID:America/New_York
BEGIN:DAYLIGHT
TZOFFSETFROM:-0500
TZOFFSETTO:-0400
TZNAME:EDT
DTSTART:20240310T070000
END:DAYLIGHT
BEGIN:STANDARD
TZOFFSETFROM:-0400
TZOFFSETTO:-0500
TZNAME:EST
DTSTART:20241103T060000
END:STANDARD
BEGIN:DAYLIGHT
TZOFFSETFROM:-0500
TZOFFSETTO:-0400
TZNAME:EDT
DTSTART:20250309T070000
END:DAYLIGHT
BEGIN:STANDARD
TZOFFSETFROM:-0400
TZOFFSETTO:-0500
TZNAME:EST
DTSTART:20251102T060000
END:STANDARD
BEGIN:DAYLIGHT
TZOFFSETFROM:-0500
TZOFFSETTO:-0400
TZNAME:EDT
DTSTART:20260308T070000
END:DAYLIGHT
BEGIN:STANDARD
TZOFFSETFROM:-0400
TZOFFSETTO:-0500
TZNAME:EST
DTSTART:20261101T060000
END:STANDARD
END:VTIMEZONE
BEGIN:VEVENT
DTSTART;TZID=America/New_York:20250517T120000
DTEND;TZID=America/New_York:20250518T200000
DTSTAMP:20260421T000643
CREATED:20250502T011822Z
LAST-MODIFIED:20250502T011822Z
UID:8058-1747483200-1747598400@www.tenthwarddistilling.com
SUMMARY:Quad State Pickle Fest
DESCRIPTION:Come by and see us at the Quad State Pickle Fest in Boonsboro\, MD.  We will be joining an exciting lineup of local vendors\, musicians\, and Pickleries for a day of fun for the whole fam.
URL:https://www.ifg-events.com/picklefest#new_tab
LOCATION:Washington County Agricultural Education Center\, 7313 Sharpsburg Pike\, Boonsboro\, MD\, United States
CATEGORIES:Off-Site Events
END:VEVENT
BEGIN:VEVENT
DTSTART;TZID=America/New_York:20250518T090000
DTEND;TZID=America/New_York:20250518T130000
DTSTAMP:20260421T000643
CREATED:20250429T014018Z
LAST-MODIFIED:20250429T014018Z
UID:8037-1747558800-1747573200@www.tenthwarddistilling.com
SUMMARY:Olney Farmers Market
DESCRIPTION:Come support us at the Olney Farmers Market this Sunday! We’ll be selling bottles and canned cocktails to go.
URL:https://www.olneyfarmersmarket.com/#new_tab
LOCATION:Olney Farmers Market\, 2801 Olney Sandy Spring Rd\, Olney\, MD\, 20832
CATEGORIES:Farmers Markets
END:VEVENT
BEGIN:VEVENT
DTSTART;TZID=America/New_York:20250518T090000
DTEND;TZID=America/New_York:20250518T130000
DTSTAMP:20260421T000643
CREATED:20250429T014257Z
LAST-MODIFIED:20250429T014257Z
UID:8039-1747558800-1747573200@www.tenthwarddistilling.com
SUMMARY:Takoma Park Farmers Market
DESCRIPTION:Come support us at the Takoma Park Farmers Market this Sunday! We’ll be selling bottles and canned cocktails to go.
URL:https://takomaparkmarket.com/#new_tab
LOCATION:Takoma Park Farmers Market\, Laurel Ave\, Takoma Park\, MD\, 20912\, United States
CATEGORIES:Farmers Markets
END:VEVENT
END:VCALENDAR