BEGIN:VCALENDAR
VERSION:2.0
PRODID:-//Tenth Ward Distilling Company - ECPv6.15.20//NONSGML v1.0//EN
CALSCALE:GREGORIAN
METHOD:PUBLISH
X-ORIGINAL-URL:https://www.tenthwarddistilling.com
X-WR-CALDESC:Events for Tenth Ward Distilling Company
REFRESH-INTERVAL;VALUE=DURATION:PT1H
X-Robots-Tag:noindex
X-PUBLISHED-TTL:PT1H
BEGIN:VTIMEZONE
TZID:America/New_York
BEGIN:DAYLIGHT
TZOFFSETFROM:-0500
TZOFFSETTO:-0400
TZNAME:EDT
DTSTART:20240310T070000
END:DAYLIGHT
BEGIN:STANDARD
TZOFFSETFROM:-0400
TZOFFSETTO:-0500
TZNAME:EST
DTSTART:20241103T060000
END:STANDARD
BEGIN:DAYLIGHT
TZOFFSETFROM:-0500
TZOFFSETTO:-0400
TZNAME:EDT
DTSTART:20250309T070000
END:DAYLIGHT
BEGIN:STANDARD
TZOFFSETFROM:-0400
TZOFFSETTO:-0500
TZNAME:EST
DTSTART:20251102T060000
END:STANDARD
BEGIN:DAYLIGHT
TZOFFSETFROM:-0500
TZOFFSETTO:-0400
TZNAME:EDT
DTSTART:20260308T070000
END:DAYLIGHT
BEGIN:STANDARD
TZOFFSETFROM:-0400
TZOFFSETTO:-0500
TZNAME:EST
DTSTART:20261101T060000
END:STANDARD
END:VTIMEZONE
BEGIN:VEVENT
DTSTART;VALUE=DATE:20251206
DTEND;VALUE=DATE:20251208
DTSTAMP:20260422T234939
CREATED:20251112T233812Z
LAST-MODIFIED:20251122T205221Z
UID:8446-1764979200-1765151999@www.tenthwarddistilling.com
SUMMARY:5th Annual Hello Holidays Makers Market
DESCRIPTION:Stop by and see us at the 5th Annual Hello Holidays Makers Market!  We will be joining over 60 0ther vendors and delicious food trucks!\n\nDecember 6\, 2025 10:00 AM-4:00 PMDecember 7\, 2025 10:00 AM-2:00 PM
URL:https://www.facebook.com/share/17Tk8Uy7Nr/#new_tab
LOCATION:Frederick Fairgrounds – Home of The Great Frederick Fair\, 797 East Patrick Street\, Frederick\, MD\, 21701\, United States
CATEGORIES:Off-Site Events
ATTACH;FMTTYPE=image/jpeg:https://www.tenthwarddistilling.com/wp-content/uploads/2025/11/Hello-Holidays.jpg
END:VEVENT
BEGIN:VEVENT
DTSTART;TZID=America/New_York:20251206T090000
DTEND;TZID=America/New_York:20251206T120000
DTSTAMP:20260422T234939
CREATED:20251113T020806Z
LAST-MODIFIED:20251113T020806Z
UID:8449-1765011600-1765022400@www.tenthwarddistilling.com
SUMMARY:Belle Aire Holiday Market – Bel Air\, MD
DESCRIPTION:Join us in downtown Bel Air for this festive open-air market featuring local artisans\, gifts\, and holiday cheer! Stop by the Tenth Ward booth at 121 S Main St on select Saturdays from 9 a.m.–12 p.m. for free samples and bottles available for purchase.
URL:https://downtownbelair.com/holiday-market/#new_tab
LOCATION:Belle Aire Holiday Market\, 121 S Main St\, Bel Air\, MD\, 21014
CATEGORIES:Off-Site Events
END:VEVENT
BEGIN:VEVENT
DTSTART;TZID=America/New_York:20251206T090000
DTEND;TZID=America/New_York:20251206T130000
DTSTAMP:20260422T234939
CREATED:20251029T222127Z
LAST-MODIFIED:20251029T222127Z
UID:8405-1765011600-1765026000@www.tenthwarddistilling.com
SUMMARY:Silver Spring Farmers Market
DESCRIPTION:Come support us at Silver Spring Farmers Market this Saturday! We’ll be selling bottles and canned cocktails to go.
URL:https://www.freshfarm.org/markets/downtown-silver-spring#new_tab
LOCATION:Silver Spring Farmers Market\, 890 Ellsworth Dr\, Silver Spring\, MD\, 20910\, United States
CATEGORIES:Farmers Markets
END:VEVENT
BEGIN:VEVENT
DTSTART;TZID=America/New_York:20251206T100000
DTEND;TZID=America/New_York:20251206T160000
DTSTAMP:20260422T234939
CREATED:20241202T015032Z
LAST-MODIFIED:20251112T233337Z
UID:7683-1765015200-1765036800@www.tenthwarddistilling.com
SUMMARY:Dickens of a Christmas
DESCRIPTION:We will be in Chestertown\, MD for the annual Dickens of a Christmas celebration of the season!
URL:https://www.mainstreetchestertown.org/dickens-festival/#new_tab
LOCATION:Main Street Chestertown\, Chestertown\, MD\, 21620
CATEGORIES:Off-Site Events
END:VEVENT
BEGIN:VEVENT
DTSTART;TZID=America/New_York:20251206T140000
DTEND;TZID=America/New_York:20251206T190000
DTSTAMP:20260422T234939
CREATED:20241107T220935Z
LAST-MODIFIED:20251112T234045Z
UID:7620-1765029600-1765047600@www.tenthwarddistilling.com
SUMMARY:Brunswick Main Street Holiday Marketplace
DESCRIPTION:Catch us at the Brunswick Main Street Holiday Marketplace on December 6th from 2-7 pm.
URL:https://brunswickmd.gov/index.asp?SEC=091B68D6-FCD8-4B6E-A991-AFEFC0667011&#038;DE=49DAA4EE-115A-47E4-BE73-4CA86786398B&#038;Type=B_BASIC#new_tab
LOCATION:Martins Creek Parking Lot\, 100 E Potomac St\, Brunswick\, MD\, 21716
CATEGORIES:Off-Site Events
END:VEVENT
END:VCALENDAR