BEGIN:VCALENDAR
VERSION:2.0
PRODID:-//Tenth Ward Distilling Company - ECPv6.15.20//NONSGML v1.0//EN
CALSCALE:GREGORIAN
METHOD:PUBLISH
X-ORIGINAL-URL:https://www.tenthwarddistilling.com
X-WR-CALDESC:Events for Tenth Ward Distilling Company
REFRESH-INTERVAL;VALUE=DURATION:PT1H
X-Robots-Tag:noindex
X-PUBLISHED-TTL:PT1H
BEGIN:VTIMEZONE
TZID:America/New_York
BEGIN:DAYLIGHT
TZOFFSETFROM:-0500
TZOFFSETTO:-0400
TZNAME:EDT
DTSTART:20250309T070000
END:DAYLIGHT
BEGIN:STANDARD
TZOFFSETFROM:-0400
TZOFFSETTO:-0500
TZNAME:EST
DTSTART:20251102T060000
END:STANDARD
BEGIN:DAYLIGHT
TZOFFSETFROM:-0500
TZOFFSETTO:-0400
TZNAME:EDT
DTSTART:20260308T070000
END:DAYLIGHT
BEGIN:STANDARD
TZOFFSETFROM:-0400
TZOFFSETTO:-0500
TZNAME:EST
DTSTART:20261101T060000
END:STANDARD
BEGIN:DAYLIGHT
TZOFFSETFROM:-0500
TZOFFSETTO:-0400
TZNAME:EDT
DTSTART:20270314T070000
END:DAYLIGHT
BEGIN:STANDARD
TZOFFSETFROM:-0400
TZOFFSETTO:-0500
TZNAME:EST
DTSTART:20271107T060000
END:STANDARD
END:VTIMEZONE
BEGIN:VEVENT
DTSTART;TZID=America/New_York:20260123T160000
DTEND;TZID=America/New_York:20260123T190000
DTSTAMP:20260423T030752
CREATED:20260108T174504Z
LAST-MODIFIED:20260108T174504Z
UID:8521-1769184000-1769194800@www.tenthwarddistilling.com
SUMMARY:Liquor Store Tasting: Darnestown Liquor & Wine in Gaithersburg\, MD
DESCRIPTION:Come hang out with us at Darnestown Liquor & Wine in Gaithersburg\, MD and enjoy complimentary tastings of our spirits.
URL:https://www.tenthwarddistilling.com/event/liquor-store-tasting-darnestown-liquor-wine-in-gaithersburg-md-5/
LOCATION:Darnestown Liquor & Wine\, 12155 Darnestown Rd\, Gaithersburg\, MD\, 20878
CATEGORIES:Liquor Store Tastings
END:VEVENT
BEGIN:VEVENT
DTSTART;TZID=America/New_York:20260123T200000
DTEND;TZID=America/New_York:20260123T220000
DTSTAMP:20260423T030752
CREATED:20250329T161701Z
LAST-MODIFIED:20251228T205855Z
UID:7968-1769198400-1769205600@www.tenthwarddistilling.com
SUMMARY:Live Music at the Cocktail Bar with Briana Merkel
DESCRIPTION:Every Friday from 8:00-10:00 pm in the Cocktail Bar we’ll be servin’ up our deliciously wild concoctions and some sweet tunes to get your weekend started off right. Keep reading for our next melodious entertainer: Briana Merkel \n  \nBorn of the ancient Appalachian mountains\, songwriter Briana Merkel sings of love loss healing and redemption\, with a soulful    genre-bending style all her own.  You can find her on stages throughout the Mid-Atlantic performing solo and with her band JiggleBilly. \n 
URL:https://www.facebook.com/brianamerkelmusic#new_tab
LOCATION:Tenth Ward Distilling Company\, 55 E Patrick Street\, Frederick\, MD\, 21701\, United States
CATEGORIES:Live Music
ATTACH;FMTTYPE=image/jpeg:https://www.tenthwarddistilling.com/wp-content/uploads/2025/03/image0.jpeg
END:VEVENT
END:VCALENDAR