BEGIN:VCALENDAR
VERSION:2.0
PRODID:-//Tenth Ward Distilling Company - ECPv6.15.20//NONSGML v1.0//EN
CALSCALE:GREGORIAN
METHOD:PUBLISH
X-ORIGINAL-URL:https://www.tenthwarddistilling.com
X-WR-CALDESC:Events for Tenth Ward Distilling Company
REFRESH-INTERVAL;VALUE=DURATION:PT1H
X-Robots-Tag:noindex
X-PUBLISHED-TTL:PT1H
BEGIN:VTIMEZONE
TZID:America/New_York
BEGIN:DAYLIGHT
TZOFFSETFROM:-0500
TZOFFSETTO:-0400
TZNAME:EDT
DTSTART:20250309T070000
END:DAYLIGHT
BEGIN:STANDARD
TZOFFSETFROM:-0400
TZOFFSETTO:-0500
TZNAME:EST
DTSTART:20251102T060000
END:STANDARD
BEGIN:DAYLIGHT
TZOFFSETFROM:-0500
TZOFFSETTO:-0400
TZNAME:EDT
DTSTART:20260308T070000
END:DAYLIGHT
BEGIN:STANDARD
TZOFFSETFROM:-0400
TZOFFSETTO:-0500
TZNAME:EST
DTSTART:20261101T060000
END:STANDARD
BEGIN:DAYLIGHT
TZOFFSETFROM:-0500
TZOFFSETTO:-0400
TZNAME:EDT
DTSTART:20270314T070000
END:DAYLIGHT
BEGIN:STANDARD
TZOFFSETFROM:-0400
TZOFFSETTO:-0500
TZNAME:EST
DTSTART:20271107T060000
END:STANDARD
END:VTIMEZONE
BEGIN:VEVENT
DTSTART;TZID=America/New_York:20260220T160000
DTEND;TZID=America/New_York:20260220T190000
DTSTAMP:20260422T152336
CREATED:20260125T201229Z
LAST-MODIFIED:20260125T201229Z
UID:8547-1771603200-1771614000@www.tenthwarddistilling.com
SUMMARY:Liquor Store Tasting: Seneca Meadows Liquor & Wine in Germantown\, MD
DESCRIPTION:Come hang out with us at Seneca Meadows Liquor & Wine in Germantown\, MD and enjoy complimentary tastings of our spirits.
URL:https://www.tenthwarddistilling.com/event/liquor-store-tasting-seneca-meadows-liquor-wine-in-germantown-md-5/
LOCATION:Seneca Meadows Liquor Store\, 20680 Seneca Meadows Pkwy\, Germantown\, MD\, United States
CATEGORIES:Liquor Store Tastings
END:VEVENT
BEGIN:VEVENT
DTSTART;TZID=America/New_York:20260220T200000
DTEND;TZID=America/New_York:20260220T220000
DTSTAMP:20260422T152336
CREATED:20260125T200534Z
LAST-MODIFIED:20260125T200534Z
UID:8542-1771617600-1771624800@www.tenthwarddistilling.com
SUMMARY:Live Music at the Cocktail Bar with Eli Lev
DESCRIPTION:Every Friday from 8:00-10:00 pm in the Cocktail Bar we’ll be servin’ up our deliciously wild concoctions and some sweet tunes to get your weekend started off right.  Featuring: Eli Lev \nEli is a critically-acclaimed singer-songwriter and internationally-touring musician\, an entrepreneur\, a mobile lifestyle pioneer\, a community leader\, a son\, and a friend. He is a storytelling songwriter who brings to his work a universal spirituality informed by a variety of belief systems. Eli’s Jewish upbringing\, his transformative experiences with Indigenous people\, and his study of Buddhism shine through his uplifting songwriting.
URL:https://eli-lev.com/bio/#new_tab
LOCATION:Tenth Ward Distilling Company\, 55 E Patrick Street\, Frederick\, MD\, 21701\, United States
CATEGORIES:Live Music
END:VEVENT
END:VCALENDAR