BEGIN:VCALENDAR
VERSION:2.0
PRODID:-//Tenth Ward Distilling Company - ECPv6.15.20//NONSGML v1.0//EN
CALSCALE:GREGORIAN
METHOD:PUBLISH
X-WR-CALNAME:Tenth Ward Distilling Company
X-ORIGINAL-URL:https://www.tenthwarddistilling.com
X-WR-CALDESC:Events for Tenth Ward Distilling Company
REFRESH-INTERVAL;VALUE=DURATION:PT1H
X-Robots-Tag:noindex
X-PUBLISHED-TTL:PT1H
BEGIN:VTIMEZONE
TZID:America/New_York
BEGIN:DAYLIGHT
TZOFFSETFROM:-0500
TZOFFSETTO:-0400
TZNAME:EDT
DTSTART:20250309T070000
END:DAYLIGHT
BEGIN:STANDARD
TZOFFSETFROM:-0400
TZOFFSETTO:-0500
TZNAME:EST
DTSTART:20251102T060000
END:STANDARD
BEGIN:DAYLIGHT
TZOFFSETFROM:-0500
TZOFFSETTO:-0400
TZNAME:EDT
DTSTART:20260308T070000
END:DAYLIGHT
BEGIN:STANDARD
TZOFFSETFROM:-0400
TZOFFSETTO:-0500
TZNAME:EST
DTSTART:20261101T060000
END:STANDARD
BEGIN:DAYLIGHT
TZOFFSETFROM:-0500
TZOFFSETTO:-0400
TZNAME:EDT
DTSTART:20270314T070000
END:DAYLIGHT
BEGIN:STANDARD
TZOFFSETFROM:-0400
TZOFFSETTO:-0500
TZNAME:EST
DTSTART:20271107T060000
END:STANDARD
END:VTIMEZONE
BEGIN:VEVENT
DTSTART;TZID=America/New_York:20260423T190000
DTEND;TZID=America/New_York:20260423T210000
DTSTAMP:20260423T021612
CREATED:20260420T183835Z
LAST-MODIFIED:20260420T183835Z
UID:8735-1776970800-1776978000@www.tenthwarddistilling.com
SUMMARY:Live Music at the Cocktail Bar with Ray Castro
DESCRIPTION:Every Thursday from 7:00-9:00 pm in the Cocktail Bar we’ll be servin’ up our deliciously wild concoctions and some sweet tunes to get your weekend started off right.
URL:https://linktr.ee/mrswiftie?fbclid=IwY2xjawRTUYZleHRuA2FlbQIxMABicmlkETFoNWE0Sm9pYTZUMm4zaUN6c3J0YwZhcHBfaWQQMjIyMDM5MTc4ODIwMDg5MgABHrdK18IGWvA0hvEdW3-RRJWIwf6NzkVFzv3DQpMQTt-lyS9ejqSyzhp9sO_H_aem_sMJ_dB1BuJWT0rWVc2PT7g#new_tab
LOCATION:Tenth Ward Distilling Company\, 55 E Patrick Street\, Frederick\, MD\, 21701\, United States
CATEGORIES:Live Music
ATTACH;FMTTYPE=image/avif:https://www.tenthwarddistilling.com/wp-content/uploads/2025/07/ray-castro.avif
END:VEVENT
END:VCALENDAR