BEGIN:VCALENDAR
VERSION:2.0
PRODID:-//Tenth Ward Distilling Company - ECPv6.15.20//NONSGML v1.0//EN
CALSCALE:GREGORIAN
METHOD:PUBLISH
X-WR-CALNAME:Tenth Ward Distilling Company
X-ORIGINAL-URL:https://www.tenthwarddistilling.com
X-WR-CALDESC:Events for Tenth Ward Distilling Company
REFRESH-INTERVAL;VALUE=DURATION:PT1H
X-Robots-Tag:noindex
X-PUBLISHED-TTL:PT1H
BEGIN:VTIMEZONE
TZID:America/New_York
BEGIN:DAYLIGHT
TZOFFSETFROM:-0500
TZOFFSETTO:-0400
TZNAME:EDT
DTSTART:20250309T070000
END:DAYLIGHT
BEGIN:STANDARD
TZOFFSETFROM:-0400
TZOFFSETTO:-0500
TZNAME:EST
DTSTART:20251102T060000
END:STANDARD
BEGIN:DAYLIGHT
TZOFFSETFROM:-0500
TZOFFSETTO:-0400
TZNAME:EDT
DTSTART:20260308T070000
END:DAYLIGHT
BEGIN:STANDARD
TZOFFSETFROM:-0400
TZOFFSETTO:-0500
TZNAME:EST
DTSTART:20261101T060000
END:STANDARD
BEGIN:DAYLIGHT
TZOFFSETFROM:-0500
TZOFFSETTO:-0400
TZNAME:EDT
DTSTART:20270314T070000
END:DAYLIGHT
BEGIN:STANDARD
TZOFFSETFROM:-0400
TZOFFSETTO:-0500
TZNAME:EST
DTSTART:20271107T060000
END:STANDARD
END:VTIMEZONE
BEGIN:VEVENT
DTSTART;TZID=America/New_York:20260301T090000
DTEND;TZID=America/New_York:20260301T130000
DTSTAMP:20260423T062324
CREATED:20260125T193313Z
LAST-MODIFIED:20260125T193313Z
UID:8531-1772355600-1772370000@www.tenthwarddistilling.com
SUMMARY:Olney Farmers Market
DESCRIPTION:Come support us at the Olney Farmers Market this Sunday! We’ll be selling bottles and canned cocktails to go.
URL:http://www.olneyfarmersmarket.com/#new_tab
LOCATION:Olney Farmers Market\, 2801 Olney Sandy Spring Rd\, Olney\, MD\, 20832
CATEGORIES:Farmers Markets
END:VEVENT
BEGIN:VEVENT
DTSTART;TZID=America/New_York:20260301T090000
DTEND;TZID=America/New_York:20260301T130000
DTSTAMP:20260423T062324
CREATED:20260125T193558Z
LAST-MODIFIED:20260125T193558Z
UID:8534-1772355600-1772370000@www.tenthwarddistilling.com
SUMMARY:Takoma Park Farmers Market
DESCRIPTION:Come support us at Takoma Park Farmers Market this Sunday! We’ll be selling bottles and canned cocktails to go.
URL:https://takomaparkmarket.com/#new_tab
LOCATION:Takoma Park Farmers Market\, Laurel Ave\, Takoma Park\, MD\, 20912\, United States
CATEGORIES:Farmers Markets
END:VEVENT
BEGIN:VEVENT
DTSTART;TZID=America/New_York:20260307T100000
DTEND;TZID=America/New_York:20260307T130000
DTSTAMP:20260423T062324
CREATED:20260129T162839Z
LAST-MODIFIED:20260129T162839Z
UID:8569-1772877600-1772888400@www.tenthwarddistilling.com
SUMMARY:Silver Spring Farmers Market
DESCRIPTION:Come support us at Silver Spring Farmers Market this Saturday! We’ll be selling bottles and canned cocktails to go.
URL:https://www.freshfarm.org/markets/downtown-silver-spring#new_tab
LOCATION:Silver Spring Farmers Market\, 890 Ellsworth Dr\, Silver Spring\, MD\, 20910\, United States
CATEGORIES:Farmers Markets
END:VEVENT
BEGIN:VEVENT
DTSTART;TZID=America/New_York:20260308T090000
DTEND;TZID=America/New_York:20260308T130000
DTSTAMP:20260423T062324
CREATED:20260219T195317Z
LAST-MODIFIED:20260219T195317Z
UID:8614-1772960400-1772974800@www.tenthwarddistilling.com
SUMMARY:Bethesda Farmers Market
DESCRIPTION:Come support us at the Bethesda Farmers Market this Sunday! We’ll be selling bottles and canned cocktails to go.
URL:https://bethesda.centralfarmmarkets.com/#new_tab
LOCATION:Bethesda Central Farmers Market\, Bethesda\, MD\, United States
CATEGORIES:Farmers Markets
END:VEVENT
BEGIN:VEVENT
DTSTART;TZID=America/New_York:20260314T100000
DTEND;TZID=America/New_York:20260314T130000
DTSTAMP:20260423T062324
CREATED:20260129T162954Z
LAST-MODIFIED:20260129T162954Z
UID:8570-1773482400-1773493200@www.tenthwarddistilling.com
SUMMARY:Silver Spring Farmers Market
DESCRIPTION:Come support us at Silver Spring Farmers Market this Saturday! We’ll be selling bottles and canned cocktails to go.
URL:https://www.freshfarm.org/markets/downtown-silver-spring#new_tab
LOCATION:Silver Spring Farmers Market\, 890 Ellsworth Dr\, Silver Spring\, MD\, 20910\, United States
CATEGORIES:Farmers Markets
END:VEVENT
BEGIN:VEVENT
DTSTART;TZID=America/New_York:20260315T090000
DTEND;TZID=America/New_York:20260315T130000
DTSTAMP:20260423T062324
CREATED:20260125T193644Z
LAST-MODIFIED:20260125T193644Z
UID:8535-1773565200-1773579600@www.tenthwarddistilling.com
SUMMARY:Takoma Park Farmers Market
DESCRIPTION:Come support us at Takoma Park Farmers Market this Sunday! We’ll be selling bottles and canned cocktails to go.
URL:https://takomaparkmarket.com/#new_tab
LOCATION:Takoma Park Farmers Market\, Laurel Ave\, Takoma Park\, MD\, 20912\, United States
CATEGORIES:Farmers Markets
END:VEVENT
BEGIN:VEVENT
DTSTART;TZID=America/New_York:20260321T100000
DTEND;TZID=America/New_York:20260321T130000
DTSTAMP:20260423T062324
CREATED:20260129T163051Z
LAST-MODIFIED:20260129T163051Z
UID:8571-1774087200-1774098000@www.tenthwarddistilling.com
SUMMARY:Silver Spring Farmers Market
DESCRIPTION:Come support us at Silver Spring Farmers Market this Saturday! We’ll be selling bottles and canned cocktails to go.
URL:https://www.freshfarm.org/markets/downtown-silver-spring#new_tab
LOCATION:Tenth Ward Distilling Company\, 55 E Patrick Street\, Frederick\, MD\, 21701\, United States
CATEGORIES:Farmers Markets
END:VEVENT
BEGIN:VEVENT
DTSTART;TZID=America/New_York:20260328T100000
DTEND;TZID=America/New_York:20260328T130000
DTSTAMP:20260423T062324
CREATED:20260129T163221Z
LAST-MODIFIED:20260129T163221Z
UID:8572-1774692000-1774702800@www.tenthwarddistilling.com
SUMMARY:Silver Spring Farmers Market
DESCRIPTION:Come support us at Silver Spring Farmers Market this Saturday! We’ll be selling bottles and canned cocktails to go.
URL:https://www.freshfarm.org/markets/downtown-silver-spring#new_tab
LOCATION:Silver Spring Farmers Market\, 890 Ellsworth Dr\, Silver Spring\, MD\, 20910\, United States
CATEGORIES:Farmers Markets
END:VEVENT
END:VCALENDAR