BEGIN:VCALENDAR
VERSION:2.0
PRODID:-//Tenth Ward Distilling Company - ECPv6.15.20//NONSGML v1.0//EN
CALSCALE:GREGORIAN
METHOD:PUBLISH
X-ORIGINAL-URL:https://www.tenthwarddistilling.com
X-WR-CALDESC:Events for Tenth Ward Distilling Company
REFRESH-INTERVAL;VALUE=DURATION:PT1H
X-Robots-Tag:noindex
X-PUBLISHED-TTL:PT1H
BEGIN:VTIMEZONE
TZID:America/New_York
BEGIN:DAYLIGHT
TZOFFSETFROM:-0500
TZOFFSETTO:-0400
TZNAME:EDT
DTSTART:20240310T070000
END:DAYLIGHT
BEGIN:STANDARD
TZOFFSETFROM:-0400
TZOFFSETTO:-0500
TZNAME:EST
DTSTART:20241103T060000
END:STANDARD
BEGIN:DAYLIGHT
TZOFFSETFROM:-0500
TZOFFSETTO:-0400
TZNAME:EDT
DTSTART:20250309T070000
END:DAYLIGHT
BEGIN:STANDARD
TZOFFSETFROM:-0400
TZOFFSETTO:-0500
TZNAME:EST
DTSTART:20251102T060000
END:STANDARD
BEGIN:DAYLIGHT
TZOFFSETFROM:-0500
TZOFFSETTO:-0400
TZNAME:EDT
DTSTART:20260308T070000
END:DAYLIGHT
BEGIN:STANDARD
TZOFFSETFROM:-0400
TZOFFSETTO:-0500
TZNAME:EST
DTSTART:20261101T060000
END:STANDARD
BEGIN:DAYLIGHT
TZOFFSETFROM:-0500
TZOFFSETTO:-0400
TZNAME:EDT
DTSTART:20270314T070000
END:DAYLIGHT
BEGIN:STANDARD
TZOFFSETFROM:-0400
TZOFFSETTO:-0500
TZNAME:EST
DTSTART:20271107T060000
END:STANDARD
END:VTIMEZONE
BEGIN:VEVENT
DTSTART;TZID=America/New_York:20260228T100000
DTEND;TZID=America/New_York:20260228T130000
DTSTAMP:20260421T103115
CREATED:20260125T201705Z
LAST-MODIFIED:20260125T201705Z
UID:8551-1772272800-1772283600@www.tenthwarddistilling.com
SUMMARY:Silver Spring Farmers Market
DESCRIPTION:Come support us at Silver Spring Farmers Market this Saturday! We’ll be selling bottles and canned cocktails to go.
URL:https://www.freshfarm.org/markets/downtown-silver-spring#new_tab
LOCATION:Silver Spring Farmers Market\, 890 Ellsworth Dr\, Silver Spring\, MD\, 20910\, United States
CATEGORIES:Farmers Markets
END:VEVENT
BEGIN:VEVENT
DTSTART;TZID=America/New_York:20260221T100000
DTEND;TZID=America/New_York:20260221T130000
DTSTAMP:20260421T103115
CREATED:20260125T201613Z
LAST-MODIFIED:20260125T201613Z
UID:8550-1771668000-1771678800@www.tenthwarddistilling.com
SUMMARY:Silver Spring Farmers Market
DESCRIPTION:Come support us at Silver Spring Farmers Market this Saturday! We’ll be selling bottles and canned cocktails to go.
URL:https://www.freshfarm.org/markets/downtown-silver-spring#new_tab
LOCATION:Silver Spring Farmers Market\, 890 Ellsworth Dr\, Silver Spring\, MD\, 20910\, United States
CATEGORIES:Farmers Markets
END:VEVENT
BEGIN:VEVENT
DTSTART;TZID=America/New_York:20260215T090000
DTEND;TZID=America/New_York:20260215T130000
DTSTAMP:20260421T103115
CREATED:20260125T193508Z
LAST-MODIFIED:20260125T193508Z
UID:8533-1771146000-1771160400@www.tenthwarddistilling.com
SUMMARY:Takoma Park Farmers Market
DESCRIPTION:Come support us at Takoma Park Farmers Market this Sunday! We’ll be selling bottles and canned cocktails to go.
URL:https://takomaparkmarket.com/#new_tab
LOCATION:Takoma Park Farmers Market\, Laurel Ave\, Takoma Park\, MD\, 20912\, United States
CATEGORIES:Farmers Markets
END:VEVENT
BEGIN:VEVENT
DTSTART;TZID=America/New_York:20260214T100000
DTEND;TZID=America/New_York:20260214T130000
DTSTAMP:20260421T103115
CREATED:20260125T201519Z
LAST-MODIFIED:20260125T201519Z
UID:8549-1771063200-1771074000@www.tenthwarddistilling.com
SUMMARY:Silver Spring Farmers Market
DESCRIPTION:Come support us at Silver Spring Farmers Market this Saturday! We’ll be selling bottles and canned cocktails to go.
URL:https://www.freshfarm.org/markets/downtown-silver-spring#new_tab
LOCATION:Silver Spring Farmers Market\, 890 Ellsworth Dr\, Silver Spring\, MD\, 20910\, United States
CATEGORIES:Farmers Markets
END:VEVENT
BEGIN:VEVENT
DTSTART;TZID=America/New_York:20260207T100000
DTEND;TZID=America/New_York:20260207T130000
DTSTAMP:20260421T103115
CREATED:20260125T201405Z
LAST-MODIFIED:20260125T201405Z
UID:8548-1770458400-1770469200@www.tenthwarddistilling.com
SUMMARY:Silver Spring Farmers Market
DESCRIPTION:Come support us at Silver Spring Farmers Market this Saturday! We’ll be selling bottles and canned cocktails to go.
URL:https://www.freshfarm.org/markets/downtown-silver-spring#new_tab
LOCATION:Silver Spring Farmers Market\, 890 Ellsworth Dr\, Silver Spring\, MD\, 20910\, United States
CATEGORIES:Farmers Markets
END:VEVENT
BEGIN:VEVENT
DTSTART;TZID=America/New_York:20260201T090000
DTEND;TZID=America/New_York:20260201T130000
DTSTAMP:20260421T103115
CREATED:20260125T193423Z
LAST-MODIFIED:20260125T193423Z
UID:8532-1769936400-1769950800@www.tenthwarddistilling.com
SUMMARY:Takoma Park Farmers Market
DESCRIPTION:Come support us at Takoma Park Farmers Market this Sunday! We’ll be selling bottles and canned cocktails to go.
URL:https://takomaparkmarket.com/#new_tab
LOCATION:Takoma Park Farmers Market\, Laurel Ave\, Takoma Park\, MD\, 20912\, United States
CATEGORIES:Farmers Markets
END:VEVENT
BEGIN:VEVENT
DTSTART;TZID=America/New_York:20260201T090000
DTEND;TZID=America/New_York:20260201T130000
DTSTAMP:20260421T103115
CREATED:20260125T193222Z
LAST-MODIFIED:20260125T193222Z
UID:8530-1769936400-1769950800@www.tenthwarddistilling.com
SUMMARY:Olney Farmers Market
DESCRIPTION:Come support us at the Olney Farmers Market this Sunday! We’ll be selling bottles and canned cocktails to go.
URL:http://www.olneyfarmersmarket.com/#new_tab
LOCATION:Olney Farmers Market\, 2801 Olney Sandy Spring Rd\, Olney\, MD\, 20832
CATEGORIES:Farmers Markets
END:VEVENT
BEGIN:VEVENT
DTSTART;TZID=America/New_York:20260131T090000
DTEND;TZID=America/New_York:20260131T130000
DTSTAMP:20260421T103115
CREATED:20251113T025642Z
LAST-MODIFIED:20251113T025642Z
UID:8467-1769850000-1769864400@www.tenthwarddistilling.com
SUMMARY:Silver Spring Farmers Market
DESCRIPTION:Come support us at Silver Spring Farmers Market this Saturday! We’ll be selling bottles and canned cocktails to go.
URL:https://www.freshfarm.org/markets/downtown-silver-spring#new_tab
LOCATION:Silver Spring Farmers Market\, 890 Ellsworth Dr\, Silver Spring\, MD\, 20910\, United States
CATEGORIES:Farmers Markets
END:VEVENT
BEGIN:VEVENT
DTSTART;TZID=America/New_York:20260124T090000
DTEND;TZID=America/New_York:20260124T130000
DTSTAMP:20260421T103115
CREATED:20251113T025522Z
LAST-MODIFIED:20251113T025522Z
UID:8466-1769245200-1769259600@www.tenthwarddistilling.com
SUMMARY:Silver Spring Farmers Market
DESCRIPTION:Come support us at Silver Spring Farmers Market this Saturday! We’ll be selling bottles and canned cocktails to go.
URL:https://www.freshfarm.org/markets/downtown-silver-spring#new_tab
LOCATION:MD
CATEGORIES:Farmers Markets
END:VEVENT
BEGIN:VEVENT
DTSTART;TZID=America/New_York:20260118T090000
DTEND;TZID=America/New_York:20260118T130000
DTSTAMP:20260421T103115
CREATED:20260108T174216Z
LAST-MODIFIED:20260108T174216Z
UID:8520-1768726800-1768741200@www.tenthwarddistilling.com
SUMMARY:Takoma Park Farmers Market
DESCRIPTION:Come support us at Takoma Park Farmers Market this Sunday! We’ll be selling bottles and canned cocktails to go.
URL:https://takomaparkmarket.com/#new_tab
LOCATION:Takoma Park Farmers Market\, Laurel Ave\, Takoma Park\, MD\, 20912\, United States
CATEGORIES:Farmers Markets
END:VEVENT
BEGIN:VEVENT
DTSTART;TZID=America/New_York:20260117T090000
DTEND;TZID=America/New_York:20260117T130000
DTSTAMP:20260421T103115
CREATED:20251113T024734Z
LAST-MODIFIED:20251113T024734Z
UID:8465-1768640400-1768654800@www.tenthwarddistilling.com
SUMMARY:Silver Spring Farmers Market
DESCRIPTION:Come support us at Silver Spring Farmers Market this Saturday! We’ll be selling bottles and canned cocktails to go.
URL:https://www.freshfarm.org/markets/downtown-silver-spring#new_tab
LOCATION:Silver Spring Farmers Market\, 890 Ellsworth Dr\, Silver Spring\, MD\, 20910\, United States
CATEGORIES:Farmers Markets
END:VEVENT
BEGIN:VEVENT
DTSTART;TZID=America/New_York:20260111T090000
DTEND;TZID=America/New_York:20260111T130000
DTSTAMP:20260421T103115
CREATED:20260108T174016Z
LAST-MODIFIED:20260108T174016Z
UID:8519-1768122000-1768136400@www.tenthwarddistilling.com
SUMMARY:Bethesda Farmers Market
DESCRIPTION:Come support us at the Bethesda Farmers Market this Sunday! We’ll be selling bottles and canned cocktails to go.
URL:https://bethesda.centralfarmmarkets.com/#new_tab
LOCATION:Bethesda Central Farmers Market\, Bethesda\, MD\, United States
CATEGORIES:Farmers Markets
END:VEVENT
BEGIN:VEVENT
DTSTART;TZID=America/New_York:20260110T090000
DTEND;TZID=America/New_York:20260110T130000
DTSTAMP:20260421T103115
CREATED:20251113T024631Z
LAST-MODIFIED:20251113T024631Z
UID:8464-1768035600-1768050000@www.tenthwarddistilling.com
SUMMARY:Silver Spring Farmers Market
DESCRIPTION:Come support us at Silver Spring Farmers Market this Saturday! We’ll be selling bottles and canned cocktails to go.
URL:https://www.freshfarm.org/markets/downtown-silver-spring#new_tab
LOCATION:Silver Spring Farmers Market\, 890 Ellsworth Dr\, Silver Spring\, MD\, 20910\, United States
CATEGORIES:Farmers Markets
END:VEVENT
BEGIN:VEVENT
DTSTART;TZID=America/New_York:20260103T090000
DTEND;TZID=America/New_York:20260103T130000
DTSTAMP:20260421T103115
CREATED:20251113T024525Z
LAST-MODIFIED:20251113T024525Z
UID:8463-1767430800-1767445200@www.tenthwarddistilling.com
SUMMARY:Silver Spring Farmers Market
DESCRIPTION:Come support us at Silver Spring Farmers Market this Saturday! We’ll be selling bottles and canned cocktails to go.
URL:https://www.freshfarm.org/markets/downtown-silver-spring#new_tab
LOCATION:Silver Spring Farmers Market\, 890 Ellsworth Dr\, Silver Spring\, MD\, 20910\, United States
CATEGORIES:Farmers Markets
END:VEVENT
BEGIN:VEVENT
DTSTART;TZID=America/New_York:20251227T090000
DTEND;TZID=America/New_York:20251227T130000
DTSTAMP:20260421T103115
CREATED:20251029T222410Z
LAST-MODIFIED:20251029T222410Z
UID:8408-1766826000-1766840400@www.tenthwarddistilling.com
SUMMARY:Silver Spring Farmers Market
DESCRIPTION:Come support us at Silver Spring Farmers Market this Saturday! We’ll be selling bottles and canned cocktails to go.
URL:https://www.freshfarm.org/markets/downtown-silver-spring#new_tab
LOCATION:Silver Spring Farmers Market\, 890 Ellsworth Dr\, Silver Spring\, MD\, 20910\, United States
CATEGORIES:Farmers Markets
END:VEVENT
BEGIN:VEVENT
DTSTART;TZID=America/New_York:20251221T090000
DTEND;TZID=America/New_York:20251221T130000
DTSTAMP:20260421T103115
CREATED:20251113T022054Z
LAST-MODIFIED:20251113T022054Z
UID:8455-1766307600-1766322000@www.tenthwarddistilling.com
SUMMARY:Takoma Park Farmers Market
DESCRIPTION:Come support us at Takoma Park Farmers Market this Sunday! We’ll be selling bottles and canned cocktails to go.
URL:https://takomaparkmarket.com/#new_tab
LOCATION:Takoma Park Farmers Market\, Laurel Ave\, Takoma Park\, MD\, 20912\, United States
CATEGORIES:Farmers Markets
END:VEVENT
BEGIN:VEVENT
DTSTART;TZID=America/New_York:20251220T090000
DTEND;TZID=America/New_York:20251220T130000
DTSTAMP:20260421T103115
CREATED:20251029T222315Z
LAST-MODIFIED:20251029T222315Z
UID:8407-1766221200-1766235600@www.tenthwarddistilling.com
SUMMARY:Silver Spring Farmers Market
DESCRIPTION:Come support us at Silver Spring Farmers Market this Saturday! We’ll be selling bottles and canned cocktails to go.
URL:https://www.freshfarm.org/markets/downtown-silver-spring#new_tab
LOCATION:Silver Spring Farmers Market\, 890 Ellsworth Dr\, Silver Spring\, MD\, 20910\, United States
CATEGORIES:Farmers Markets
END:VEVENT
BEGIN:VEVENT
DTSTART;TZID=America/New_York:20251214T090000
DTEND;TZID=America/New_York:20251214T133000
DTSTAMP:20260421T103115
CREATED:20250903T190444Z
LAST-MODIFIED:20250903T190444Z
UID:8294-1765702800-1765719000@www.tenthwarddistilling.com
SUMMARY:Bethesda Farmers Market
DESCRIPTION:Come support us at the Bethesda Farmers Market this Sunday! We’ll be selling bottles and canned cocktails to go.
URL:https://bethesda.centralfarmmarkets.com/#new_tab
LOCATION:Bethesda Central Farmers Market\, Bethesda\, MD\, United States
CATEGORIES:Farmers Markets
END:VEVENT
BEGIN:VEVENT
DTSTART;TZID=America/New_York:20251213T090000
DTEND;TZID=America/New_York:20251213T130000
DTSTAMP:20260421T103115
CREATED:20251029T222221Z
LAST-MODIFIED:20251029T222221Z
UID:8406-1765616400-1765630800@www.tenthwarddistilling.com
SUMMARY:Silver Spring Farmers Market
DESCRIPTION:Come support us at Silver Spring Farmers Market this Saturday! We’ll be selling bottles and canned cocktails to go.
URL:https://www.freshfarm.org/markets/downtown-silver-spring#new_tab
LOCATION:Silver Spring Farmers Market\, 890 Ellsworth Dr\, Silver Spring\, MD\, 20910\, United States
CATEGORIES:Farmers Markets
END:VEVENT
BEGIN:VEVENT
DTSTART;TZID=America/New_York:20251207T110000
DTEND;TZID=America/New_York:20251207T140000
DTSTAMP:20260421T103115
CREATED:20250903T194027Z
LAST-MODIFIED:20251112T234517Z
UID:8309-1765105200-1765116000@www.tenthwarddistilling.com
SUMMARY:Olney Farmers and Artist Market - Annual Holiday Market
DESCRIPTION:Come support us at the Olney Farmers Market Annual Holiday Market this Sunday! We’ll be selling bottles and canned cocktails to go.
URL:http://www.olneyfarmersmarket.com/#new_tab
LOCATION:Olney Farmers Market\, 2801 Olney Sandy Spring Rd\, Olney\, MD\, 20832
CATEGORIES:Farmers Markets
END:VEVENT
BEGIN:VEVENT
DTSTART;TZID=America/New_York:20251207T090000
DTEND;TZID=America/New_York:20251207T130000
DTSTAMP:20260421T103115
CREATED:20251112T234731Z
LAST-MODIFIED:20251112T234731Z
UID:8448-1765098000-1765112400@www.tenthwarddistilling.com
SUMMARY:Takoma Park Farmers Market
DESCRIPTION:Come support us at Takoma Park Farmers Market this Sunday! We’ll be selling bottles and canned cocktails to go.
URL:https://takomaparkmarket.com/#new_tab
LOCATION:Takoma Park Farmers Market\, Laurel Ave\, Takoma Park\, MD\, 20912\, United States
CATEGORIES:Farmers Markets
END:VEVENT
BEGIN:VEVENT
DTSTART;TZID=America/New_York:20251206T090000
DTEND;TZID=America/New_York:20251206T130000
DTSTAMP:20260421T103115
CREATED:20251029T222127Z
LAST-MODIFIED:20251029T222127Z
UID:8405-1765011600-1765026000@www.tenthwarddistilling.com
SUMMARY:Silver Spring Farmers Market
DESCRIPTION:Come support us at Silver Spring Farmers Market this Saturday! We’ll be selling bottles and canned cocktails to go.
URL:https://www.freshfarm.org/markets/downtown-silver-spring#new_tab
LOCATION:Silver Spring Farmers Market\, 890 Ellsworth Dr\, Silver Spring\, MD\, 20910\, United States
CATEGORIES:Farmers Markets
END:VEVENT
BEGIN:VEVENT
DTSTART;TZID=America/New_York:20251129T090000
DTEND;TZID=America/New_York:20251129T130000
DTSTAMP:20260421T103115
CREATED:20251029T222017Z
LAST-MODIFIED:20251029T222017Z
UID:8404-1764406800-1764421200@www.tenthwarddistilling.com
SUMMARY:Silver Spring Farmers Market
DESCRIPTION:Come support us at Silver Spring Farmers Market this Saturday! We’ll be selling bottles and canned cocktails to go.
URL:https://www.freshfarm.org/markets/downtown-silver-spring#new_tab
LOCATION:Silver Spring Farmers Market\, 890 Ellsworth Dr\, Silver Spring\, MD\, 20910\, United States
CATEGORIES:Farmers Markets
END:VEVENT
BEGIN:VEVENT
DTSTART;TZID=America/New_York:20251125T100000
DTEND;TZID=America/New_York:20251125T140000
DTSTAMP:20260421T103115
CREATED:20251122T212711Z
LAST-MODIFIED:20251122T212711Z
UID:8486-1764064800-1764079200@www.tenthwarddistilling.com
SUMMARY:Pike Central Farm Market - Thanksgiving Market
DESCRIPTION:Come support us at the Pike Central Farm Market – Thanksgiving Market this Tuesday! We’ll be selling bottles and canned cocktails to go.
URL:https://www.centralfarmmarkets.com/pike#new_tab
LOCATION:Pike & Rose\, 935 Prose Street\, North Bethesda\, MD\, 20852
CATEGORIES:Farmers Markets
ATTACH;FMTTYPE=image/jpeg:https://www.tenthwarddistilling.com/wp-content/uploads/2025/11/CFMLogo_BlackText.jpg
END:VEVENT
BEGIN:VEVENT
DTSTART;TZID=America/New_York:20251122T090000
DTEND;TZID=America/New_York:20251122T130000
DTSTAMP:20260421T103115
CREATED:20251029T221929Z
LAST-MODIFIED:20251029T221929Z
UID:8403-1763802000-1763816400@www.tenthwarddistilling.com
SUMMARY:Silver Spring Farmers Market
DESCRIPTION:Come support us at Silver Spring Farmers Market this Saturday! We’ll be selling bottles and canned cocktails to go.
URL:https://www.freshfarm.org/markets/downtown-silver-spring#new_tab
LOCATION:Silver Spring Farmers Market\, 890 Ellsworth Dr\, Silver Spring\, MD\, 20910\, United States
CATEGORIES:Farmers Markets
END:VEVENT
BEGIN:VEVENT
DTSTART;TZID=America/New_York:20251116T090000
DTEND;TZID=America/New_York:20251116T130000
DTSTAMP:20260421T103115
CREATED:20251029T223727Z
LAST-MODIFIED:20251029T223727Z
UID:8415-1763283600-1763298000@www.tenthwarddistilling.com
SUMMARY:Takoma Park Farmers Market
DESCRIPTION:Come support us at Takoma Park Farmers Market this Sunday! We’ll be selling bottles and canned cocktails to go.
URL:https://takomaparkmarket.com/#new_tab
LOCATION:Takoma Park Farmers Market\, Laurel Ave\, Takoma Park\, MD\, 20912\, United States
CATEGORIES:Farmers Markets
END:VEVENT
BEGIN:VEVENT
DTSTART;TZID=America/New_York:20251115T090000
DTEND;TZID=America/New_York:20251115T130000
DTSTAMP:20260421T103115
CREATED:20251029T221831Z
LAST-MODIFIED:20251029T221831Z
UID:8402-1763197200-1763211600@www.tenthwarddistilling.com
SUMMARY:Silver Spring Farmers Market
DESCRIPTION:Come support us at Silver Spring Farmers Market this Saturday! We’ll be selling bottles and canned cocktails to go.
URL:https://www.freshfarm.org/markets/downtown-silver-spring#new_tab
LOCATION:Silver Spring Farmers Market\, 890 Ellsworth Dr\, Silver Spring\, MD\, 20910\, United States
CATEGORIES:Farmers Markets
END:VEVENT
BEGIN:VEVENT
DTSTART;TZID=America/New_York:20251115T090000
DTEND;TZID=America/New_York:20251115T130000
DTSTAMP:20260421T103115
CREATED:20250903T192503Z
LAST-MODIFIED:20250903T192503Z
UID:8301-1763197200-1763211600@www.tenthwarddistilling.com
SUMMARY:Gateway Farmers Market
DESCRIPTION:Come support us at the Gateway Farmers Market this Saturday! We’ll be selling bottles and canned cocktails to go.
URL:https://www.facebook.com/p/Gateway-Farmers-Market-61557208214714/#new_tab
LOCATION:Gateway Farmers Market\, 3716 Rhode Island Ave\, Brentwood\, MD\, 20722
CATEGORIES:Farmers Markets
END:VEVENT
BEGIN:VEVENT
DTSTART;TZID=America/New_York:20251109T090000
DTEND;TZID=America/New_York:20251109T133000
DTSTAMP:20260421T103115
CREATED:20250903T190321Z
LAST-MODIFIED:20250903T190321Z
UID:8293-1762678800-1762695000@www.tenthwarddistilling.com
SUMMARY:Bethesda Farmers Market
DESCRIPTION:Come support us at the Bethesda Farmers Market this Sunday! We’ll be selling bottles and canned cocktails to go.
URL:https://bethesda.centralfarmmarkets.com/#new_tab
LOCATION:Bethesda Central Farmers Market\, Bethesda\, MD\, United States
CATEGORIES:Farmers Markets
END:VEVENT
BEGIN:VEVENT
DTSTART;TZID=America/New_York:20251108T090000
DTEND;TZID=America/New_York:20251108T130000
DTSTAMP:20260421T103115
CREATED:20251029T221641Z
LAST-MODIFIED:20251029T221641Z
UID:8401-1762592400-1762606800@www.tenthwarddistilling.com
SUMMARY:Silver Spring Farmers Market
DESCRIPTION:Come support us at Silver Spring Farmers Market this Saturday! We’ll be selling bottles and canned cocktails to go.
URL:https://www.freshfarm.org/markets/downtown-silver-spring#new_tab
LOCATION:Silver Spring Farmers Market\, 890 Ellsworth Dr\, Silver Spring\, MD\, 20910\, United States
CATEGORIES:Farmers Markets
END:VEVENT
END:VCALENDAR