BEGIN:VCALENDAR
VERSION:2.0
PRODID:-//Tenth Ward Distilling Company - ECPv6.15.20//NONSGML v1.0//EN
CALSCALE:GREGORIAN
METHOD:PUBLISH
X-ORIGINAL-URL:https://www.tenthwarddistilling.com
X-WR-CALDESC:Events for Tenth Ward Distilling Company
REFRESH-INTERVAL;VALUE=DURATION:PT1H
X-Robots-Tag:noindex
X-PUBLISHED-TTL:PT1H
BEGIN:VTIMEZONE
TZID:America/New_York
BEGIN:DAYLIGHT
TZOFFSETFROM:-0500
TZOFFSETTO:-0400
TZNAME:EDT
DTSTART:20240310T070000
END:DAYLIGHT
BEGIN:STANDARD
TZOFFSETFROM:-0400
TZOFFSETTO:-0500
TZNAME:EST
DTSTART:20241103T060000
END:STANDARD
BEGIN:DAYLIGHT
TZOFFSETFROM:-0500
TZOFFSETTO:-0400
TZNAME:EDT
DTSTART:20250309T070000
END:DAYLIGHT
BEGIN:STANDARD
TZOFFSETFROM:-0400
TZOFFSETTO:-0500
TZNAME:EST
DTSTART:20251102T060000
END:STANDARD
BEGIN:DAYLIGHT
TZOFFSETFROM:-0500
TZOFFSETTO:-0400
TZNAME:EDT
DTSTART:20260308T070000
END:DAYLIGHT
BEGIN:STANDARD
TZOFFSETFROM:-0400
TZOFFSETTO:-0500
TZNAME:EST
DTSTART:20261101T060000
END:STANDARD
END:VTIMEZONE
BEGIN:VEVENT
DTSTART;TZID=America/New_York:20250808T160000
DTEND;TZID=America/New_York:20250808T190000
DTSTAMP:20260423T195105
CREATED:20250718T115411Z
LAST-MODIFIED:20250718T115411Z
UID:8229-1754668800-1754679600@www.tenthwarddistilling.com
SUMMARY:Liquor Store Tasting - Potomac Liquor & Wine in Potomac\, MD
DESCRIPTION:Join us at Potomac Liquor & Wine in Potomac\, MD for complimentary samples of our spirits.
URL:https://www.tenthwarddistilling.com/event/liquor-store-tasting-potomac-liquor-wine-in-potomac-md-4/
LOCATION:Potomac Liquor & Wine\, 10132 River Rd\, Potomac\, MD\, 20854
CATEGORIES:Liquor Store Tastings
END:VEVENT
BEGIN:VEVENT
DTSTART;TZID=America/New_York:20250815T160000
DTEND;TZID=America/New_York:20250815T190000
DTSTAMP:20260423T195105
CREATED:20250718T115550Z
LAST-MODIFIED:20250718T115550Z
UID:8230-1755273600-1755284400@www.tenthwarddistilling.com
SUMMARY:Liquor Store Tasting - Darnestown Liquor & Wine in Gaithersburg\, MD
DESCRIPTION:Join us at Darnestown Liquor & Wine in Gaithersburg\, MD for complimentary samples of our spirits.
URL:https://www.tenthwarddistilling.com/event/liquor-store-tasting-darnestown-liquor-wine-in-gaithersburg-md-4/
LOCATION:Darnestown Liquor & Wine\, 12155 Darnestown Rd\, Gaithersburg\, MD\, 20878
CATEGORIES:Liquor Store Tastings
END:VEVENT
BEGIN:VEVENT
DTSTART;TZID=America/New_York:20250815T160000
DTEND;TZID=America/New_York:20250815T190000
DTSTAMP:20260423T195105
CREATED:20250718T115808Z
LAST-MODIFIED:20250718T115808Z
UID:8231-1755273600-1755284400@www.tenthwarddistilling.com
SUMMARY:Liquor Store Tasting - Montrose Liquor & Wine in Rockville\, MD
DESCRIPTION:Join us at Montrose Liquor & Wine in Rockville\, MD for complimentary samples of our spirits.
URL:https://www.tenthwarddistilling.com/event/liquor-store-tasting-montrose-liquor-wine-in-rockville-md-3/
LOCATION:Montrose Liquor & Wine\, 12015 Rockville Pike\, Rockville\, MD\, 20852
CATEGORIES:Liquor Store Tastings
END:VEVENT
BEGIN:VEVENT
DTSTART;TZID=America/New_York:20250822T150000
DTEND;TZID=America/New_York:20250822T180000
DTSTAMP:20260423T195105
CREATED:20250718T120543Z
LAST-MODIFIED:20250718T120543Z
UID:8234-1755874800-1755885600@www.tenthwarddistilling.com
SUMMARY:Liquor Store Tasting - The Perfect Pour in Elkridge\, MD
DESCRIPTION:Join us at The Perfect Pour in Elkridge\, MD for complimentary samples of our spirits.
URL:https://www.tenthwarddistilling.com/event/liquor-store-tasting-the-perfect-pour-in-elkridge-md-2/
LOCATION:The Perfect Pour\, 6630 Marie Curie Dr\, Elkridge\, MD\, 21075
CATEGORIES:Liquor Store Tastings
END:VEVENT
BEGIN:VEVENT
DTSTART;TZID=America/New_York:20250829T160000
DTEND;TZID=America/New_York:20250829T190000
DTSTAMP:20260423T195105
CREATED:20250718T120750Z
LAST-MODIFIED:20250718T120750Z
UID:8235-1756483200-1756494000@www.tenthwarddistilling.com
SUMMARY:Liquor Store Tasting - Gaithersburg Square Liquor and Wine in Gaithersburg\, MD
DESCRIPTION:Join us at Gaithersburg Square Liquor and Wine in Gaithersburg\, MD for complimentary samples of our spirits.
URL:https://www.tenthwarddistilling.com/event/liquor-store-tasting-gaithersburg-square-liquor-and-wine-in-gaithersburg-md/
LOCATION:Gaitherburg Square Liquor & Wine\, 524 N Frederick Ave\, Gaithersburg\, MD\, 20877
CATEGORIES:Liquor Store Tastings
END:VEVENT
BEGIN:VEVENT
DTSTART;TZID=America/New_York:20250829T160000
DTEND;TZID=America/New_York:20250829T190000
DTSTAMP:20260423T195105
CREATED:20250718T120917Z
LAST-MODIFIED:20250718T120917Z
UID:8236-1756483200-1756494000@www.tenthwarddistilling.com
SUMMARY:Liquor Store Tasting - Leisure World Liquor & Wine in Silver Spring\, MD
DESCRIPTION:Join us at Leisure World Liquor & Wine in Silver Spring\, MD for complimentary samples of our spirits.
URL:https://www.tenthwarddistilling.com/event/liquor-store-tasting-leisure-world-liquor-wine-in-silver-spring-md-3/
LOCATION:Leisure World Liquor Store\, 3824 International Dr\, Silver Spring\, MD\, United States
CATEGORIES:Liquor Store Tastings
END:VEVENT
END:VCALENDAR