BEGIN:VCALENDAR
VERSION:2.0
PRODID:-//Tenth Ward Distilling Company - ECPv6.15.20//NONSGML v1.0//EN
CALSCALE:GREGORIAN
METHOD:PUBLISH
X-ORIGINAL-URL:https://www.tenthwarddistilling.com
X-WR-CALDESC:Events for Tenth Ward Distilling Company
REFRESH-INTERVAL;VALUE=DURATION:PT1H
X-Robots-Tag:noindex
X-PUBLISHED-TTL:PT1H
BEGIN:VTIMEZONE
TZID:America/New_York
BEGIN:DAYLIGHT
TZOFFSETFROM:-0500
TZOFFSETTO:-0400
TZNAME:EDT
DTSTART:20230312T070000
END:DAYLIGHT
BEGIN:STANDARD
TZOFFSETFROM:-0400
TZOFFSETTO:-0500
TZNAME:EST
DTSTART:20231105T060000
END:STANDARD
BEGIN:DAYLIGHT
TZOFFSETFROM:-0500
TZOFFSETTO:-0400
TZNAME:EDT
DTSTART:20240310T070000
END:DAYLIGHT
BEGIN:STANDARD
TZOFFSETFROM:-0400
TZOFFSETTO:-0500
TZNAME:EST
DTSTART:20241103T060000
END:STANDARD
BEGIN:DAYLIGHT
TZOFFSETFROM:-0500
TZOFFSETTO:-0400
TZNAME:EDT
DTSTART:20250309T070000
END:DAYLIGHT
BEGIN:STANDARD
TZOFFSETFROM:-0400
TZOFFSETTO:-0500
TZNAME:EST
DTSTART:20251102T060000
END:STANDARD
END:VTIMEZONE
BEGIN:VEVENT
DTSTART;TZID=America/New_York:20240801T170000
DTEND;TZID=America/New_York:20240801T200000
DTSTAMP:20260421T120205
CREATED:20240619T120605Z
LAST-MODIFIED:20240619T120605Z
UID:7220-1722531600-1722542400@www.tenthwarddistilling.com
SUMMARY:Alive @ Five
DESCRIPTION:Stop by and see us at Alive @ Five at the Carroll Creek Amphitheater in Downtown Frederick.  We will have a delicious cocktail on draft for ya!
URL:https://downtownfrederick.org/upcoming-events/aliveatfive/#new_tab
LOCATION:Carroll Creek Amphitheater\, Frederick\, MD\, 21791
CATEGORIES:Off-Site Events
END:VEVENT
BEGIN:VEVENT
DTSTART;TZID=America/New_York:20240808T170000
DTEND;TZID=America/New_York:20240808T200000
DTSTAMP:20260421T120205
CREATED:20240619T121039Z
LAST-MODIFIED:20240619T121039Z
UID:7221-1723136400-1723147200@www.tenthwarddistilling.com
SUMMARY:Alive @ Five
DESCRIPTION:Stop by and see us at Alive @ Five at the Carroll Creek Amphitheater in Downtown Frederick.  We will have a delicious cocktail on draft for ya!
URL:https://downtownfrederick.org/upcoming-events/aliveatfive/#new_tab
LOCATION:Carroll Creek Amphitheater\, Frederick\, MD\, 21791
CATEGORIES:Off-Site Events
END:VEVENT
BEGIN:VEVENT
DTSTART;TZID=America/New_York:20240815T170000
DTEND;TZID=America/New_York:20240815T200000
DTSTAMP:20260421T120205
CREATED:20240619T121125Z
LAST-MODIFIED:20240619T121125Z
UID:7222-1723741200-1723752000@www.tenthwarddistilling.com
SUMMARY:Alive @ Five
DESCRIPTION:Stop by and see us at Alive @ Five at the Carroll Creek Amphitheater in Downtown Frederick.  We will have a delicious cocktail on draft for ya!
URL:https://downtownfrederick.org/upcoming-events/aliveatfive/#new_tab
LOCATION:Carroll Creek Amphitheater\, Frederick\, MD\, 21791
CATEGORIES:Off-Site Events
END:VEVENT
BEGIN:VEVENT
DTSTART;TZID=America/New_York:20240817T100000
DTEND;TZID=America/New_York:20240817T160000
DTSTAMP:20260421T120205
CREATED:20240729T124704Z
LAST-MODIFIED:20240729T124704Z
UID:7323-1723888800-1723910400@www.tenthwarddistilling.com
SUMMARY:Chartreuse & Co. Market
DESCRIPTION:Come support us at Chartreuse & Co. We will be serving up cocktails and selling bottles and canned cocktails 4-packs to-go.
URL:https://chartreuseandco.com/#new_tab
LOCATION:Chartreuse & Co\, 4007 Buckeystown Pike\, Frederick\, MD\, United States
CATEGORIES:Off-Site Events
END:VEVENT
BEGIN:VEVENT
DTSTART;TZID=America/New_York:20240822T170000
DTEND;TZID=America/New_York:20240822T200000
DTSTAMP:20260421T120205
CREATED:20240619T121214Z
LAST-MODIFIED:20240619T121214Z
UID:7223-1724346000-1724356800@www.tenthwarddistilling.com
SUMMARY:Alive @ Five
DESCRIPTION:Stop by and see us at Alive @ Five at the Carroll Creek Amphitheater in Downtown Frederick.  We will have a delicious cocktail on draft for ya!
URL:https://downtownfrederick.org/upcoming-events/aliveatfive/#new_tab
LOCATION:Carroll Creek Amphitheater\, Frederick\, MD\, 21791
CATEGORIES:Off-Site Events
END:VEVENT
BEGIN:VEVENT
DTSTART;TZID=America/New_York:20240829T170000
DTEND;TZID=America/New_York:20240829T200000
DTSTAMP:20260421T120205
CREATED:20240619T121300Z
LAST-MODIFIED:20240619T121300Z
UID:7224-1724950800-1724961600@www.tenthwarddistilling.com
SUMMARY:Alive @ Five
DESCRIPTION:Stop by and see us at Alive @ Five at the Carroll Creek Amphitheater in Downtown Frederick.  We will have a delicious cocktail on draft for ya!
URL:https://downtownfrederick.org/upcoming-events/aliveatfive/#new_tab
LOCATION:Carroll Creek Amphitheater\, Frederick\, MD\, 21791
CATEGORIES:Off-Site Events
END:VEVENT
END:VCALENDAR