BEGIN:VCALENDAR
VERSION:2.0
PRODID:-//Tenth Ward Distilling Company - ECPv6.15.20//NONSGML v1.0//EN
CALSCALE:GREGORIAN
METHOD:PUBLISH
X-ORIGINAL-URL:https://www.tenthwarddistilling.com
X-WR-CALDESC:Events for Tenth Ward Distilling Company
REFRESH-INTERVAL;VALUE=DURATION:PT1H
X-Robots-Tag:noindex
X-PUBLISHED-TTL:PT1H
BEGIN:VTIMEZONE
TZID:UTC
BEGIN:STANDARD
TZOFFSETFROM:+0000
TZOFFSETTO:+0000
TZNAME:UTC
DTSTART:20180101T000000
END:STANDARD
END:VTIMEZONE
BEGIN:VEVENT
DTSTART;TZID=UTC:20191110T090000
DTEND;TZID=UTC:20191110T133000
DTSTAMP:20260420T104535
CREATED:20191029T230009Z
LAST-MODIFIED:20191029T230009Z
UID:2664-1573376400-1573392600@www.tenthwarddistilling.com
SUMMARY:Bethesda Central Farmers Market
DESCRIPTION:Visit our tent at the Bethesda Central Farmers Market in Bethesda\, MD to sample and pick up a bottle of our spirits!
URL:https://www.tenthwarddistilling.com/event/bethesda-central-farmers-market-4/
LOCATION:Bethesda Central Farmers Market\, Bethesda\, MD\, United States
CATEGORIES:Farmers Markets,Off-Site Events
ATTACH;FMTTYPE=image/jpeg:https://www.tenthwarddistilling.com/wp-content/uploads/2019/08/bethesda-mkt.jpg
END:VEVENT
END:VCALENDAR