BEGIN:VCALENDAR
VERSION:2.0
PRODID:-//Tenth Ward Distilling Company - ECPv6.15.20//NONSGML v1.0//EN
CALSCALE:GREGORIAN
METHOD:PUBLISH
X-ORIGINAL-URL:https://www.tenthwarddistilling.com
X-WR-CALDESC:Events for Tenth Ward Distilling Company
REFRESH-INTERVAL;VALUE=DURATION:PT1H
X-Robots-Tag:noindex
X-PUBLISHED-TTL:PT1H
BEGIN:VTIMEZONE
TZID:UTC
BEGIN:STANDARD
TZOFFSETFROM:+0000
TZOFFSETTO:+0000
TZNAME:UTC
DTSTART:20180101T000000
END:STANDARD
END:VTIMEZONE
BEGIN:VEVENT
DTSTART;TZID=UTC:20191115T090000
DTEND;TZID=UTC:20191115T160000
DTSTAMP:20260420T002631
CREATED:20191029T230615Z
LAST-MODIFIED:20191029T230615Z
UID:2666-1573808400-1573833600@www.tenthwarddistilling.com
SUMMARY:Chartreuse & Co - Holiday Barn Opening
DESCRIPTION:Join Tenth Ward November 14-17 at Chartreuse & Co in Frederick for their Holiday Barn Opening! We’ll have cocktails\, spirits samples and bottles for sale — The perfect gift this holiday season! Click here to learn more.
URL:https://www.tenthwarddistilling.com/event/chartreuse-co-holiday-barn-opening-2/
LOCATION:Chartreuse & Co\, 4007 Buckeystown Pike\, Frederick\, MD\, United States
CATEGORIES:Off-Site Events
ATTACH;FMTTYPE=image/jpeg:https://www.tenthwarddistilling.com/wp-content/uploads/2019/10/chartreuse-co.jpg
END:VEVENT
BEGIN:VEVENT
DTSTART;TZID=UTC:20191115T170000
DTEND;TZID=UTC:20191115T200000
DTSTAMP:20260420T002631
CREATED:20191029T231225Z
LAST-MODIFIED:20191029T231225Z
UID:2669-1573837200-1573848000@www.tenthwarddistilling.com
SUMMARY:Liquor Store Tasting: Old Line Fine Wine\, Spirits & Bistro
DESCRIPTION:Join us at Old Line Fine Wine\, Spirits & Bistro in Beltsville\, MD for complimentary samples of our spirits!
URL:https://www.tenthwarddistilling.com/event/liquor-store-tasting-old-line-fine-wine-spirits-bistro/
LOCATION:Old Line Fine Wine\, Spirits & Bistro\, 11011 Baltimore Ave\, Beltsville\, MD\, United States
CATEGORIES:Liquor Store Tastings,Off-Site Events
ATTACH;FMTTYPE=image/jpeg:https://www.tenthwarddistilling.com/wp-content/uploads/2019/08/liquor-store-tasting.jpg
END:VEVENT
END:VCALENDAR