BEGIN:VCALENDAR
VERSION:2.0
PRODID:-//Tenth Ward Distilling Company - ECPv6.15.20//NONSGML v1.0//EN
CALSCALE:GREGORIAN
METHOD:PUBLISH
X-ORIGINAL-URL:https://www.tenthwarddistilling.com
X-WR-CALDESC:Events for Tenth Ward Distilling Company
REFRESH-INTERVAL;VALUE=DURATION:PT1H
X-Robots-Tag:noindex
X-PUBLISHED-TTL:PT1H
BEGIN:VTIMEZONE
TZID:America/New_York
BEGIN:DAYLIGHT
TZOFFSETFROM:-0500
TZOFFSETTO:-0400
TZNAME:EDT
DTSTART:20230312T070000
END:DAYLIGHT
BEGIN:STANDARD
TZOFFSETFROM:-0400
TZOFFSETTO:-0500
TZNAME:EST
DTSTART:20231105T060000
END:STANDARD
BEGIN:DAYLIGHT
TZOFFSETFROM:-0500
TZOFFSETTO:-0400
TZNAME:EDT
DTSTART:20240310T070000
END:DAYLIGHT
BEGIN:STANDARD
TZOFFSETFROM:-0400
TZOFFSETTO:-0500
TZNAME:EST
DTSTART:20241103T060000
END:STANDARD
BEGIN:DAYLIGHT
TZOFFSETFROM:-0500
TZOFFSETTO:-0400
TZNAME:EDT
DTSTART:20250309T070000
END:DAYLIGHT
BEGIN:STANDARD
TZOFFSETFROM:-0400
TZOFFSETTO:-0500
TZNAME:EST
DTSTART:20251102T060000
END:STANDARD
END:VTIMEZONE
BEGIN:VEVENT
DTSTART;VALUE=DATE:20241011
DTEND;VALUE=DATE:20241014
DTSTAMP:20260421T064803
CREATED:20240828T194629Z
LAST-MODIFIED:20240828T194629Z
UID:7470-1728604800-1728863999@www.tenthwarddistilling.com
SUMMARY:The Ramble Festival
DESCRIPTION:Stop by and see us at The Ramble Festival at Camp Ramblewood in Darlington\, MD for a weekend of cool vibes and amazing music!
URL:https://www.ramblefestival.com/#new_tab
LOCATION:Camp Ramblewood\, 2564 Silver Rd\, Darlington\,\, MD\, 21034
CATEGORIES:Off-Site Events
END:VEVENT
BEGIN:VEVENT
DTSTART;TZID=America/New_York:20241012T120000
DTEND;TZID=America/New_York:20241012T170000
DTSTAMP:20260421T064803
CREATED:20220813T223825Z
LAST-MODIFIED:20240828T214751Z
UID:5015-1728734400-1728752400@www.tenthwarddistilling.com
SUMMARY:Hops and Harvest Festival
DESCRIPTION:Join us at the annual Hops & Harvest Festival in Columbia\, MD on October 12th\, 12-5 pm. \nEnjoy an enormous group of local beer\, wine\, and spirit vendors\, as well as local artisans\, food\, and live music. Trust us… you won’t want to miss this one!
URL:https://hopsandharvestfest.com/tickets?gad_source=1&#038;gclid=CjwKCAjwlbu2BhA3EiwA3yXyu6-ploPF0DBeB0WarMQ1PoQG_eTimhXYMlvsBdtQdqxIMBgGjQNnFhoCyT8QAvD_BwE#new_tab
LOCATION:Merriweather Park at Symphony Woods\, 10431 Little Patuxent Parkway\, Columbia\, MD\, 21044
CATEGORIES:Off-Site Events
END:VEVENT
BEGIN:VEVENT
DTSTART;TZID=America/New_York:20241012T150000
DTEND;TZID=America/New_York:20241012T220000
DTSTAMP:20260421T064803
CREATED:20231010T011354Z
LAST-MODIFIED:20240918T003148Z
UID:6482-1728745200-1728770400@www.tenthwarddistilling.com
SUMMARY:Corn Maze Crawl at South Mountain Creamery
DESCRIPTION:Save the date for the only corn maze you’ll want to get lost in! South Mountain Creamery will be hosting local wineries\, breweries\, and distilleries for the ultimate corn maze experience! Grab a drink and wander through the winding Snallygaster-themed maze…what could go wrong!?
URL:https://southmountaincreamery.com/visit/events/#new_tab
LOCATION:South Mountain Creamery\, 8305 Bolivar Rd.\, Middletown\, MD\, 21769
CATEGORIES:Off-Site Events
END:VEVENT
END:VCALENDAR