BEGIN:VCALENDAR
VERSION:2.0
PRODID:-//Tenth Ward Distilling Company - ECPv6.15.20//NONSGML v1.0//EN
CALSCALE:GREGORIAN
METHOD:PUBLISH
X-WR-CALNAME:Tenth Ward Distilling Company
X-ORIGINAL-URL:https://www.tenthwarddistilling.com
X-WR-CALDESC:Events for Tenth Ward Distilling Company
REFRESH-INTERVAL;VALUE=DURATION:PT1H
X-Robots-Tag:noindex
X-PUBLISHED-TTL:PT1H
BEGIN:VTIMEZONE
TZID:America/New_York
BEGIN:DAYLIGHT
TZOFFSETFROM:-0500
TZOFFSETTO:-0400
TZNAME:EDT
DTSTART:20250309T070000
END:DAYLIGHT
BEGIN:STANDARD
TZOFFSETFROM:-0400
TZOFFSETTO:-0500
TZNAME:EST
DTSTART:20251102T060000
END:STANDARD
BEGIN:DAYLIGHT
TZOFFSETFROM:-0500
TZOFFSETTO:-0400
TZNAME:EDT
DTSTART:20260308T070000
END:DAYLIGHT
BEGIN:STANDARD
TZOFFSETFROM:-0400
TZOFFSETTO:-0500
TZNAME:EST
DTSTART:20261101T060000
END:STANDARD
BEGIN:DAYLIGHT
TZOFFSETFROM:-0500
TZOFFSETTO:-0400
TZNAME:EDT
DTSTART:20270314T070000
END:DAYLIGHT
BEGIN:STANDARD
TZOFFSETFROM:-0400
TZOFFSETTO:-0500
TZNAME:EST
DTSTART:20271107T060000
END:STANDARD
END:VTIMEZONE
BEGIN:VEVENT
DTSTART;TZID=America/New_York:20260424T180000
DTEND;TZID=America/New_York:20260424T210000
DTSTAMP:20260424T184455
CREATED:20250429T012659Z
LAST-MODIFIED:20260420T183321Z
UID:8028-1777053600-1777064400@www.tenthwarddistilling.com
SUMMARY:Sip and Support at the Holy Redeemer School in College Park
DESCRIPTION:Come by and see us at the 4th Annual Sip and Support at the Holy Redeemer School in College Park\, MD from 6-9 PM.
URL:https://www.eventbrite.com/e/sip-and-support-2026-tickets-1982405042848#new_tab
LOCATION:Holy Redeemer\, 4902 Berwyn Rd\, College Park\, MD\, 20740
CATEGORIES:Off-Site Events
ATTACH;FMTTYPE=image/jpeg:https://www.tenthwarddistilling.com/wp-content/uploads/2025/04/sip-and-support.jpg
END:VEVENT
BEGIN:VEVENT
DTSTART;TZID=America/New_York:20260425T090000
DTEND;TZID=America/New_York:20260425T160000
DTSTAMP:20260424T184455
CREATED:20260407T163348Z
LAST-MODIFIED:20260407T163348Z
UID:8726-1777107600-1777132800@www.tenthwarddistilling.com
SUMMARY:Frederick FiberFest
DESCRIPTION:Come by and see us at the Frederick FiberFest at the Frederick Fairgrounds from 9-4 pm!
URL:https://www.frederickfiberfest.com/spring2026#new_tab
LOCATION:Frederick Fairgrounds – Home of The Great Frederick Fair\, 797 East Patrick Street\, Frederick\, MD\, 21701\, United States
CATEGORIES:Off-Site Events
END:VEVENT
BEGIN:VEVENT
DTSTART;TZID=America/New_York:20260502T100000
DTEND;TZID=America/New_York:20260502T200000
DTSTAMP:20260424T184455
CREATED:20260420T190006Z
LAST-MODIFIED:20260420T190006Z
UID:8743-1777716000-1777752000@www.tenthwarddistilling.com
SUMMARY:Townson Town Spring Festival
DESCRIPTION:Join us at the Townstown Spring Festival for a day filled with delicious cocktails\, live music\, and amazing local food vendors—come sip\, savor\, and celebrate with Tenth Ward!
URL:https://www.towsontownfestival.com/#new_tab
LOCATION:Towsontown Spring Festival\, 44 W Chesapeake Ave\, Towson\, MD\, 21204
CATEGORIES:Off-Site Events
END:VEVENT
BEGIN:VEVENT
DTSTART;TZID=America/New_York:20260502T120000
DTEND;TZID=America/New_York:20260502T160000
DTSTAMP:20260424T184455
CREATED:20260420T190306Z
LAST-MODIFIED:20260420T190306Z
UID:8745-1777723200-1777737600@www.tenthwarddistilling.com
SUMMARY:Sykesville Art & Wine Festival
DESCRIPTION:Come by and see us at the Sykesville Art & Wine Festival this Saturday from 12-4 PM!
URL:https://www.downtownsykesville.com/art-wine-festival/#new_tab
LOCATION:Main Street Sykesville\, 7566 Main St\, Sykesville\, MD\, 21784
CATEGORIES:Off-Site Events
END:VEVENT
BEGIN:VEVENT
DTSTART;TZID=America/New_York:20260503T130000
DTEND;TZID=America/New_York:20260503T180000
DTSTAMP:20260424T184455
CREATED:20260420T190107Z
LAST-MODIFIED:20260420T190107Z
UID:8744-1777813200-1777831200@www.tenthwarddistilling.com
SUMMARY:Townson Town Spring Festival
DESCRIPTION:Join us at the Townstown Spring Festival for a day filled with delicious cocktails\, live music\, and amazing local food vendors—come sip\, savor\, and celebrate with Tenth Ward!
URL:https://www.towsontownfestival.com/#new_tab
LOCATION:Towsontown Spring Festival\, 44 W Chesapeake Ave\, Towson\, MD\, 21204
CATEGORIES:Off-Site Events
END:VEVENT
END:VCALENDAR