BEGIN:VCALENDAR
VERSION:2.0
PRODID:-//Tenth Ward Distilling Company - ECPv6.15.20//NONSGML v1.0//EN
CALSCALE:GREGORIAN
METHOD:PUBLISH
X-WR-CALNAME:Tenth Ward Distilling Company
X-ORIGINAL-URL:https://www.tenthwarddistilling.com
X-WR-CALDESC:Events for Tenth Ward Distilling Company
REFRESH-INTERVAL;VALUE=DURATION:PT1H
X-Robots-Tag:noindex
X-PUBLISHED-TTL:PT1H
BEGIN:VTIMEZONE
TZID:America/New_York
BEGIN:DAYLIGHT
TZOFFSETFROM:-0500
TZOFFSETTO:-0400
TZNAME:EDT
DTSTART:20250309T070000
END:DAYLIGHT
BEGIN:STANDARD
TZOFFSETFROM:-0400
TZOFFSETTO:-0500
TZNAME:EST
DTSTART:20251102T060000
END:STANDARD
BEGIN:DAYLIGHT
TZOFFSETFROM:-0500
TZOFFSETTO:-0400
TZNAME:EDT
DTSTART:20260308T070000
END:DAYLIGHT
BEGIN:STANDARD
TZOFFSETFROM:-0400
TZOFFSETTO:-0500
TZNAME:EST
DTSTART:20261101T060000
END:STANDARD
BEGIN:DAYLIGHT
TZOFFSETFROM:-0500
TZOFFSETTO:-0400
TZNAME:EDT
DTSTART:20270314T070000
END:DAYLIGHT
BEGIN:STANDARD
TZOFFSETFROM:-0400
TZOFFSETTO:-0500
TZNAME:EST
DTSTART:20271107T060000
END:STANDARD
END:VTIMEZONE
BEGIN:VEVENT
DTSTART;TZID=America/New_York:20260520T140000
DTEND;TZID=America/New_York:20260520T220000
DTSTAMP:20260421T000508
CREATED:20260420T192445Z
LAST-MODIFIED:20260420T192445Z
UID:8759-1779285600-1779314400@www.tenthwarddistilling.com
SUMMARY:Wednesdays = $8 Smoked Bourbon Old Fashioneds
DESCRIPTION:Wednesdays are the new Friday! $8 Smoked Bourbon Old Fashioneds available open – close.
URL:https://www.tenthwarddistilling.com/event/wednesdays-8-smoked-bourbon-old-fashioneds-55/
LOCATION:Tenth Ward Distilling Company\, 55 E Patrick Street\, Frederick\, MD\, 21701\, United States
CATEGORIES:On-Site Events
ATTACH;FMTTYPE=image/jpeg:https://www.tenthwarddistilling.com/wp-content/uploads/2025/04/Smoked-Bourbon-Old-Fashioned.jpg
END:VEVENT
BEGIN:VEVENT
DTSTART;TZID=America/New_York:20260520T190000
DTEND;TZID=America/New_York:20260520T210000
DTSTAMP:20260421T000508
CREATED:20260125T202904Z
LAST-MODIFIED:20260125T202904Z
UID:8552-1779303600-1779310800@www.tenthwarddistilling.com
SUMMARY:FCC: Mixology: The Basics of Cocktail Tools\, Ingredients and Recipe Development
DESCRIPTION:Learn from Tenth Ward Distilling Company’s mixology experts and become a cocktail aficionado from home. By the end of this interactive two hour course\, participants will be able to use and identify standard mixology tools such as shakers\, strainers\, jiggers and more; know the building blocks of a standard cocktail; understand how cocktail ingredients such as simple syrups and garnishes are prepared; and identify a number of classic cocktails. Participants will also have the opportunity to craft and enjoy their own cocktail and taste and learn about a number of complex cocktails developed by the Tenth Ward team.
URL:https://frederick.augusoft.net/index.cfm?method=ClassInfo.ClassInformation&#038;int_class_id=30191#new_tab
LOCATION:Tenth Ward Distilling Company\, 55 E Patrick Street\, Frederick\, MD\, 21701\, United States
CATEGORIES:On-Site Events
END:VEVENT
BEGIN:VEVENT
DTSTART;TZID=America/New_York:20260524T121500
DTEND;TZID=America/New_York:20260524T150000
DTSTAMP:20260421T000508
CREATED:20260420T192022Z
LAST-MODIFIED:20260420T192022Z
UID:8755-1779624900-1779634800@www.tenthwarddistilling.com
SUMMARY:Pour House Trivia at Tenth Ward Distilling Co.
DESCRIPTION:Come spend your Sundays at Tenth Ward! Join us every week for trivia with Pour House Trivia kicking off at 12:15 PM—great drinks\, good company\, and a little friendly competition.
URL:https://www.pourhousetrivia.com/#new_tab
LOCATION:Tenth Ward Distilling Company\, 55 E Patrick Street\, Frederick\, MD\, 21701\, United States
CATEGORIES:On-Site Events
END:VEVENT
BEGIN:VEVENT
DTSTART;TZID=America/New_York:20260527T140000
DTEND;TZID=America/New_York:20260527T220000
DTSTAMP:20260421T000508
CREATED:20260420T192545Z
LAST-MODIFIED:20260420T192545Z
UID:8760-1779890400-1779919200@www.tenthwarddistilling.com
SUMMARY:Wednesdays = $8 Smoked Bourbon Old Fashioneds
DESCRIPTION:Wednesdays are the new Friday! $8 Smoked Bourbon Old Fashioneds available open – close.
URL:https://www.tenthwarddistilling.com/event/wednesdays-8-smoked-bourbon-old-fashioneds-56/
LOCATION:Tenth Ward Distilling Company\, 55 E Patrick Street\, Frederick\, MD\, 21701\, United States
CATEGORIES:On-Site Events
ATTACH;FMTTYPE=image/jpeg:https://www.tenthwarddistilling.com/wp-content/uploads/2025/04/Smoked-Bourbon-Old-Fashioned.jpg
END:VEVENT
BEGIN:VEVENT
DTSTART;TZID=America/New_York:20260531T121500
DTEND;TZID=America/New_York:20260531T150000
DTSTAMP:20260421T000508
CREATED:20260420T192130Z
LAST-MODIFIED:20260420T192130Z
UID:8756-1780229700-1780239600@www.tenthwarddistilling.com
SUMMARY:Pour House Trivia at Tenth Ward Distilling Co.
DESCRIPTION:Come spend your Sundays at Tenth Ward! Join us every week for trivia with Pour House Trivia kicking off at 12:15 PM—great drinks\, good company\, and a little friendly competition.
URL:https://www.pourhousetrivia.com/#new_tab
LOCATION:Tenth Ward Distilling Company\, 55 E Patrick Street\, Frederick\, MD\, 21701\, United States
CATEGORIES:On-Site Events
END:VEVENT
BEGIN:VEVENT
DTSTART;TZID=America/New_York:20260603T140000
DTEND;TZID=America/New_York:20260603T220000
DTSTAMP:20260421T000508
CREATED:20260420T192648Z
LAST-MODIFIED:20260420T192648Z
UID:8761-1780495200-1780524000@www.tenthwarddistilling.com
SUMMARY:Wednesdays = $8 Smoked Bourbon Old Fashioneds
DESCRIPTION:Wednesdays are the new Friday! $8 Smoked Bourbon Old Fashioneds available open – close.
URL:https://www.tenthwarddistilling.com/event/wednesdays-8-smoked-bourbon-old-fashioneds-57/
LOCATION:Tenth Ward Distilling Company\, 55 E Patrick Street\, Frederick\, MD\, 21701\, United States
CATEGORIES:On-Site Events
ATTACH;FMTTYPE=image/jpeg:https://www.tenthwarddistilling.com/wp-content/uploads/2025/04/Smoked-Bourbon-Old-Fashioned.jpg
END:VEVENT
BEGIN:VEVENT
DTSTART;TZID=America/New_York:20260603T180000
DTEND;TZID=America/New_York:20260603T200000
DTSTAMP:20260421T000508
CREATED:20260420T192928Z
LAST-MODIFIED:20260420T192928Z
UID:8763-1780509600-1780516800@www.tenthwarddistilling.com
SUMMARY:Tenth Ward Game Night Meet Up
DESCRIPTION:Join us for our game night meet up revamp at Tenth Ward Distilling Co.! Bring friends and games (if you want). Some games will be provided. Smoked Old Fashioneds will be on special for $8 and Maxwell’s next door is offering 10% off food menu items from 5:30-7:00.
URL:https://www.tenthwarddistilling.com/event/tenth-ward-game-night-meet-up-8/
LOCATION:Tenth Ward Distilling Company\, 55 E Patrick Street\, Frederick\, MD\, 21701\, United States
CATEGORIES:On-Site Events
ATTACH;FMTTYPE=image/jpeg:https://www.tenthwarddistilling.com/wp-content/uploads/2026/03/TW_GameNight_SQ-2.jpg
END:VEVENT
END:VCALENDAR