BEGIN:VCALENDAR
VERSION:2.0
PRODID:-//Tenth Ward Distilling Company - ECPv6.15.20//NONSGML v1.0//EN
CALSCALE:GREGORIAN
METHOD:PUBLISH
X-WR-CALNAME:Tenth Ward Distilling Company
X-ORIGINAL-URL:https://www.tenthwarddistilling.com
X-WR-CALDESC:Events for Tenth Ward Distilling Company
REFRESH-INTERVAL;VALUE=DURATION:PT1H
X-Robots-Tag:noindex
X-PUBLISHED-TTL:PT1H
BEGIN:VTIMEZONE
TZID:America/New_York
BEGIN:DAYLIGHT
TZOFFSETFROM:-0500
TZOFFSETTO:-0400
TZNAME:EDT
DTSTART:20240310T070000
END:DAYLIGHT
BEGIN:STANDARD
TZOFFSETFROM:-0400
TZOFFSETTO:-0500
TZNAME:EST
DTSTART:20241103T060000
END:STANDARD
BEGIN:DAYLIGHT
TZOFFSETFROM:-0500
TZOFFSETTO:-0400
TZNAME:EDT
DTSTART:20250309T070000
END:DAYLIGHT
BEGIN:STANDARD
TZOFFSETFROM:-0400
TZOFFSETTO:-0500
TZNAME:EST
DTSTART:20251102T060000
END:STANDARD
BEGIN:DAYLIGHT
TZOFFSETFROM:-0500
TZOFFSETTO:-0400
TZNAME:EDT
DTSTART:20260308T070000
END:DAYLIGHT
BEGIN:STANDARD
TZOFFSETFROM:-0400
TZOFFSETTO:-0500
TZNAME:EST
DTSTART:20261101T060000
END:STANDARD
END:VTIMEZONE
BEGIN:VEVENT
DTSTART;VALUE=DATE:20251206
DTEND;VALUE=DATE:20251208
DTSTAMP:20260423T031639
CREATED:20251112T233812Z
LAST-MODIFIED:20251122T205221Z
UID:8446-1764979200-1765151999@www.tenthwarddistilling.com
SUMMARY:5th Annual Hello Holidays Makers Market
DESCRIPTION:Stop by and see us at the 5th Annual Hello Holidays Makers Market!  We will be joining over 60 0ther vendors and delicious food trucks!\n\nDecember 6\, 2025 10:00 AM-4:00 PMDecember 7\, 2025 10:00 AM-2:00 PM
URL:https://www.facebook.com/share/17Tk8Uy7Nr/#new_tab
LOCATION:Frederick Fairgrounds – Home of The Great Frederick Fair\, 797 East Patrick Street\, Frederick\, MD\, 21701\, United States
CATEGORIES:Off-Site Events
ATTACH;FMTTYPE=image/jpeg:https://www.tenthwarddistilling.com/wp-content/uploads/2025/11/Hello-Holidays.jpg
END:VEVENT
BEGIN:VEVENT
DTSTART;TZID=America/New_York:20251205T200000
DTEND;TZID=America/New_York:20251205T220000
DTSTAMP:20260423T031639
CREATED:20251112T232343Z
LAST-MODIFIED:20251112T232343Z
UID:8442-1764964800-1764972000@www.tenthwarddistilling.com
SUMMARY:Live Music at the Cocktail Bar with Anthony Hurley
DESCRIPTION:Every Friday from 8:00-10:00 pm in the Cocktail Bar we’ll be servin’ up our deliciously wild concoctions and some sweet tunes to get your weekend started off right. Keep reading for our next melodious entertainer: Anthony Hurley
URL:https://www.facebook.com/p/Anthony-Hurley-Music-100092515330420/#new_tab
LOCATION:Tenth Ward Distilling Company\, 55 E Patrick Street\, Frederick\, MD\, 21701\, United States
CATEGORIES:Live Music
END:VEVENT
BEGIN:VEVENT
DTSTART;TZID=America/New_York:20251205T160000
DTEND;TZID=America/New_York:20251205T190000
DTSTAMP:20260423T031639
CREATED:20251122T205045Z
LAST-MODIFIED:20251122T205045Z
UID:8481-1764950400-1764961200@www.tenthwarddistilling.com
SUMMARY:Liquor Store Tasting: Montgomery County Oak Barrel & Vine in Wheaton\, MD
DESCRIPTION:Come hang out with us at Montgomery County Oak Barrel & Vine in Wheaton\, MD\, and enjoy complimentary tastings of our spirits.
URL:https://www.tenthwarddistilling.com/event/liquor-store-tasting-montgomery-county-oak-barrel-vine-in-wheaton-md/
LOCATION:Wheaton Oak Barrel & Vine\, 11160 Veirs Mill Rd Spc P212\, Wheaton\, MD\, 20902
CATEGORIES:Liquor Store Tastings
ATTACH;FMTTYPE=image/jpeg:https://www.tenthwarddistilling.com/wp-content/uploads/2025/11/OBVLogo-1.jpg
END:VEVENT
BEGIN:VEVENT
DTSTART;TZID=America/New_York:20251205T160000
DTEND;TZID=America/New_York:20251205T190000
DTSTAMP:20260423T031639
CREATED:20251122T204430Z
LAST-MODIFIED:20251122T204430Z
UID:8478-1764950400-1764961200@www.tenthwarddistilling.com
SUMMARY:Liquor Store Tasting: College Square Liquors in Westminster\, MD
DESCRIPTION:Come hang out with us at College Square Liquors in Westminster\, MD\, and enjoy complimentary tastings of our spirits.
URL:https://collegesquarecraft.com/#new_tab
LOCATION:College Square Liquors\, 444 WMC Drive #106\, Westminster\, MD
CATEGORIES:Liquor Store Tastings
ATTACH;FMTTYPE=image/png:https://www.tenthwarddistilling.com/wp-content/uploads/2025/11/CollegeSquare-Logo1.png
END:VEVENT
BEGIN:VEVENT
DTSTART;TZID=America/New_York:20251204T190000
DTEND;TZID=America/New_York:20251204T210000
DTSTAMP:20260423T031639
CREATED:20251112T231731Z
LAST-MODIFIED:20251112T231731Z
UID:8439-1764874800-1764882000@www.tenthwarddistilling.com
SUMMARY:Live Music at the Cocktail Bar with Odie And The Country Band
DESCRIPTION:This Thursday from 7:00-9:00 pm in the Cocktail Bar we’ll be servin’ up our deliciously wild concoctions and some sweet tunes to get your weekend started off right. Keep reading for our next melodious entertainer: Odie And The Country Band
URL:https://www.odieandthecountryband.com/?utm_source=google&#038;utm_medium=wix_google_business_profile&#038;utm_campaign=13554621109638161599#new_tab
LOCATION:Tenth Ward Distilling Company\, 55 E Patrick Street\, Frederick\, MD\, 21701\, United States
CATEGORIES:Live Music
END:VEVENT
BEGIN:VEVENT
DTSTART;TZID=America/New_York:20251203T140000
DTEND;TZID=America/New_York:20251203T220000
DTSTAMP:20260423T031639
CREATED:20251027T155058Z
LAST-MODIFIED:20251027T155058Z
UID:8387-1764770400-1764799200@www.tenthwarddistilling.com
SUMMARY:Wednesdays = $8 Smoked Bourbon Old Fashioneds
DESCRIPTION:Wednesdays are the new Friday! $8 Smoked Bourbon Old Fashioneds available open – close.
URL:https://www.tenthwarddistilling.com/event/wednesdays-8-smoked-bourbon-old-fashioneds-32/
LOCATION:Tenth Ward Distilling Company\, 55 E Patrick Street\, Frederick\, MD\, 21701\, United States
CATEGORIES:On-Site Events
ATTACH;FMTTYPE=image/jpeg:https://www.tenthwarddistilling.com/wp-content/uploads/2025/04/Smoked-Bourbon-Old-Fashioned.jpg
END:VEVENT
BEGIN:VEVENT
DTSTART;TZID=America/New_York:20251129T090000
DTEND;TZID=America/New_York:20251129T130000
DTSTAMP:20260423T031639
CREATED:20251029T222017Z
LAST-MODIFIED:20251029T222017Z
UID:8404-1764406800-1764421200@www.tenthwarddistilling.com
SUMMARY:Silver Spring Farmers Market
DESCRIPTION:Come support us at Silver Spring Farmers Market this Saturday! We’ll be selling bottles and canned cocktails to go.
URL:https://www.freshfarm.org/markets/downtown-silver-spring#new_tab
LOCATION:Silver Spring Farmers Market\, 890 Ellsworth Dr\, Silver Spring\, MD\, 20910\, United States
CATEGORIES:Farmers Markets
END:VEVENT
BEGIN:VEVENT
DTSTART;TZID=America/New_York:20251128T120000
DTEND;TZID=America/New_York:20251128T230000
DTSTAMP:20260423T031639
CREATED:20251113T022934Z
LAST-MODIFIED:20251113T023313Z
UID:8456-1764331200-1764370800@www.tenthwarddistilling.com
SUMMARY:Winter Liqueur Release
DESCRIPTION:Winter just got a little warmer… Bundle up\, swing by the Tenth Ward Cocktail Bar and Tasting Room\, and be the first to take home this limited seasonal favorite before it disappears for the year.Tenth Ward’s Winter Liqueur – our original apple brandy infused with everything Winter: tart cherries\, hazelnuts\, white peppercorn\, allspice\, red sandalwood\, whole mace\, rooibos tea\, whole vanilla bean\, and sweetened with local honey. Tastes like nips of warm fireplace and… Yeah\, it’s basically Winter in a bottle.
URL:https://www.facebook.com/share/1AeSqgjg1C/#new_tab
LOCATION:Tenth Ward Distilling Company\, 55 E Patrick Street\, Frederick\, MD\, 21701\, United States
CATEGORIES:On-Site Events
ATTACH;FMTTYPE=image/png:https://www.tenthwarddistilling.com/wp-content/uploads/2020/12/Screen-Shot-2020-12-10-at-9.29.24-AM.png
END:VEVENT
BEGIN:VEVENT
DTSTART;TZID=America/New_York:20251128T120000
DTEND;TZID=America/New_York:20251128T140000
DTSTAMP:20260423T031639
CREATED:20251029T225723Z
LAST-MODIFIED:20251029T225723Z
UID:8422-1764331200-1764338400@www.tenthwarddistilling.com
SUMMARY:Liquor Store Tasting - Mt. Airy Liquors
DESCRIPTION:Come by and see us at Mt. Airy Liquors’ Black Friday Tasting Event for complementary samples of our spirits and cocktails
URL:https://mtairyliquors.com/#new_tab
LOCATION:Mt. Airy Liquors\, 321 E Ridgeville Blvd\, Mt. Airy\, MD\, United States
CATEGORIES:Liquor Store Tastings
END:VEVENT
BEGIN:VEVENT
DTSTART;TZID=America/New_York:20251128T100000
DTEND;TZID=America/New_York:20251130T170000
DTSTAMP:20260423T031639
CREATED:20231017T182357Z
LAST-MODIFIED:20251029T224734Z
UID:6575-1764324000-1764522000@www.tenthwarddistilling.com
SUMMARY:Maryland Christmas Show
DESCRIPTION:We are joining other amazing vendors at this year’s Maryland Christmas Show at the Frederick Fairgrounds.  Stop by and see us\, we are ready to help you with that holiday shopping!
URL:https://www.marylandchristmasshow.com/#new_tab
LOCATION:Frederick Fairgrounds – Home of The Great Frederick Fair\, 797 East Patrick Street\, Frederick\, MD\, 21701\, United States
CATEGORIES:Off-Site Events
ATTACH;FMTTYPE=image/jpeg:https://www.tenthwarddistilling.com/wp-content/uploads/2023/10/md-xmas.jpg
END:VEVENT
BEGIN:VEVENT
DTSTART;TZID=America/New_York:20251126T190000
DTEND;TZID=America/New_York:20251126T210000
DTSTAMP:20260423T031639
CREATED:20251029T225354Z
LAST-MODIFIED:20251029T225354Z
UID:8421-1764183600-1764190800@www.tenthwarddistilling.com
SUMMARY:Live Music at the Cocktail Bar with Cole Larravide
DESCRIPTION:This Wednesday from 7:00–9:00 pm in the Cocktail Bar\, we’ll be shakin’ up our signature wild concoctions and serving a side of smooth tunes to get you through the week. Up next on stage: Cole Larravide
URL:https://www.colelarravide.com/#new_tab
LOCATION:Tenth Ward Distilling Company\, 55 E Patrick Street\, Frederick\, MD\, 21701\, United States
CATEGORIES:Live Music
END:VEVENT
BEGIN:VEVENT
DTSTART;TZID=America/New_York:20251126T140000
DTEND;TZID=America/New_York:20251126T220000
DTSTAMP:20260423T031639
CREATED:20251027T154934Z
LAST-MODIFIED:20251027T154934Z
UID:8386-1764165600-1764194400@www.tenthwarddistilling.com
SUMMARY:Wednesdays = $8 Smoked Bourbon Old Fashioneds
DESCRIPTION:Wednesdays are the new Friday! $8 Smoked Bourbon Old Fashioneds available open – close.
URL:https://www.tenthwarddistilling.com/event/wednesdays-8-smoked-bourbon-old-fashioneds-31/
LOCATION:Tenth Ward Distilling Company\, 55 E Patrick Street\, Frederick\, MD\, 21701\, United States
CATEGORIES:On-Site Events
ATTACH;FMTTYPE=image/jpeg:https://www.tenthwarddistilling.com/wp-content/uploads/2025/04/Smoked-Bourbon-Old-Fashioned.jpg
END:VEVENT
BEGIN:VEVENT
DTSTART;TZID=America/New_York:20251125T100000
DTEND;TZID=America/New_York:20251125T140000
DTSTAMP:20260423T031639
CREATED:20251122T212711Z
LAST-MODIFIED:20251122T212711Z
UID:8486-1764064800-1764079200@www.tenthwarddistilling.com
SUMMARY:Pike Central Farm Market - Thanksgiving Market
DESCRIPTION:Come support us at the Pike Central Farm Market – Thanksgiving Market this Tuesday! We’ll be selling bottles and canned cocktails to go.
URL:https://www.centralfarmmarkets.com/pike#new_tab
LOCATION:Pike & Rose\, 935 Prose Street\, North Bethesda\, MD\, 20852
CATEGORIES:Farmers Markets
ATTACH;FMTTYPE=image/jpeg:https://www.tenthwarddistilling.com/wp-content/uploads/2025/11/CFMLogo_BlackText.jpg
END:VEVENT
BEGIN:VEVENT
DTSTART;TZID=America/New_York:20251122T090000
DTEND;TZID=America/New_York:20251122T130000
DTSTAMP:20260423T031639
CREATED:20251029T221929Z
LAST-MODIFIED:20251029T221929Z
UID:8403-1763802000-1763816400@www.tenthwarddistilling.com
SUMMARY:Silver Spring Farmers Market
DESCRIPTION:Come support us at Silver Spring Farmers Market this Saturday! We’ll be selling bottles and canned cocktails to go.
URL:https://www.freshfarm.org/markets/downtown-silver-spring#new_tab
LOCATION:Silver Spring Farmers Market\, 890 Ellsworth Dr\, Silver Spring\, MD\, 20910\, United States
CATEGORIES:Farmers Markets
END:VEVENT
BEGIN:VEVENT
DTSTART;TZID=America/New_York:20251121T200000
DTEND;TZID=America/New_York:20251121T220000
DTSTAMP:20260423T031639
CREATED:20251029T224249Z
LAST-MODIFIED:20251029T224249Z
UID:8417-1763755200-1763762400@www.tenthwarddistilling.com
SUMMARY:Live Music at the Cocktail Bar with Metz & Kline
DESCRIPTION:Every Friday from 8:00-10:00 pm in the Cocktail Bar we’ll be servin’ up our deliciously wild concoctions and some sweet tunes to get your weekend started off right. Keep reading for our next melodious entertainers: Metz & Kline
URL:https://www.tenthwarddistilling.com/event/live-music-at-the-cocktail-bar-with-metz-kline/
LOCATION:Tenth Ward Distilling Company\, 55 E Patrick Street\, Frederick\, MD\, 21701\, United States
CATEGORIES:Live Music
END:VEVENT
BEGIN:VEVENT
DTSTART;TZID=America/New_York:20251121T160000
DTEND;TZID=America/New_York:20251121T190000
DTSTAMP:20260423T031639
CREATED:20251029T225005Z
LAST-MODIFIED:20251029T225005Z
UID:8420-1763740800-1763751600@www.tenthwarddistilling.com
SUMMARY:Liquor Store Tasting - Fallsgrove Liquor & Wine in Rockville\, MD
DESCRIPTION:Come hang out with us at Fallsgrove Liquor & Wine in Rockville\, MD and enjoy complimentary tastings of our spirits.
URL:https://www.tenthwarddistilling.com/event/liquor-store-tasting-fallsgrove-liquor-wine-in-rockville-md-6/
LOCATION:Fallsgrove Liquor & Wine\, 14937 Shady Grove Rd\, Rockville\, MD\, 20850
CATEGORIES:Liquor Store Tastings
END:VEVENT
BEGIN:VEVENT
DTSTART;TZID=America/New_York:20251121T150000
DTEND;TZID=America/New_York:20251121T170000
DTSTAMP:20260423T031639
CREATED:20251029T224858Z
LAST-MODIFIED:20251029T224858Z
UID:8419-1763737200-1763744400@www.tenthwarddistilling.com
SUMMARY:Liquor Store Tasting - VA ABC Store #136 in Leesburg\, VA
DESCRIPTION:Come hang out with us at VA ABC Store #136 in Leesburg\, VA and enjoy complimentary tastings of our spirits.
URL:https://www.tenthwarddistilling.com/event/liquor-store-tasting-va-abc-store-136-in-leesburg-va/
LOCATION:Leesburg VA ABC 136\, 32-F Catoctin Cir SE\, Leesburg\, VA\, 20175
CATEGORIES:Liquor Store Tastings
END:VEVENT
BEGIN:VEVENT
DTSTART;TZID=America/New_York:20251121T100000
DTEND;TZID=America/New_York:20251123T170000
DTSTAMP:20260423T031639
CREATED:20231017T182235Z
LAST-MODIFIED:20251029T224628Z
UID:6574-1763719200-1763917200@www.tenthwarddistilling.com
SUMMARY:Maryland Christmas Show
DESCRIPTION:We are joining other amazing vendors at this year’s Maryland Christmas Show at the Frederick Fairgrounds.  Stop by and see us\, we are ready to help you with that holiday shopping!
URL:https://www.marylandchristmasshow.com/#new_tab
LOCATION:Frederick Fairgrounds – Home of The Great Frederick Fair\, 797 East Patrick Street\, Frederick\, MD\, 21701\, United States
CATEGORIES:Off-Site Events
ATTACH;FMTTYPE=image/jpeg:https://www.tenthwarddistilling.com/wp-content/uploads/2023/10/md-xmas.jpg
END:VEVENT
BEGIN:VEVENT
DTSTART;TZID=America/New_York:20251120T190000
DTEND;TZID=America/New_York:20251120T210000
DTSTAMP:20260423T031639
CREATED:20251029T224129Z
LAST-MODIFIED:20251029T224129Z
UID:8416-1763665200-1763672400@www.tenthwarddistilling.com
SUMMARY:Live Jazz at the Cocktail Bar with Monocacy Jazz Trio
DESCRIPTION:Get swanky with us this Thursday night 7-9 PM for live jazz and your favorite craft cocktails. Featuring Monocacy Jazz Trio
URL:https://www.facebook.com/p/Monocacy-Jazz-Quartet-100034743746365/#new_tab
LOCATION:Tenth Ward Distilling Company\, 55 E Patrick Street\, Frederick\, MD\, 21701\, United States
CATEGORIES:Live Music
ATTACH;FMTTYPE=image/jpeg:https://www.tenthwarddistilling.com/wp-content/uploads/2020/09/jazz.jpg
END:VEVENT
BEGIN:VEVENT
DTSTART;TZID=America/New_York:20251119T080000
DTEND;TZID=America/New_York:20251119T170000
DTSTAMP:20260423T031639
CREATED:20251027T154826Z
LAST-MODIFIED:20251027T154826Z
UID:8385-1763539200-1763571600@www.tenthwarddistilling.com
SUMMARY:Wednesdays = $8 Smoked Bourbon Old Fashioneds
DESCRIPTION:Wednesdays are the new Friday! $8 Smoked Bourbon Old Fashioneds available open – close.
URL:https://www.tenthwarddistilling.com/event/wednesdays-8-smoked-bourbon-old-fashioneds-30/
LOCATION:Tenth Ward Distilling Company\, 55 E Patrick Street\, Frederick\, MD\, 21701\, United States
CATEGORIES:On-Site Events
ATTACH;FMTTYPE=image/jpeg:https://www.tenthwarddistilling.com/wp-content/uploads/2025/04/Smoked-Bourbon-Old-Fashioned.jpg
END:VEVENT
BEGIN:VEVENT
DTSTART;TZID=America/New_York:20251116T090000
DTEND;TZID=America/New_York:20251116T130000
DTSTAMP:20260423T031639
CREATED:20251029T223727Z
LAST-MODIFIED:20251029T223727Z
UID:8415-1763283600-1763298000@www.tenthwarddistilling.com
SUMMARY:Takoma Park Farmers Market
DESCRIPTION:Come support us at Takoma Park Farmers Market this Sunday! We’ll be selling bottles and canned cocktails to go.
URL:https://takomaparkmarket.com/#new_tab
LOCATION:Takoma Park Farmers Market\, Laurel Ave\, Takoma Park\, MD\, 20912\, United States
CATEGORIES:Farmers Markets
END:VEVENT
BEGIN:VEVENT
DTSTART;TZID=America/New_York:20251115T110000
DTEND;TZID=America/New_York:20251115T140000
DTSTAMP:20260423T031639
CREATED:20251029T223557Z
LAST-MODIFIED:20251029T223557Z
UID:8414-1763204400-1763215200@www.tenthwarddistilling.com
SUMMARY:Liquor Store Tasting - Lakefront Wine & Spirits in Frederick\, MD
DESCRIPTION:Come hang out with us at Lakefront Wine & Spirits in Frederick\, MD and enjoy complimentary tastings of our spirits.
URL:https://www.tenthwarddistilling.com/event/liquor-store-tasting-lakefront-wine-spirits-in-frederick-md/
LOCATION:Lakefront Fine Wine & Spirits\, Suite Drive F&G 2410 Whittier Dr\, Frederick\, MD\, 21702
CATEGORIES:Liquor Store Tastings
END:VEVENT
BEGIN:VEVENT
DTSTART;TZID=America/New_York:20251115T090000
DTEND;TZID=America/New_York:20251115T130000
DTSTAMP:20260423T031639
CREATED:20251029T221831Z
LAST-MODIFIED:20251029T221831Z
UID:8402-1763197200-1763211600@www.tenthwarddistilling.com
SUMMARY:Silver Spring Farmers Market
DESCRIPTION:Come support us at Silver Spring Farmers Market this Saturday! We’ll be selling bottles and canned cocktails to go.
URL:https://www.freshfarm.org/markets/downtown-silver-spring#new_tab
LOCATION:Silver Spring Farmers Market\, 890 Ellsworth Dr\, Silver Spring\, MD\, 20910\, United States
CATEGORIES:Farmers Markets
END:VEVENT
BEGIN:VEVENT
DTSTART;TZID=America/New_York:20251115T090000
DTEND;TZID=America/New_York:20251115T130000
DTSTAMP:20260423T031639
CREATED:20250903T192503Z
LAST-MODIFIED:20250903T192503Z
UID:8301-1763197200-1763211600@www.tenthwarddistilling.com
SUMMARY:Gateway Farmers Market
DESCRIPTION:Come support us at the Gateway Farmers Market this Saturday! We’ll be selling bottles and canned cocktails to go.
URL:https://www.facebook.com/p/Gateway-Farmers-Market-61557208214714/#new_tab
LOCATION:Gateway Farmers Market\, 3716 Rhode Island Ave\, Brentwood\, MD\, 20722
CATEGORIES:Farmers Markets
END:VEVENT
BEGIN:VEVENT
DTSTART;TZID=America/New_York:20251114T200000
DTEND;TZID=America/New_York:20251114T220000
DTSTAMP:20260423T031639
CREATED:20251029T223034Z
LAST-MODIFIED:20251029T223034Z
UID:8411-1763150400-1763157600@www.tenthwarddistilling.com
SUMMARY:Live Music at the Cocktail Bar with Bored Certified
DESCRIPTION:Every Friday from 8:00-10:00 pm in the Cocktail Bar we’ll be servin’ up our deliciously wild concoctions and some sweet tunes to get your weekend started off right. Keep reading for our next melodious entertainer: Bored Certified
URL:https://www.facebook.com/profile.php?id=61574659591162#new_tab
LOCATION:Tenth Ward Distilling Company\, 55 E Patrick Street\, Frederick\, MD\, 21701\, United States
CATEGORIES:Live Music
ATTACH;FMTTYPE=image/jpeg:https://www.tenthwarddistilling.com/wp-content/uploads/2025/10/bored-certified-pic.jpg
END:VEVENT
BEGIN:VEVENT
DTSTART;TZID=America/New_York:20251114T160000
DTEND;TZID=America/New_York:20251114T190000
DTSTAMP:20260423T031639
CREATED:20251029T223400Z
LAST-MODIFIED:20251029T223400Z
UID:8413-1763136000-1763146800@www.tenthwarddistilling.com
SUMMARY:Liquor Store Tasting - Silver Spring Liquor & Wine
DESCRIPTION:Come hang out with us at Silver Spring Liquor & Wine in Silver Spring\, MD and enjoy complimentary tastings of our spirits.
URL:https://www.tenthwarddistilling.com/event/liquor-store-tasting-silver-spring-liquor-wine-2/
LOCATION:Silver Spring Liquor Store\, 8715 Colesville Rd\, Silver Spring\, MD\, United States
CATEGORIES:Liquor Store Tastings
END:VEVENT
BEGIN:VEVENT
DTSTART;TZID=America/New_York:20251113T190000
DTEND;TZID=America/New_York:20251113T210000
DTSTAMP:20260423T031639
CREATED:20251029T222801Z
LAST-MODIFIED:20251029T222801Z
UID:8409-1763060400-1763067600@www.tenthwarddistilling.com
SUMMARY:Live Jazz at the Cocktail Bar with Prophets of the Abstract Truth
DESCRIPTION:Get swanky with us this Thursday night 7-9 PM for live jazz and your favorite craft cocktails. Featuring Prophets of the Abstract Truth
URL:https://www.facebook.com/TruthfulProphets/#new_tab
LOCATION:Tenth Ward Distilling Company\, 55 E Patrick Street\, Frederick\, MD\, 21701\, United States
CATEGORIES:Live Music
ATTACH;FMTTYPE=image/png:https://www.tenthwarddistilling.com/wp-content/uploads/2025/10/Prophets-of-the.png
END:VEVENT
BEGIN:VEVENT
DTSTART;TZID=America/New_York:20251112T140000
DTEND;TZID=America/New_York:20251112T220000
DTSTAMP:20260423T031639
CREATED:20251027T154645Z
LAST-MODIFIED:20251027T154645Z
UID:8384-1762956000-1762984800@www.tenthwarddistilling.com
SUMMARY:Wednesdays = $8 Smoked Bourbon Old Fashioneds
DESCRIPTION:Wednesdays are the new Friday! $8 Smoked Bourbon Old Fashioneds available open – close.
URL:https://www.tenthwarddistilling.com/event/wednesdays-8-smoked-bourbon-old-fashioneds-29/
LOCATION:Tenth Ward Distilling Company\, 55 E Patrick Street\, Frederick\, MD\, 21701\, United States
CATEGORIES:On-Site Events
ATTACH;FMTTYPE=image/jpeg:https://www.tenthwarddistilling.com/wp-content/uploads/2025/04/Smoked-Bourbon-Old-Fashioned.jpg
END:VEVENT
BEGIN:VEVENT
DTSTART;TZID=America/New_York:20251109T090000
DTEND;TZID=America/New_York:20251109T133000
DTSTAMP:20260423T031639
CREATED:20250903T190321Z
LAST-MODIFIED:20250903T190321Z
UID:8293-1762678800-1762695000@www.tenthwarddistilling.com
SUMMARY:Bethesda Farmers Market
DESCRIPTION:Come support us at the Bethesda Farmers Market this Sunday! We’ll be selling bottles and canned cocktails to go.
URL:https://bethesda.centralfarmmarkets.com/#new_tab
LOCATION:Bethesda Central Farmers Market\, Bethesda\, MD\, United States
CATEGORIES:Farmers Markets
END:VEVENT
BEGIN:VEVENT
DTSTART;TZID=America/New_York:20251108T090000
DTEND;TZID=America/New_York:20251108T130000
DTSTAMP:20260423T031639
CREATED:20251029T221641Z
LAST-MODIFIED:20251029T221641Z
UID:8401-1762592400-1762606800@www.tenthwarddistilling.com
SUMMARY:Silver Spring Farmers Market
DESCRIPTION:Come support us at Silver Spring Farmers Market this Saturday! We’ll be selling bottles and canned cocktails to go.
URL:https://www.freshfarm.org/markets/downtown-silver-spring#new_tab
LOCATION:Silver Spring Farmers Market\, 890 Ellsworth Dr\, Silver Spring\, MD\, 20910\, United States
CATEGORIES:Farmers Markets
END:VEVENT
END:VCALENDAR