BEGIN:VCALENDAR
VERSION:2.0
PRODID:-//Tenth Ward Distilling Company - ECPv6.15.20//NONSGML v1.0//EN
CALSCALE:GREGORIAN
METHOD:PUBLISH
X-WR-CALNAME:Tenth Ward Distilling Company
X-ORIGINAL-URL:https://www.tenthwarddistilling.com
X-WR-CALDESC:Events for Tenth Ward Distilling Company
REFRESH-INTERVAL;VALUE=DURATION:PT1H
X-Robots-Tag:noindex
X-PUBLISHED-TTL:PT1H
BEGIN:VTIMEZONE
TZID:America/New_York
BEGIN:DAYLIGHT
TZOFFSETFROM:-0500
TZOFFSETTO:-0400
TZNAME:EDT
DTSTART:20240310T070000
END:DAYLIGHT
BEGIN:STANDARD
TZOFFSETFROM:-0400
TZOFFSETTO:-0500
TZNAME:EST
DTSTART:20241103T060000
END:STANDARD
BEGIN:DAYLIGHT
TZOFFSETFROM:-0500
TZOFFSETTO:-0400
TZNAME:EDT
DTSTART:20250309T070000
END:DAYLIGHT
BEGIN:STANDARD
TZOFFSETFROM:-0400
TZOFFSETTO:-0500
TZNAME:EST
DTSTART:20251102T060000
END:STANDARD
BEGIN:DAYLIGHT
TZOFFSETFROM:-0500
TZOFFSETTO:-0400
TZNAME:EDT
DTSTART:20260308T070000
END:DAYLIGHT
BEGIN:STANDARD
TZOFFSETFROM:-0400
TZOFFSETTO:-0500
TZNAME:EST
DTSTART:20261101T060000
END:STANDARD
END:VTIMEZONE
BEGIN:VTIMEZONE
TZID:UTC
BEGIN:STANDARD
TZOFFSETFROM:+0000
TZOFFSETTO:+0000
TZNAME:UTC
DTSTART:20240101T000000
END:STANDARD
END:VTIMEZONE
BEGIN:VEVENT
DTSTART;TZID=America/New_York:20250405T090000
DTEND;TZID=America/New_York:20250405T130000
DTSTAMP:20260420T174425
CREATED:20250212T182446Z
LAST-MODIFIED:20250212T182446Z
UID:7882-1743843600-1743858000@www.tenthwarddistilling.com
SUMMARY:Silver Spring Farmers Market
DESCRIPTION:Come support us at the Silver Spring Farmers Market this Saturday! We’ll be selling bottles and canned cocktails to go.
URL:https://www.freshfarm.org/markets/downtown-silver-spring#new_tab
LOCATION:Silver Spring Farmers Market\, 890 Ellsworth Dr\, Silver Spring\, MD\, 20910\, United States
CATEGORIES:Farmers Markets
END:VEVENT
BEGIN:VEVENT
DTSTART;TZID=America/New_York:20250405T090000
DTEND;TZID=America/New_York:20250405T130000
DTSTAMP:20260420T174425
CREATED:20250212T183044Z
LAST-MODIFIED:20250212T183044Z
UID:7885-1743843600-1743858000@www.tenthwarddistilling.com
SUMMARY:Gateway Farmers Market
DESCRIPTION:Come support us at the Gateway Farmers Market this Saturday! We’ll be selling bottles and canned cocktails to go.
URL:https://www.facebook.com/p/Gateway-Farmers-Market-61557208214714/#new_tab
LOCATION:Gateway Farmers Market\, 3716 Rhode Island Ave\, Brentwood\, MD\, 20722
CATEGORIES:Farmers Markets
END:VEVENT
BEGIN:VEVENT
DTSTART;TZID=UTC:20250405T120000
DTEND;TZID=UTC:20250405T200000
DTSTAMP:20260420T174425
CREATED:20200416T191119Z
LAST-MODIFIED:20250331T192522Z
UID:3246-1743854400-1743883200@www.tenthwarddistilling.com
SUMMARY:Honeyjack Returns!
DESCRIPTION:Honeyack is ripe and ready for its return Saturday\, April 5! \nProduct description: Honeyjack is in a league all its own. Distilled from Orchid Cellar Meadery and Winery mead\, finished in a charred\, American white oak barrel and slightly sweetened with local clover honey\, this delicious nectar is ready for your taste buds. \nTasting notes: Honey\, vanilla\, oak\, caramel\, and honeycomb perfume notes. \nYou know this one doesn’t last long so stock up before she’s gone!
URL:https://www.tenthwarddistilling.com/event/honeyjack-returns-april-25/
LOCATION:Tenth Ward Distilling Company\, 55 E Patrick Street\, Frederick\, MD\, 21701\, United States
CATEGORIES:New Releases,On-Site Events
ATTACH;FMTTYPE=image/jpeg:https://www.tenthwarddistilling.com/wp-content/uploads/2025/03/Honeyjack-2025-slider.jpg
END:VEVENT
BEGIN:VEVENT
DTSTART;TZID=America/New_York:20250406T090000
DTEND;TZID=America/New_York:20250406T130000
DTSTAMP:20260420T174425
CREATED:20250329T163128Z
LAST-MODIFIED:20250329T163128Z
UID:7973-1743930000-1743944400@www.tenthwarddistilling.com
SUMMARY:Takoma Park Farmers Market
DESCRIPTION:Come support us at Takoma Park Farmers Market this Sunday! We’ll be selling bottles and canned cocktails to go.
URL:https://takomaparkmarket.com/#new_tab
LOCATION:Takoma Park Farmers Market\, Laurel Ave\, Takoma Park\, MD\, 20912\, United States
CATEGORIES:Farmers Markets
END:VEVENT
BEGIN:VEVENT
DTSTART;TZID=America/New_York:20250406T090000
DTEND;TZID=America/New_York:20250406T130000
DTSTAMP:20260420T174425
CREATED:20250329T163543Z
LAST-MODIFIED:20250329T163543Z
UID:7976-1743930000-1743944400@www.tenthwarddistilling.com
SUMMARY:Olney Farmers Market
DESCRIPTION:Come support us at the Olney Farmers Market this Sunday! We’ll be selling bottles and canned cocktails to go.
URL:https://www.olneyfarmersmarket.com/#new_tab
LOCATION:Olney Farmers Market\, 2801 Olney Sandy Spring Rd\, Olney\, MD\, 20832
CATEGORIES:Farmers Markets
END:VEVENT
BEGIN:VEVENT
DTSTART;TZID=America/New_York:20250410T190000
DTEND;TZID=America/New_York:20250410T210000
DTSTAMP:20260420T174425
CREATED:20250329T160346Z
LAST-MODIFIED:20250329T160701Z
UID:7964-1744311600-1744318800@www.tenthwarddistilling.com
SUMMARY:Live Jazz at the Cocktail Bar with Seven Come Eleven
DESCRIPTION:Get swanky with us every Thursday night 7-9 PM for live jazz and your favorite craft cocktails. Featuring Seven Come Eleven
URL:https://www.youtube.com/watch?v=piRMwCY9cC0#new_tab
LOCATION:Tenth Ward Distilling Company\, 55 E Patrick Street\, Frederick\, MD\, 21701\, United States
CATEGORIES:Live Music
ATTACH;FMTTYPE=image/jpeg:https://www.tenthwarddistilling.com/wp-content/uploads/2020/09/jazz.jpg
END:VEVENT
BEGIN:VEVENT
DTSTART;TZID=America/New_York:20250411T150000
DTEND;TZID=America/New_York:20250411T170000
DTSTAMP:20260420T174425
CREATED:20250331T193231Z
LAST-MODIFIED:20250331T193231Z
UID:7986-1744383600-1744390800@www.tenthwarddistilling.com
SUMMARY:Liquor Store Tasting: VA ABC Reston
DESCRIPTION:Join us at the VA ABC Store in Reston\, VA for complimentary samples of our spirits.
URL:https://www.tenthwarddistilling.com/event/liquor-store-tasting-va-abc-reston/
LOCATION:Reston ABC Store 210\, 11160-A South Lakes Drive\, Reston\, VA\, 20190
CATEGORIES:Liquor Store Tastings
END:VEVENT
BEGIN:VEVENT
DTSTART;TZID=America/New_York:20250411T150000
DTEND;TZID=America/New_York:20250411T170000
DTSTAMP:20260420T174425
CREATED:20250331T193339Z
LAST-MODIFIED:20250331T193339Z
UID:7987-1744383600-1744390800@www.tenthwarddistilling.com
SUMMARY:Liquor Store Tasting: VA ABC Sterling
DESCRIPTION:Join us at the VA ABC Store in Sterling\, VA for complimentary samples of our spirits.
URL:https://www.tenthwarddistilling.com/event/liquor-store-tasting-va-abc-sterling/
LOCATION:VA ABC Store 82 Sterling VA\, 46930 Cedar Lakes Plaza\, Sterling\, VA\, 20164
CATEGORIES:Liquor Store Tastings
END:VEVENT
BEGIN:VEVENT
DTSTART;TZID=America/New_York:20250411T160000
DTEND;TZID=America/New_York:20250411T190000
DTSTAMP:20260420T174425
CREATED:20250331T193538Z
LAST-MODIFIED:20250331T193538Z
UID:7988-1744387200-1744398000@www.tenthwarddistilling.com
SUMMARY:Liquor Store Tasting: Silver Spring Liquor & Wine
DESCRIPTION:Join us at the Silver Spring Liquor & Wine for complimentary samples of our spirits.
URL:https://www.tenthwarddistilling.com/event/liquor-store-tasting-silver-spring-liquor-wine/
LOCATION:Silver Spring Liquor Store\, 8715 Colesville Rd\, Silver Spring\, MD\, United States
CATEGORIES:Liquor Store Tastings
END:VEVENT
BEGIN:VEVENT
DTSTART;TZID=America/New_York:20250412T090000
DTEND;TZID=America/New_York:20250412T130000
DTSTAMP:20260420T174425
CREATED:20250329T163923Z
LAST-MODIFIED:20250329T163923Z
UID:7979-1744448400-1744462800@www.tenthwarddistilling.com
SUMMARY:Silver Spring Farmers Market
DESCRIPTION:Come support us at Silver Spring Farmers Market this Saturday! We’ll be selling bottles and canned cocktails to go.
URL:https://www.freshfarm.org/markets/downtown-silver-spring#new_tab
LOCATION:Silver Spring Farmers Market\, 890 Ellsworth Dr\, Silver Spring\, MD\, 20910\, United States
CATEGORIES:Farmers Markets
END:VEVENT
BEGIN:VEVENT
DTSTART;TZID=America/New_York:20250413T090000
DTEND;TZID=America/New_York:20250413T130000
DTSTAMP:20260420T174425
CREATED:20250329T163252Z
LAST-MODIFIED:20250329T163252Z
UID:7974-1744534800-1744549200@www.tenthwarddistilling.com
SUMMARY:Takoma Park Farmers Market
DESCRIPTION:Come support us at Takoma Park Farmers Market this Sunday! We’ll be selling bottles and canned cocktails to go.
URL:https://takomaparkmarket.com/#new_tab
LOCATION:Takoma Park Farmers Market\, Laurel Ave\, Takoma Park\, MD\, 20912\, United States
CATEGORIES:Farmers Markets
END:VEVENT
BEGIN:VEVENT
DTSTART;TZID=America/New_York:20250413T090000
DTEND;TZID=America/New_York:20250413T133000
DTSTAMP:20260420T174425
CREATED:20250329T163802Z
LAST-MODIFIED:20250329T163802Z
UID:7978-1744534800-1744551000@www.tenthwarddistilling.com
SUMMARY:Bethesda Farmers Market
DESCRIPTION:Come support us at the Bethesda Farmers Market this Sunday! We’ll be selling bottles and canned cocktails to go.
URL:https://www.centralfarmmarkets.com/bethesda#new_tab
LOCATION:Bethesda Central Farmers Market\, Bethesda\, MD\, United States
CATEGORIES:Farmers Markets
END:VEVENT
BEGIN:VEVENT
DTSTART;TZID=America/New_York:20250417T190000
DTEND;TZID=America/New_York:20250417T210000
DTSTAMP:20260420T174425
CREATED:20250329T160611Z
LAST-MODIFIED:20250329T160611Z
UID:7965-1744916400-1744923600@www.tenthwarddistilling.com
SUMMARY:Live Jazz at the Cocktail Bar with Monocacy Jazz Trio
DESCRIPTION:Get swanky with us every Thursday night 7-9 PM for live jazz and your favorite craft cocktails. Featuring Monacacy Jazz Trio
URL:https://www.facebook.com/p/Monocacy-Jazz-Quartet-100034743746365/#new_tab
LOCATION:Tenth Ward Distilling Company\, 55 E Patrick Street\, Frederick\, MD\, 21701\, United States
CATEGORIES:Live Music
ATTACH;FMTTYPE=image/jpeg:https://www.tenthwarddistilling.com/wp-content/uploads/2020/09/jazz.jpg
END:VEVENT
BEGIN:VEVENT
DTSTART;TZID=America/New_York:20250418T160000
DTEND;TZID=America/New_York:20250418T190000
DTSTAMP:20260420T174425
CREATED:20250331T194031Z
LAST-MODIFIED:20250331T194031Z
UID:7989-1744992000-1745002800@www.tenthwarddistilling.com
SUMMARY:Liquor Store Tasting: A & A Wine & Spirits in Gambrills\, MD
DESCRIPTION:Join us at A & A Wine & Spirits in Gambrills\, MD for complimentary samples of our spirits.
URL:https://www.tenthwarddistilling.com/event/liquor-store-tasting-a-a-wine-spirits-in-gambrills-md-2/
LOCATION:A & A Wine & Spirits\, 1415 S Main Chapel Way\, Gambrills\, MD\, 21054
CATEGORIES:Liquor Store Tastings
END:VEVENT
BEGIN:VEVENT
DTSTART;TZID=America/New_York:20250418T200000
DTEND;TZID=America/New_York:20250418T220000
DTSTAMP:20260420T174425
CREATED:20250329T161914Z
LAST-MODIFIED:20250329T161914Z
UID:7969-1745006400-1745013600@www.tenthwarddistilling.com
SUMMARY:Live Music at the Cocktail Bar with Dominica Knapp
DESCRIPTION:Every Friday from 8:00-10:00 pm in the Cocktail Bar we’ll be servin’ up our deliciously wild concoctions and some sweet tunes to get your weekend started off right. Keep reading for our next melodious entertainer: Dominica Knapp \n  \nDominica Knapp is a singer/songwriter based out of Frederick MD. She performs in and around Maryland\, Virginia\, West Virginia and Pennsylvania as a solo musician. Specializing in clawhammer style banjo and guitar.
URL:https://www.dominicaknappmusic.com/home/#new_tab
LOCATION:Tenth Ward Distilling Company\, 55 E Patrick Street\, Frederick\, MD\, 21701\, United States
CATEGORIES:Live Music
END:VEVENT
BEGIN:VEVENT
DTSTART;TZID=America/New_York:20250419T090000
DTEND;TZID=America/New_York:20250419T130000
DTSTAMP:20260420T174425
CREATED:20250329T164011Z
LAST-MODIFIED:20250329T164011Z
UID:7980-1745053200-1745067600@www.tenthwarddistilling.com
SUMMARY:Silver Spring Farmers Market
DESCRIPTION:Come support us at Silver Spring Farmers Market this Saturday! We’ll be selling bottles and canned cocktails to go.
URL:https://www.freshfarm.org/markets/downtown-silver-spring#new_tab
LOCATION:Silver Spring Farmers Market\, 890 Ellsworth Dr\, Silver Spring\, MD\, 20910\, United States
CATEGORIES:Farmers Markets
END:VEVENT
BEGIN:VEVENT
DTSTART;TZID=America/New_York:20250419T090000
DTEND;TZID=America/New_York:20250419T130000
DTSTAMP:20260420T174425
CREATED:20250329T164329Z
LAST-MODIFIED:20250329T164329Z
UID:7983-1745053200-1745067600@www.tenthwarddistilling.com
SUMMARY:Gateway Farmers Market
DESCRIPTION:Come support us at the Gateway Farmers Market this Saturday! We’ll be selling bottles and canned cocktails to go.
URL:https://www.facebook.com/p/Gateway-Farmers-Market-61557208214714/#new_tab
LOCATION:Gateway Farmers Market\, 3716 Rhode Island Ave\, Brentwood\, MD\, 20722
CATEGORIES:Farmers Markets
END:VEVENT
BEGIN:VEVENT
DTSTART;TZID=America/New_York:20250420T090000
DTEND;TZID=America/New_York:20250420T130000
DTSTAMP:20260420T174425
CREATED:20250329T163337Z
LAST-MODIFIED:20250329T163337Z
UID:7975-1745139600-1745154000@www.tenthwarddistilling.com
SUMMARY:Takoma Park Farmers Market
DESCRIPTION:Come support us at Takoma Park Farmers Market this Sunday! We’ll be selling bottles and canned cocktails to go.
URL:https://takomaparkmarket.com/#new_tab
LOCATION:Takoma Park Farmers Market\, Laurel Ave\, Takoma Park\, MD\, 20912\, United States
CATEGORIES:Farmers Markets
END:VEVENT
BEGIN:VEVENT
DTSTART;TZID=America/New_York:20250420T090000
DTEND;TZID=America/New_York:20250420T130000
DTSTAMP:20260420T174425
CREATED:20250329T163646Z
LAST-MODIFIED:20250329T163646Z
UID:7977-1745139600-1745154000@www.tenthwarddistilling.com
SUMMARY:Olney Farmers Market
DESCRIPTION:Come support us at the Olney Farmers Market this Sunday! We’ll be selling bottles and canned cocktails to go.
URL:https://www.olneyfarmersmarket.com/#new_tab
LOCATION:Olney Farmers Market\, 2801 Olney Sandy Spring Rd\, Olney\, MD\, 20832
CATEGORIES:Farmers Markets
END:VEVENT
BEGIN:VEVENT
DTSTART;TZID=America/New_York:20250424T190000
DTEND;TZID=America/New_York:20250424T210000
DTSTAMP:20260420T174425
CREATED:20250329T161346Z
LAST-MODIFIED:20250329T161346Z
UID:7966-1745521200-1745528400@www.tenthwarddistilling.com
SUMMARY:Live Music at the Cocktail Bar with Mike Finazzo
DESCRIPTION:This Thursday from 7:00-9:00 pm in the Cocktail Bar we’ll be servin’ up our deliciously wild concoctions and some sweet tunes to get your weekend started off right. Keep reading for our next melodious entertainer: Mike Finazzo \n\nMike Finazzo is a musician with a passion for playing folk\, Americana\, and blues music.  Offering a mix of original songs and popular covers\, creating a relaxed and enjoyable atmosphere for music lovers and bar patrons alike.\nThe future is looking exciting\, as Finazzo will release his long-awaited second album\, Stories to Tell\, in the spring of 2025. You can catch Mike sharing his blend of sad folk songs and amusing banter at a club\, bar\, or theater near you. If you’re in the mood for something louder\, you can also catch Finazzo’s blues band\, Riley and Company\, tearing it up wherever the blues is being played. Either way\, you’ll be seeing Mike do what he does best: Making things.
URL:https://mfinazzo.blogspot.com/p/about.html#new_tab
LOCATION:Tenth Ward Distilling Company\, 55 E Patrick Street\, Frederick\, MD\, 21701\, United States
CATEGORIES:Live Music
ATTACH;FMTTYPE=image/jpeg:https://www.tenthwarddistilling.com/wp-content/uploads/2025/03/Mike-Finazzo.jpg
END:VEVENT
BEGIN:VEVENT
DTSTART;TZID=America/New_York:20250425T150000
DTEND;TZID=America/New_York:20250425T170000
DTSTAMP:20260420T174425
CREATED:20250331T194400Z
LAST-MODIFIED:20250331T194400Z
UID:7990-1745593200-1745600400@www.tenthwarddistilling.com
SUMMARY:Liquor Store Tasting: VA ABC Store 76 in Falls Church\, VA
DESCRIPTION:Join us at VA ABC Store 76 in Falls Church\, VA for complimentary samples of our spirits.
URL:https://www.tenthwarddistilling.com/event/liquor-store-tasting-va-abc-store-76-in-falls-church-va/
LOCATION:VA ABC Store 76 Falls Church\, 7121 Leesburg Pike\, Falls Church\, VA\, 22043
CATEGORIES:Liquor Store Tastings
END:VEVENT
BEGIN:VEVENT
DTSTART;TZID=America/New_York:20250425T160000
DTEND;TZID=America/New_York:20250425T190000
DTSTAMP:20260420T174425
CREATED:20250331T194552Z
LAST-MODIFIED:20250331T194552Z
UID:7992-1745596800-1745607600@www.tenthwarddistilling.com
SUMMARY:Liquor Store Tasting: Georgetown Square Wine & Beer in Bethesda\, MD
DESCRIPTION:Join us at Georgetown Square Wine & Beer in Bethesda\, MD for complimentary samples of our spirits.
URL:https://www.tenthwarddistilling.com/event/liquor-store-tasting-georgetown-square-wine-beer-in-bethesda-md/
LOCATION:georgetown square wine & beer\, 10400 Old Georgetown Rd\, Bethesda\, MD\, 20814
CATEGORIES:Liquor Store Tastings
END:VEVENT
BEGIN:VEVENT
DTSTART;TZID=America/New_York:20250425T160000
DTEND;TZID=America/New_York:20250425T190000
DTSTAMP:20260420T174425
CREATED:20250331T194708Z
LAST-MODIFIED:20250331T194708Z
UID:7994-1745596800-1745607600@www.tenthwarddistilling.com
SUMMARY:Liquor Store Tasting: Trout Liquors in Frederick\, MD
DESCRIPTION:Join us at Trout Liquors in Frederick\, MD for complimentary samples of our spirits.
URL:https://www.tenthwarddistilling.com/event/liquor-store-tasting-trout-liquors-in-frederick-md-4/
LOCATION:Trout Liquors\, 5108 Old National Pike\, Frederick\, MD
CATEGORIES:Liquor Store Tastings
END:VEVENT
BEGIN:VEVENT
DTSTART;TZID=America/New_York:20250425T200000
DTEND;TZID=America/New_York:20250425T220000
DTSTAMP:20260420T174425
CREATED:20250329T162125Z
LAST-MODIFIED:20250329T162125Z
UID:7970-1745611200-1745618400@www.tenthwarddistilling.com
SUMMARY:Live Music at the Cocktail Bar with Francheska & Andrew Kuhens
DESCRIPTION:Every Friday from 8:00-10:00 pm in the Cocktail Bar we’ll be servin’ up our deliciously wild concoctions and some sweet tunes to get your weekend started off right. Keep reading for our next melodious entertainer: Francheska & Andrew Kuhens \n  \nFrancheska Pastor and Andrew Kuhens are two musicians whose shared love for music brought them together\, both personally and creatively. With Francheska’s background as the former frontwoman of Bad Seed Rising and Andrew’s experience as a guitarist in SoulXchange\, the duo combines their diverse influences to create something fresh and heartfelt. Together\, they explore a blend of acoustic rock\, folk\, soul and indie music\, crafting songs that reflect their personal experiences and deep passion for storytelling. Their musical chemistry is undeniable\, and their performances are a testament to their love for the music that inspires them\, and to each other. 
URL:https://www.kuhensco.com/#new_tab
LOCATION:Tenth Ward Distilling Company\, 55 E Patrick Street\, Frederick\, MD\, 21701\, United States
CATEGORIES:Live Music
END:VEVENT
BEGIN:VEVENT
DTSTART;TZID=America/New_York:20250426T090000
DTEND;TZID=America/New_York:20250426T120000
DTSTAMP:20260420T174425
CREATED:20250331T195025Z
LAST-MODIFIED:20250331T195025Z
UID:7995-1745658000-1745668800@www.tenthwarddistilling.com
SUMMARY:Wildberry Farm Field Market
DESCRIPTION:Come support us at the Wildberry Farm Field Market this Saturday! We’ll be selling bottles and canned cocktails to go.
URL:https://www.wildberryfarmmarket.com/#new_tab
LOCATION:Wildberry Farm & Market\, 1047 St Stephen Church Rd\, Crownsville\, MD\, 21032
CATEGORIES:Farmers Markets
END:VEVENT
BEGIN:VEVENT
DTSTART;TZID=America/New_York:20250426T090000
DTEND;TZID=America/New_York:20250426T130000
DTSTAMP:20260420T174425
CREATED:20250329T164101Z
LAST-MODIFIED:20250329T164101Z
UID:7981-1745658000-1745672400@www.tenthwarddistilling.com
SUMMARY:Silver Spring Farmers Market
DESCRIPTION:Come support us at Silver Spring Farmers Market this Saturday! We’ll be selling bottles and canned cocktails to go.
URL:https://www.freshfarm.org/markets/downtown-silver-spring#new_tab
LOCATION:Silver Spring Farmers Market\, 890 Ellsworth Dr\, Silver Spring\, MD\, 20910\, United States
CATEGORIES:Farmers Markets
END:VEVENT
BEGIN:VEVENT
DTSTART;TZID=America/New_York:20250426T140000
DTEND;TZID=America/New_York:20250426T170000
DTSTAMP:20260420T174425
CREATED:20250331T195211Z
LAST-MODIFIED:20250331T195211Z
UID:7996-1745676000-1745686800@www.tenthwarddistilling.com
SUMMARY:Liquor Store Tasting: Whitey's Liquors in Linthicum Heights\, MD
DESCRIPTION:Join us at Whitey’s Liquors in Linthicum Heights\, MD for complimentary samples of our spirits.
URL:https://www.tenthwarddistilling.com/event/liquor-store-tasting-whiteys-liquors-in-linthicum-heights-md/
LOCATION:Whiteys Liquors\, 803 N Hammonds Ferry Rd\, Linthicum Heights\, MD\, 21090
CATEGORIES:Liquor Store Tastings
END:VEVENT
BEGIN:VEVENT
DTSTART;TZID=America/New_York:20250430T140000
DTEND;TZID=America/New_York:20250430T220000
DTSTAMP:20260420T174425
CREATED:20250424T113801Z
LAST-MODIFIED:20250424T113801Z
UID:8018-1746021600-1746050400@www.tenthwarddistilling.com
SUMMARY:Wednesdays = $8 Smoked Bourbon Old Fashioneds
DESCRIPTION:Wednesdays are the new Friday! $8 Smoked Bourbon Old Fashioneds available open – close. 
URL:https://www.tenthwarddistilling.com/event/wednesdays-8-smoked-bourbon-old-fashioneds/
LOCATION:Tenth Ward Distilling Company\, 55 E Patrick Street\, Frederick\, MD\, 21701\, United States
CATEGORIES:Off-Site Events
ATTACH;FMTTYPE=image/jpeg:https://www.tenthwarddistilling.com/wp-content/uploads/2025/04/Smoked-Bourbon-Old-Fashioned.jpg
END:VEVENT
BEGIN:VEVENT
DTSTART;TZID=America/New_York:20250501T190000
DTEND;TZID=America/New_York:20250501T210000
DTSTAMP:20260420T174425
CREATED:20250329T162802Z
LAST-MODIFIED:20250429T183305Z
UID:7972-1746126000-1746133200@www.tenthwarddistilling.com
SUMMARY:Live Jazz at the Cocktail Bar with Moonbright Jazz Duo
DESCRIPTION:Get swanky with us every Thursday night 7-9 PM for live jazz and your favorite craft cocktails. Featuring Moonbright Jazz Duo \n  \nBrian Litz\n\n\n\nBrian is a seasoned\, professional guitarist who grew up in the family music\nbusiness\, Victor Litz Music Center in Gaithersburg MD. He received early\ninstruction from his father\, an accomplished player\, as well as from other\nmusicians associated with the store. He studied classical guitar at Montgomery\nCollege with Robert Winter and gained experience traveling the country for a\nfew years playing in various dance bands. Eventually\, Brian came back to the\nDC area to concentrate on a more regional teaching and playing career. A\nhighlight during this time was an opportunity to study with the legendary jazz\nguitarist Herb Ellis. While his heart is obviously in jazz\, his influences are from\nSegovia to Jimi Hendrix to Joe Pass.\n\n\n\n\n\nRalph Gordon\n\nRalph has had a varied career spanning fifty plus years. His distinctive bass has\nbeen recorded on nearly two hundred albums\, ranging from Appalachian String\nBand music to Big Band Jazz. In bands such as Trapezoid\, Freyda and the\nGrammy nominated Acoustic Attitude\, Ralph has been in demand both in the\nstudio and onstage. When he is not providing the foundation for Moonbright\nJazz\, Ralph Gordon can be found touring nationally with Chris Collins and\nBoulder Canyon\, a top John Denver Tribute band.
URL:https://www.tenthwarddistilling.com/event/live-jazz-at-the-cocktail-bar-with-moonbright-jazz-duo/
LOCATION:Tenth Ward Distilling Company\, 55 E Patrick Street\, Frederick\, MD\, 21701\, United States
CATEGORIES:Live Music
END:VEVENT
BEGIN:VEVENT
DTSTART;TZID=America/New_York:20250502T080000
DTEND;TZID=America/New_York:20250504T160000
DTSTAMP:20260420T174425
CREATED:20250422T020253Z
LAST-MODIFIED:20250422T020253Z
UID:8012-1746172800-1746374400@www.tenthwarddistilling.com
SUMMARY:National Harbor Boat Show
DESCRIPTION:Don’t miss us at this year’s National Harbor Boat Show.  Tour the boats\, grab food and drinks\, and listen to live music!
URL:https://dcboatshows.com/?gad_source=1&#038;gbraid=0AAAAA-qyztlJ4W1mC6N29oqwmofrDshHC&#038;gclid=Cj0KCQjw2ZfABhDBARIsAHFTxGw5XTi2F0T55LB_DIZFeGnkU9cuevL3ejLWwLSl8tLLzvo9Grh9JjoaAip2EALw_wcB#new_tab
LOCATION:National Harbor Boat Show\, 165 Waterfront st\, national harbor\, md\, 20745
END:VEVENT
END:VCALENDAR