BEGIN:VCALENDAR
VERSION:2.0
PRODID:-//Tenth Ward Distilling Company - ECPv6.15.20//NONSGML v1.0//EN
CALSCALE:GREGORIAN
METHOD:PUBLISH
X-WR-CALNAME:Tenth Ward Distilling Company
X-ORIGINAL-URL:https://www.tenthwarddistilling.com
X-WR-CALDESC:Events for Tenth Ward Distilling Company
REFRESH-INTERVAL;VALUE=DURATION:PT1H
X-Robots-Tag:noindex
X-PUBLISHED-TTL:PT1H
BEGIN:VTIMEZONE
TZID:America/New_York
BEGIN:DAYLIGHT
TZOFFSETFROM:-0500
TZOFFSETTO:-0400
TZNAME:EDT
DTSTART:20240310T070000
END:DAYLIGHT
BEGIN:STANDARD
TZOFFSETFROM:-0400
TZOFFSETTO:-0500
TZNAME:EST
DTSTART:20241103T060000
END:STANDARD
BEGIN:DAYLIGHT
TZOFFSETFROM:-0500
TZOFFSETTO:-0400
TZNAME:EDT
DTSTART:20250309T070000
END:DAYLIGHT
BEGIN:STANDARD
TZOFFSETFROM:-0400
TZOFFSETTO:-0500
TZNAME:EST
DTSTART:20251102T060000
END:STANDARD
BEGIN:DAYLIGHT
TZOFFSETFROM:-0500
TZOFFSETTO:-0400
TZNAME:EDT
DTSTART:20260308T070000
END:DAYLIGHT
BEGIN:STANDARD
TZOFFSETFROM:-0400
TZOFFSETTO:-0500
TZNAME:EST
DTSTART:20261101T060000
END:STANDARD
END:VTIMEZONE
BEGIN:VEVENT
DTSTART;TZID=America/New_York:20251107T200000
DTEND;TZID=America/New_York:20251107T220000
DTSTAMP:20260423T043708
CREATED:20251029T221140Z
LAST-MODIFIED:20251029T221140Z
UID:8400-1762545600-1762552800@www.tenthwarddistilling.com
SUMMARY:Live Music at the Cocktial Bar with One Blue Night
DESCRIPTION:Every Friday from 8:00-10:00 pm in the Cocktail Bar we’ll be servin’ up our deliciously wild concoctions and some sweet tunes to get your weekend started off right. Keep reading for our next melodious entertainer: One Blue Night
URL:https://www.tenthwarddistilling.com/event/live-music-at-the-cocktial-bar-with-one-blue-night/
LOCATION:Tenth Ward Distilling Company\, 55 E Patrick Street\, Frederick\, MD\, 21701\, United States
CATEGORIES:Live Music
END:VEVENT
BEGIN:VEVENT
DTSTART;TZID=America/New_York:20251107T160000
DTEND;TZID=America/New_York:20251107T190000
DTSTAMP:20260423T043708
CREATED:20251029T221020Z
LAST-MODIFIED:20251029T221020Z
UID:8399-1762531200-1762542000@www.tenthwarddistilling.com
SUMMARY:Liquor Store Tasting - Downtown Rockville Liquor & Wine
DESCRIPTION:Come hang out with us at Downtown Rockville Liquor & Wine and enjoy complimentary tastings of our spirits.
URL:https://www.tenthwarddistilling.com/event/liquor-store-tasting-downtown-rockville-liquor-wine-5/
LOCATION:Downtown Rockville Liquor Store\, 300 N Washington St\, Rockville\, maryland\, 20850
CATEGORIES:Liquor Store Tastings
END:VEVENT
BEGIN:VEVENT
DTSTART;TZID=America/New_York:20251107T150000
DTEND;TZID=America/New_York:20251107T170000
DTSTAMP:20260423T043708
CREATED:20251027T195201Z
LAST-MODIFIED:20251027T195201Z
UID:8398-1762527600-1762534800@www.tenthwarddistilling.com
SUMMARY:Liquor Store Tasting - VA ABC Store 166 in Leesburg\, VA
DESCRIPTION:Stop by the VA ABC Store 166 in Leesburg\, VA\, and enjoy complimentary samples of our craft spirits!
URL:https://www.tenthwarddistilling.com/event/liquor-store-tasting-va-abc-store-166-in-leesburg-va-2/
LOCATION:ABC Store 166 Leesburg\, 506 Fort Evans Rd\, Leesburg\, VA\, 20176
CATEGORIES:Liquor Store Tastings
END:VEVENT
BEGIN:VEVENT
DTSTART;TZID=America/New_York:20251106T190000
DTEND;TZID=America/New_York:20251106T210000
DTSTAMP:20260423T043708
CREATED:20250603T121112Z
LAST-MODIFIED:20250603T121112Z
UID:8124-1762455600-1762462800@www.tenthwarddistilling.com
SUMMARY:Live Jazz at the Cocktail Bar with the Mike Kamuf Trio
DESCRIPTION:Get swanky with us every Thursday night 7-9 PM for live jazz and your favorite craft cocktails. Featuring the Mike Kamuf Trio \n  \nMike Kamuf is an exclusive writer for the Belwin Division of Alfred Music Publishing with titles in their jazz\, orchestra and concert band catalogs. Many of Mike’s published jazz ensemble arrangements have become standard literature for young jazz ensemble\, and he currently has over 100 publications in print. Mike has performed with the Woody Herman and Tommy Dorsey Orchestras\, has recorded as a member of the Alan Baylock Jazz Orchestra and leads his own jazz octet\, the Mike Kamuf Little Big Band\, comprised of outstanding musicians from the Baltimore and Washingto\,n DC areas. Recently retired from teaching instrumental music in the Montgomery County (MD) Public Schools\, Mike has directed the Pennsylvania All State Jazz Band\, the Southern California School Band &amp; Orchestra Directors Association (SCSBOA) Jazz All Stars\, the New Mexico All State Jazz Band\, and many regional honors ensembles in California\, Maryland\, Pennsylvania\, Virginia\, New Mexico and New York. Mike serves as a clinician for MakeMusic and has presented professional development sessions for music educators at the Midwest Clinic\, Jazz Education Network Conferences and at numerous regional and state music education conferences. He has become an in-demand arranger\, clinician\, guest conductor and adjudicator for schools\, conferences and music festivals across the country.\nPlease visit Mike’s website at: www.mikekamuf.com
URL:https://www.tenthwarddistilling.com/event/live-jazz-at-the-cocktail-bar-with-the-mike-kamuf-trio-7/
LOCATION:Tenth Ward Distilling Company\, 55 E Patrick Street\, Frederick\, MD\, 21701\, United States
CATEGORIES:Live Music
END:VEVENT
BEGIN:VEVENT
DTSTART;TZID=America/New_York:20251105T140000
DTEND;TZID=America/New_York:20251105T220000
DTSTAMP:20260423T043708
CREATED:20251027T154541Z
LAST-MODIFIED:20251027T154541Z
UID:8383-1762351200-1762380000@www.tenthwarddistilling.com
SUMMARY:Wednesdays = $8 Smoked Bourbon Old Fashioneds
DESCRIPTION:Wednesdays are the new Friday! $8 Smoked Bourbon Old Fashioneds available open – close.
URL:https://www.tenthwarddistilling.com/event/wednesdays-8-smoked-bourbon-old-fashioneds-28/
LOCATION:Tenth Ward Distilling Company\, 55 E Patrick Street\, Frederick\, MD\, 21701\, United States
CATEGORIES:On-Site Events
ATTACH;FMTTYPE=image/jpeg:https://www.tenthwarddistilling.com/wp-content/uploads/2025/04/Smoked-Bourbon-Old-Fashioned.jpg
END:VEVENT
BEGIN:VEVENT
DTSTART;TZID=America/New_York:20251102T120000
DTEND;TZID=America/New_York:20251102T150000
DTSTAMP:20260423T043708
CREATED:20231031T105824Z
LAST-MODIFIED:20251027T194731Z
UID:6611-1762084800-1762095600@www.tenthwarddistilling.com
SUMMARY:Frederick Weddings Expo
DESCRIPTION:Recently engaged? Planning your big day? We will be at the Frederick Weddings Expo on Sunday\, Nov. 2\, and would LOVE to see you there. Whether you are newly engaged or just need to secure a few items on your wedding to-do list\, there’s no doubt you will find what you are looking for at the showcase. \nWhen: Sunday\, Nov. 2\, 2025\, 12-3pm \nWhere: The Frederick Fairgrounds\, 797 E Patrick Street\, Frederick \nThe event is free when you register or upgrade to VIP Access \nRegister now at www.fredericknewspost.com/weddings \n 
URL:http://www.fredericknewspost.com/weddings#new_tab
LOCATION:Frederick Fairgrounds – Home of The Great Frederick Fair\, 797 East Patrick Street\, Frederick\, MD\, 21701\, United States
CATEGORIES:Off-Site Events
ATTACH;FMTTYPE=image/jpeg:https://www.tenthwarddistilling.com/wp-content/uploads/2023/10/FredWed_1200x628v9.jpg
END:VEVENT
BEGIN:VEVENT
DTSTART;TZID=America/New_York:20251102T090000
DTEND;TZID=America/New_York:20251102T130000
DTSTAMP:20260423T043708
CREATED:20251027T194859Z
LAST-MODIFIED:20251027T194859Z
UID:8397-1762074000-1762088400@www.tenthwarddistilling.com
SUMMARY:Takoma Park Farmers Market
DESCRIPTION:Come support us at Takoma Park Farmers Market this Sunday! We’ll be selling bottles and canned cocktails to go.
URL:https://takomaparkmarket.com/#new_tab
LOCATION:Takoma Park Farmers Market\, Laurel Ave\, Takoma Park\, MD\, 20912\, United States
CATEGORIES:Farmers Markets
END:VEVENT
BEGIN:VEVENT
DTSTART;TZID=America/New_York:20251102T090000
DTEND;TZID=America/New_York:20251102T130000
DTSTAMP:20260423T043708
CREATED:20250903T193939Z
LAST-MODIFIED:20250903T193939Z
UID:8308-1762074000-1762088400@www.tenthwarddistilling.com
SUMMARY:Olney Farmers Market
DESCRIPTION:Come support us at the Olney Farmers Market this Sunday! We’ll be selling bottles and canned cocktails to go.
URL:http://www.olneyfarmersmarket.com/#new_tab
LOCATION:Olney Farmers Market\, 2801 Olney Sandy Spring Rd\, Olney\, MD\, 20832
CATEGORIES:Farmers Markets
END:VEVENT
BEGIN:VEVENT
DTSTART;TZID=America/New_York:20251101T130000
DTEND;TZID=America/New_York:20251101T190000
DTSTAMP:20260423T043708
CREATED:20221011T002418Z
LAST-MODIFIED:20251027T193516Z
UID:5112-1762002000-1762023600@www.tenthwarddistilling.com
SUMMARY:Fall Back Ciders\, Spirits & Wine Fest 2025
DESCRIPTION:The 10th Annual Fall Back Ciders\, Spirits & Wine Fest is on Saturday November 1st at the Washington County Agricultural Education Center\, just south of Hagerstown\, MD. \nFEATURES: Over 30 Wines\, 30 Spirits\, 10 Beers\, 10 Ciders.  Over 50 Vendors\, Amazing Food\, Live Local Music\, Karaoke\, Fun Games and More! \n  \nPurchase tickets here. \n 
URL:https://www.ifg-events.com/fallback#new_tab
LOCATION:Washington County Agricultural Education Center\, 7313 Sharpsburg Pike\, Boonsboro\, MD\, United States
CATEGORIES:Off-Site Events
ATTACH;FMTTYPE=image/jpeg:https://www.tenthwarddistilling.com/wp-content/uploads/2022/10/fall-back.jpg
END:VEVENT
BEGIN:VEVENT
DTSTART;TZID=America/New_York:20251101T130000
DTEND;TZID=America/New_York:20251101T160000
DTSTAMP:20260423T043708
CREATED:20241030T145239Z
LAST-MODIFIED:20251027T194023Z
UID:7591-1762002000-1762012800@www.tenthwarddistilling.com
SUMMARY:Frederick Social - 4th Annual Locals Only Regional Distillers (L.O.R.D.s) Bazaar
DESCRIPTION:We are back at Frederick Social for the 4th Annual Locals Only Regional Distillers (L.O.R.D.s) Bazaar.  We are joining other distilleries for tastings\, holiday gift ideas\, and craft cocktails!
URL:https://www.facebook.com/share/14PPwpckkaT/#new_tab
LOCATION:Frederick Social\, 50 Citizens Way\, Frederick\, MD\, 21701
CATEGORIES:Off-Site Events
ATTACH;FMTTYPE=image/jpeg:https://www.tenthwarddistilling.com/wp-content/uploads/2024/10/LORDS.jpg
END:VEVENT
BEGIN:VEVENT
DTSTART;TZID=America/New_York:20251101T090000
DTEND;TZID=America/New_York:20251101T130000
DTSTAMP:20260423T043708
CREATED:20250929T150753Z
LAST-MODIFIED:20250929T150753Z
UID:8361-1761987600-1762002000@www.tenthwarddistilling.com
SUMMARY:Silver Spring Farmers Market
DESCRIPTION:Come support us at Silver Spring Farmers Market this Saturday! We’ll be selling bottles and canned cocktails to go.
URL:https://www.freshfarm.org/markets/downtown-silver-spring#new_tab
LOCATION:Silver Spring Farmers Market\, 890 Ellsworth Dr\, Silver Spring\, MD\, 20910\, United States
CATEGORIES:Farmers Markets
END:VEVENT
BEGIN:VEVENT
DTSTART;TZID=America/New_York:20251030T190000
DTEND;TZID=America/New_York:20251030T210000
DTSTAMP:20260423T043708
CREATED:20250924T225025Z
LAST-MODIFIED:20250925T155331Z
UID:8349-1761850800-1761858000@www.tenthwarddistilling.com
SUMMARY:Live Jazz at the Cocktail Bar with Robert Sykes and Anita Thomas
DESCRIPTION:Get swanky with us this Thursday night 7-9 PM for live jazz and your favorite craft cocktails.   FeaturingRobert Sykes and Anita Thomas
URL:http://www.robertsykesjazz.com#new_tab
LOCATION:Tenth Ward Distilling Company\, 55 E Patrick Street\, Frederick\, MD\, 21701\, United States
CATEGORIES:Live Music
ATTACH;FMTTYPE=image/jpeg:https://www.tenthwarddistilling.com/wp-content/uploads/2025/09/Robert-Sykes-and-Anita-Thomas.jpg
END:VEVENT
BEGIN:VEVENT
DTSTART;TZID=America/New_York:20251029T140000
DTEND;TZID=America/New_York:20251029T220000
DTSTAMP:20260423T043708
CREATED:20250924T221903Z
LAST-MODIFIED:20250924T221903Z
UID:8338-1761746400-1761775200@www.tenthwarddistilling.com
SUMMARY:Wednesdays = $8 Smoked Bourbon Old Fashioneds
DESCRIPTION:Wednesdays are the new Friday! $8 Smoked Bourbon Old Fashioneds available open – close.
URL:https://www.tenthwarddistilling.com/event/wednesdays-8-smoked-bourbon-old-fashioneds-27/
LOCATION:Tenth Ward Distilling Company\, 55 E Patrick Street\, Frederick\, MD\, 21701\, United States
CATEGORIES:On-Site Events
ATTACH;FMTTYPE=image/jpeg:https://www.tenthwarddistilling.com/wp-content/uploads/2025/04/Smoked-Bourbon-Old-Fashioned.jpg
END:VEVENT
BEGIN:VEVENT
DTSTART;TZID=America/New_York:20251025T090000
DTEND;TZID=America/New_York:20251025T160000
DTSTAMP:20260423T043708
CREATED:20220929T171401Z
LAST-MODIFIED:20250929T155021Z
UID:5079-1761382800-1761408000@www.tenthwarddistilling.com
SUMMARY:Frederick FiberFest
DESCRIPTION:Stop by and see us at the Frederick FiberFest at the Frederick Fairgrounds on October 25th from 9-4!  We will  be joining 60+ vendors\, local food trucks and more!
URL:https://www.frederickfiberfest.com/fall2025#new_tab
LOCATION:Frederick Fairgrounds – Home of The Great Frederick Fair\, 797 East Patrick Street\, Frederick\, MD\, 21701\, United States
CATEGORIES:Off-Site Events
END:VEVENT
BEGIN:VEVENT
DTSTART;TZID=America/New_York:20251025T090000
DTEND;TZID=America/New_York:20251025T130000
DTSTAMP:20260423T043708
CREATED:20250929T150649Z
LAST-MODIFIED:20250929T150649Z
UID:8360-1761382800-1761397200@www.tenthwarddistilling.com
SUMMARY:Silver Spring Farmers Market
DESCRIPTION:Come support us at Silver Spring Farmers Market this Saturday! We’ll be selling bottles and canned cocktails to go.
URL:https://www.freshfarm.org/markets/downtown-silver-spring#new_tab
LOCATION:Silver Spring Farmers Market\, 890 Ellsworth Dr\, Silver Spring\, MD\, 20910\, United States
CATEGORIES:Farmers Markets
END:VEVENT
BEGIN:VEVENT
DTSTART;TZID=America/New_York:20251024T200000
DTEND;TZID=America/New_York:20251024T220000
DTSTAMP:20260423T043708
CREATED:20250924T225714Z
LAST-MODIFIED:20250924T225714Z
UID:8353-1761336000-1761343200@www.tenthwarddistilling.com
SUMMARY:Live Music at the Cocktail Bar with Dominica Knapp
DESCRIPTION:Every Friday from 8:00-10:00 pm in the Cocktail Bar we’ll be servin’ up our deliciously wild concoctions and some sweet tunes to get your weekend started off right. Keep reading for our next melodious entertainer: Dominica Knapp
URL:https://www.dominicaknappmusic.com/#new_tab
LOCATION:Tenth Ward Distilling Company\, 55 E Patrick Street\, Frederick\, MD\, 21701\, United States
CATEGORIES:Live Music
END:VEVENT
BEGIN:VEVENT
DTSTART;TZID=America/New_York:20251024T160000
DTEND;TZID=America/New_York:20251024T190000
DTSTAMP:20260423T043708
CREATED:20250924T224259Z
LAST-MODIFIED:20250924T224259Z
UID:8346-1761321600-1761332400@www.tenthwarddistilling.com
SUMMARY:Liquor Store Tasting - Liquor Locker in Hagerstown\, MD
DESCRIPTION:Come hang out with us at Liquor Locker in Hagerstown\, MD and enjoy complimentary tastings of our spirits.
URL:https://www.tenthwarddistilling.com/event/liquor-store-tasting-liquor-locker-in-hagerstown-md-4/
LOCATION:Liquor Locker\, 1740 Dual Highway\, Hagerstown\, MD\, United States
CATEGORIES:Liquor Store Tastings
END:VEVENT
BEGIN:VEVENT
DTSTART;TZID=America/New_York:20251024T160000
DTEND;TZID=America/New_York:20251024T190000
DTSTAMP:20260423T043708
CREATED:20250924T224117Z
LAST-MODIFIED:20250924T224117Z
UID:8345-1761321600-1761332400@www.tenthwarddistilling.com
SUMMARY:Liquor Store Tasting - Cabin John Liquor & Wine in Potomac\, MD
DESCRIPTION:Come hang out with us at Cabin John Liquor & Wine in Potomac\, MD and enjoy complimentary tastings of our spirits.
URL:https://www.tenthwarddistilling.com/event/liquor-store-tasting-cabin-john-liquor-wine-in-potomac-md-5/
LOCATION:Cabin John Liquor Store\, 11301 Seven Locks Rd\, Potomac\, MD\, United States
CATEGORIES:Liquor Store Tastings
END:VEVENT
BEGIN:VEVENT
DTSTART;TZID=America/New_York:20251024T150000
DTEND;TZID=America/New_York:20251024T180000
DTSTAMP:20260423T043708
CREATED:20250924T223941Z
LAST-MODIFIED:20250924T224145Z
UID:8344-1761318000-1761328800@www.tenthwarddistilling.com
SUMMARY:Liquor Store Tasting - Mountaindale Convenience in Thurmont\, MD
DESCRIPTION:Come hang out with us at Mountaindale Convenience in Thurmont\, MD and enjoy complimentary tastings of our spirits.
URL:https://www.tenthwarddistilling.com/event/liquor-store-tasting-mountaindale-convenience-in-thurmont-md-2/
LOCATION:Mountaindale Convenience\, 6825 Putman Rd\, Thurmont\, MD\, 21788
CATEGORIES:Liquor Store Tastings
END:VEVENT
BEGIN:VEVENT
DTSTART;TZID=America/New_York:20251023T190000
DTEND;TZID=America/New_York:20251023T210000
DTSTAMP:20260423T043708
CREATED:20250924T224822Z
LAST-MODIFIED:20250924T224822Z
UID:8348-1761246000-1761253200@www.tenthwarddistilling.com
SUMMARY:Live Jazz at the Cocktail Bar with Monocacy Jazz
DESCRIPTION:Get swanky with us this Thursday night 7-9 PM for live jazz and your favorite craft cocktails.   Featuring Monocacy Jazz
URL:https://www.tenthwarddistilling.com/event/live-jazz-at-the-cocktail-bar-with-monocacy-jazz-2/
LOCATION:Tenth Ward Distilling Company\, 55 E Patrick Street\, Frederick\, MD\, 21701\, United States
CATEGORIES:Live Music
ATTACH;FMTTYPE=image/jpeg:https://www.tenthwarddistilling.com/wp-content/uploads/2020/09/jazz.jpg
END:VEVENT
BEGIN:VEVENT
DTSTART;TZID=America/New_York:20251022T140000
DTEND;TZID=America/New_York:20251022T220000
DTSTAMP:20260423T043708
CREATED:20250924T221746Z
LAST-MODIFIED:20250924T221746Z
UID:8337-1761141600-1761170400@www.tenthwarddistilling.com
SUMMARY:Wednesdays = $8 Smoked Bourbon Old Fashioneds
DESCRIPTION:Wednesdays are the new Friday! $8 Smoked Bourbon Old Fashioneds available open – close.
URL:https://www.tenthwarddistilling.com/event/wednesdays-8-smoked-bourbon-old-fashioneds-26/
LOCATION:Tenth Ward Distilling Company\, 55 E Patrick Street\, Frederick\, MD\, 21701\, United States
CATEGORIES:On-Site Events
ATTACH;FMTTYPE=image/jpeg:https://www.tenthwarddistilling.com/wp-content/uploads/2025/04/Smoked-Bourbon-Old-Fashioned.jpg
END:VEVENT
BEGIN:VEVENT
DTSTART;TZID=America/New_York:20251019T090000
DTEND;TZID=America/New_York:20251019T130000
DTSTAMP:20260423T043708
CREATED:20250929T151021Z
LAST-MODIFIED:20250929T151021Z
UID:8363-1760864400-1760878800@www.tenthwarddistilling.com
SUMMARY:Takoma Park Farmers Market
DESCRIPTION:Come support us at Takoma Park Farmers Market this Sunday! We’ll be selling bottles and canned cocktails to go.
URL:https://takomaparkmarket.com/#new_tab
LOCATION:Takoma Park Farmers Market\, Laurel Ave\, Takoma Park\, MD\, 20912\, United States
CATEGORIES:Farmers Markets
END:VEVENT
BEGIN:VEVENT
DTSTART;TZID=America/New_York:20251018T100000
DTEND;TZID=America/New_York:20251018T170000
DTSTAMP:20260423T043708
CREATED:20251014T184607Z
LAST-MODIFIED:20251014T184607Z
UID:8369-1760781600-1760806800@www.tenthwarddistilling.com
SUMMARY:The Maryland 5 Star at Fair Hill
DESCRIPTION:The Maryland 5 Star at Fair Hill is more than just a world-class equestrian event—it’s a celebration of elite sport\, community\, and Maryland pride. With Olympic-caliber athletes\, fan-friendly experiences\, and stunning fall foliage\, it’s the can’t-miss event of the season. \n  \n 
URL:https://www.maryland5star.us/#new_tab
LOCATION:310 Ranger Skinner Dr\, Elkton\, MD 21921\, 310 Ranger Skinner Dr\, Elkton\, MD\, 21921
CATEGORIES:Off-Site Events
END:VEVENT
BEGIN:VEVENT
DTSTART;TZID=America/New_York:20251018T090000
DTEND;TZID=America/New_York:20251018T130000
DTSTAMP:20260423T043708
CREATED:20250929T150541Z
LAST-MODIFIED:20250929T150541Z
UID:8359-1760778000-1760792400@www.tenthwarddistilling.com
SUMMARY:Silver Spring Farmers Market
DESCRIPTION:Come support us at Silver Spring Farmers Market this Saturday! We’ll be selling bottles and canned cocktails to go.
URL:https://www.freshfarm.org/markets/downtown-silver-spring#new_tab
LOCATION:Silver Spring Farmers Market\, 890 Ellsworth Dr\, Silver Spring\, MD\, 20910\, United States
CATEGORIES:Farmers Markets
END:VEVENT
BEGIN:VEVENT
DTSTART;TZID=America/New_York:20251018T090000
DTEND;TZID=America/New_York:20251018T130000
DTSTAMP:20260423T043708
CREATED:20250903T192350Z
LAST-MODIFIED:20250903T192350Z
UID:8300-1760778000-1760792400@www.tenthwarddistilling.com
SUMMARY:Gateway Farmers Market
DESCRIPTION:Come support us at the Gateway Farmers Market this Saturday! We’ll be selling bottles and canned cocktails to go.
URL:https://www.facebook.com/p/Gateway-Farmers-Market-61557208214714/#new_tab
LOCATION:Gateway Farmers Market\, 3716 Rhode Island Ave\, Brentwood\, MD\, 20722
CATEGORIES:Farmers Markets
END:VEVENT
BEGIN:VEVENT
DTSTART;TZID=America/New_York:20251017T200000
DTEND;TZID=America/New_York:20251017T220000
DTSTAMP:20260423T043708
CREATED:20250924T225556Z
LAST-MODIFIED:20250924T225556Z
UID:8352-1760731200-1760738400@www.tenthwarddistilling.com
SUMMARY:Live Music at the Cocktail Bar with Jacob Panic
DESCRIPTION:Every Friday from 8:00-10:00 pm in the Cocktail Bar we’ll be servin’ up our deliciously wild concoctions and some sweet tunes to get your weekend started off right. Keep reading for our next melodious entertainer: Jacob Panic
URL:https://www.tenthwarddistilling.com/event/live-music-at-the-cocktail-bar-with-jacob-panic-5/
LOCATION:Tenth Ward Distilling Company\, 55 E Patrick Street\, Frederick\, MD\, 21701\, United States
CATEGORIES:Live Music
END:VEVENT
BEGIN:VEVENT
DTSTART;TZID=America/New_York:20251017T160000
DTEND;TZID=America/New_York:20251017T190000
DTSTAMP:20260423T043708
CREATED:20250924T223718Z
LAST-MODIFIED:20250924T223718Z
UID:8342-1760716800-1760727600@www.tenthwarddistilling.com
SUMMARY:Liquor Store Tasting - Choice Wine & Beer in Wheaton\, MD
DESCRIPTION:Come hang out with us at Choice Wine & Beer in Wheaton\, MD and enjoy complimentary tastings of our spirits.
URL:https://www.tenthwarddistilling.com/event/liquor-store-tasting-choice-wine-beer-in-wheaton-md/
LOCATION:Choice Wine & Beer\, 11160 Veirs Mill Rd\, Wheaton\, MD\, 20902
CATEGORIES:Liquor Store Tastings
END:VEVENT
BEGIN:VEVENT
DTSTART;TZID=America/New_York:20251016T190000
DTEND;TZID=America/New_York:20251016T210000
DTSTAMP:20260423T043708
CREATED:20250924T225214Z
LAST-MODIFIED:20250924T225214Z
UID:8350-1760641200-1760648400@www.tenthwarddistilling.com
SUMMARY:Live Music at the Cocktail Bar with Tony Wilkins
DESCRIPTION:This Thursday from 7:00-9:00 pm in the Cocktail Bar we’ll be servin’ up our deliciously wild concoctions and some sweet tunes to get your weekend started off right. Keep reading for our next melodious entertainer: Tony Wilkins
URL:http://Www.undertoneartistry.com#new_tab
LOCATION:Tenth Ward Distilling Company\, 55 E Patrick Street\, Frederick\, MD\, 21701\, United States
CATEGORIES:Live Music
END:VEVENT
BEGIN:VEVENT
DTSTART;TZID=America/New_York:20251015T140000
DTEND;TZID=America/New_York:20251015T220000
DTSTAMP:20260423T043708
CREATED:20250924T221632Z
LAST-MODIFIED:20250924T221632Z
UID:8336-1760536800-1760565600@www.tenthwarddistilling.com
SUMMARY:Wednesdays = $8 Smoked Bourbon Old Fashioneds
DESCRIPTION:Wednesdays are the new Friday! $8 Smoked Bourbon Old Fashioneds available open – close.
URL:https://www.tenthwarddistilling.com/event/wednesdays-8-smoked-bourbon-old-fashioneds-25/
LOCATION:Tenth Ward Distilling Company\, 55 E Patrick Street\, Frederick\, MD\, 21701\, United States
CATEGORIES:On-Site Events
ATTACH;FMTTYPE=image/jpeg:https://www.tenthwarddistilling.com/wp-content/uploads/2025/04/Smoked-Bourbon-Old-Fashioned.jpg
END:VEVENT
BEGIN:VEVENT
DTSTART;TZID=America/New_York:20251012T120000
DTEND;TZID=America/New_York:20251012T160000
DTSTAMP:20260423T043708
CREATED:20250929T151151Z
LAST-MODIFIED:20250929T151151Z
UID:8364-1760270400-1760284800@www.tenthwarddistilling.com
SUMMARY:Queeraoke Brunch in the Whiskey Hall
DESCRIPTION:Queeraoke Brunch is BACK in the Whiskey Hall on October 12th\, 12–4 PM. Come sing your heart out (or just cheer on the stars)!
URL:https://www.tenthwarddistilling.com/event/queeraoke-brunch-in-the-whiskey-hall-4/
LOCATION:Tenth Ward Distilling Company\, 55 E Patrick Street\, Frederick\, MD\, 21701\, United States
CATEGORIES:On-Site Events
END:VEVENT
END:VCALENDAR